{"text_format":"1","workbook":"xlsx","n_sheets":6,"sheets":["入力","参照","仙台青陵記入例","行事","在籍","年間"],"not_rendered":{"charts":0,"images":0,"macros":1,"external_links":1,"defined_names":10,"comments":2,"pivot_tables":0},"unopened":[],"bounds":{"document_bytes":16777216,"sheet_cells":100000,"rows_first":2000,"rows_last":500,"rows_between":2000,"halvings":0,"cell_chars":16384,"cell_head_chars":4096},"cells_cut":0,"cells_raw":0,"read":"whole","date_system":"1900"}

{"sheet":"入力","index":0,"n_rows":101,"n_cols":26,"rows_kept":101,"cut":false,"hidden":false,"merged":[[59,13,60,13],[59,14,60,14],[59,15,60,15],[61,11,62,11],[61,12,62,12],[61,13,62,13],[63,16,64,16],[63,17,64,17],[70,2,72,8],[65,12,66,12],[65,13,66,13],[59,16,60,16],[59,17,60,17],[61,10,62,10],[59,1,63,8],[59,10,60,10],[59,11,60,11],[59,0,63,0],[65,15,66,15],[65,16,66,16],[65,17,66,17],[67,0,69,1],[65,14,66,14],[64,0,66,2],[65,3,66,3],[65,4,66,4],[65,5,66,5],[65,6,66,6],[65,7,66,7],[63,14,64,14],[63,15,64,15],[67,2,69,2],[67,3,69,6],[67,7,69,8],[59,12,60,12],[67,9,72,9],[67,10,72,20],[70,0,72,1],[65,8,66,8],[65,9,66,10],[65,11,66,11],[55,17,56,17],[57,0,58,8],[57,10,58,10],[57,11,58,11],[57,12,58,12],[57,13,58,13],[57,14,58,14],[57,15,58,15],[57,16,58,16],[57,17,58,17],[53,16,54,16],[53,17,54,17],[55,9,64,9],[55,10,56,10],[55,11,56,11],[55,12,56,12],[55,13,56,13],[55,14,56,14],[55,15,56,15],[55,16,56,16],[53,10,54,10],[53,11,54,11],[53,12,54,12],[53,13,54,13],[53,14,54,14],[53,15,54,15],[61,14,62,14],[61,15,62,15],[61,16,62,16],[61,17,62,17],[63,10,64,10],[63,11,64,11],[63,12,64,12],[63,13,64,13],[49,16,50,16],[49,17,50,17],[51,10,52,10],[51,11,52,11],[51,12,52,12],[51,13,52,13],[51,14,52,14],[51,15,52,15],[51,16,52,16],[51,17,52,17],[49,10,50,10],[49,11,50,11],[49,12,50,12],[49,13,50,13],[49,14,50,14],[49,15,50,15],[43,17,44,17],[45,9,54,9],[45,10,46,10],[45,11,46,11],[45,12,46,12],[45,13,46,13],[45,14,46,14],[45,15,46,15],[45,16,46,16],[43,10,44,10],[43,11,44,11],[43,12,44,12],[43,13,44,13],[43,14,44,14],[43,15,44,15],[45,17,46,17],[47,10,48,10],[47,11,48,11],[47,12,48,12],[47,13,48,13],[47,14,48,14],[47,15,48,15],[47,16,48,16],[47,17,48,17],[39,17,40,17],[41,10,42,10],[41,11,42,11],[41,12,42,12],[41,13,42,13],[41,14,42,14],[41,15,42,15],[41,16,42,16],[41,17,42,17],[39,10,40,10],[39,11,40,11],[39,12,40,12],[39,13,40,13],[39,14,40,14],[39,15,40,15],[35,17,36,17],[37,10,38,10],[37,11,38,11],[37,12,38,12],[37,13,38,13],[37,14,38,14],[37,15,38,15],[37,16,38,16],[37,17,38,17],[35,9,44,9],[35,10,36,10],[35,11,36,11],[35,12,36,12],[35,13,36,13],[35,14,36,14],[35,15,36,15],[35,16,36,16],[33,10,34,10],[33,11,34,11],[33,12,34,12],[33,13,34,13],[33,14,34,14],[33,15,34,15],[39,16,40,16],[43,16,44,16],[31,10,32,10],[31,11,32,11],[31,12,32,12],[31,13,32,13],[31,14,32,14],[31,15,32,15],[31,16,32,16],[31,17,32,17],[33,16,34,16],[33,17,34,17],[27,14,28,14],[27,15,28,15],[27,16,28,16],[27,17,28,17],[29,10,30,10],[29,11,30,11],[29,12,30,12],[29,13,30,13],[29,14,30,14],[29,15,30,15],[29,16,30,16],[29,17,30,17],[21,14,22,14],[21,15,22,15],[21,16,22,16],[21,17,22,17],[23,14,24,14],[23,15,24,15],[23,16,24,16],[23,17,24,17],[25,0,26,8],[25,9,34,9],[25,10,26,10],[25,11,26,11],[25,12,26,12],[25,13,26,13],[25,14,26,14],[25,15,26,15],[25,16,26,16],[25,17,26,17],[27,0,56,0],[27,1,56,8],[27,10,28,10],[27,11,28,11],[27,12,28,12],[27,13,28,13],[17,14,18,14],[17,15,18,15],[17,16,18,16],[17,17,18,17],[19,10,20,10],[19,11,20,11],[19,12,20,12],[19,13,20,13],[19,14,20,14],[19,15,20,15],[19,16,20,16],[19,17,20,17],[16,0,24,0],[16,1,24,8],[17,10,18,10],[17,11,18,11],[17,12,18,12],[17,13,18,13],[14,0,15,8],[15,9,24,9],[15,10,16,10],[15,11,16,11],[15,12,16,12],[15,13,16,13],[23,10,24,10],[23,11,24,11],[23,12,24,12],[23,13,24,13],[21,10,22,10],[21,11,22,11],[21,12,22,12],[21,13,22,13],[15,14,16,14],[15,15,16,15],[15,16,16,16],[15,17,16,17],[11,10,12,10],[11,11,12,11],[11,12,12,12],[11,13,12,13],[11,14,12,14],[11,15,12,15],[5,17,6,17],[7,0,13,0],[7,1,13,8],[7,10,8,10],[7,11,8,11],[7,12,8,12],[7,13,8,13],[7,14,8,14],[7,15,8,15],[7,16,8,16],[7,17,8,17],[9,10,10,10],[9,11,10,11],[9,12,10,12],[9,13,10,13],[9,14,10,14],[9,15,10,15],[9,16,10,16],[9,17,10,17],[11,16,12,16],[11,17,12,17],[13,10,14,10],[13,11,14,11],[13,17,14,17],[0,0,0,1],[2,18,2,20],[1,10,4,10],[1,11,1,13],[1,14,4,14],[1,15,1,20],[2,11,4,11],[2,12,4,12],[2,13,4,13],[2,15,4,15],[2,16,4,16],[2,17,4,17],[1,0,4,1],[1,2,4,3],[1,4,4,4],[1,5,4,6],[7,25,7,28],[10,25,10,28],[0,7,0,8],[0,22,0,30],[1,7,4,8],[1,9,4,9],[0,2,0,5],[0,13,0,14],[0,15,0,16],[0,17,0,18],[5,0,6,8],[5,9,14,9],[5,10,6,10],[5,11,6,11],[5,12,6,12],[5,13,6,13],[5,14,6,14],[5,15,6,15],[5,16,6,16],[13,12,14,12],[13,13,14,13],[13,14,14,14],[13,15,14,15],[13,16,14,16]]}
[null,null,{"$f":"IF(Z8=\"\",\"\",Z8)","v":"2014-04-01"},null,null,null,"天候",{"$f":"IF(Z11=\"\",\"\",Z11)","v":"晴れ"},null,null,null,null,null,null,null,null,null,null,null,null,null,null,"作成メニュー"]
["校長",null,null,null,"教頭",null,null,null,null,"学年","学級","在籍者数",null,null,"休学","欠席者等の数"]
[null,null,null,null,null,null,null,null,null,null,null,"男","女","計",null,"遅刻","早退","欠席","その他"]
[null,null,null,null,null,null,null,null,null,null,null,null,null,null,null,null,null,null,"公欠","忌引","出停"]
[null,null,null,null,null,null,null,null,null,null,null,null,null,null,null,null,null,null,"受験","その他","停学"]
["１．行事等",null,null,null,null,null,null,null,null,"一年",1,16,19,{"$f":"SUM(L6:M7)","v":35}]
[]
[null,"学年始休業，一斉赴任日，運営委員会",null,null,null,null,null,null,null,null,2,15,20,{"$f":"SUM(L8:M9)","v":35},null,null,null,null,null,null,null,null,"日付の入力",null,null,"2014-04-01"]
[null,null,null,null,null,null,null,null,null,null,null,null,null,null,null,null,null,null,null,null,null,null,"例：14/4/1"]
[null,null,null,null,null,null,null,null,null,null,3,15,20,{"$f":"SUM(L10:M11)","v":35}]
[null,null,null,null,null,null,null,null,null,null,null,null,null,null,null,null,null,null,null,null,null,null,"天候の入力",null,null,"晴れ"]
[null,null,null,null,null,null,null,null,null,null,4,15,19,{"$f":"SUM(L12:M13)","v":34},null,null,null,null,null,null,null,null,"ドロップダウンメニューで選択"]
[]
[null,null,null,null,null,null,null,null,null,null,"小計",{"$f":"SUM(L6:L13)","v":61},{"$f":"SUM(M6:M13)","v":78},139,{"$f":"IF(SUM(O6:O13)=0,\"\",SUM(O6:O13))","v":""},{"$f":"IF(COUNT(P6:P13)=4,SUM(P6:P13),\"\")","v":""},{"$f":"IF(COUNT(Q6:Q13)=4,SUM(Q6:Q13),\"\")","v":""},"",{"$f":"IF(SUM(S6,S8,S10,S12)=0,\"\",SUM(S6,S8,S10,S12))","v":""},{"$f":"IF(SUM(T6,T8,T10,T12)=0,\"\",SUM(T6,T8,T10,T12))","v":""},{"$f":"IF(SUM(U6,U8,U10,U12)=0,\"\",SUM(U6,U8,U10,U12))","v":""}]
["２．打合せ事項",null,null,null,null,null,null,null,null,null,null,null,null,null,null,null,null,null,{"$f":"IF(SUM(S7,S9,S11,S13)=0,\"\",SUM(S7,S9,S11,S13))","v":""},"",""]
[null,null,null,null,null,null,null,null,null,"二年",1,16,19,{"$f":"SUM(L16:M17)","v":35}]
[]
[null,null,null,null,null,null,null,null,null,null,2,16,18,{"$f":"SUM(L18:M19)","v":34}]
[]
[null,null,null,null,null,null,null,null,null,null,3,16,18,{"$f":"SUM(L20:M21)","v":34}]
[]
[null,null,null,null,null,null,null,null,null,null,4,17,18,{"$f":"SUM(L22:M23)","v":35}]
[]
[null,null,null,null,null,null,null,null,null,null,"小計",{"$f":"SUM(L16:L23)","v":65},{"$f":"SUM(M16:M23)","v":73},138,{"$f":"IF(SUM(O16:O23)=0,\"\",SUM(O16:O23))","v":""},{"$f":"IF(COUNT(P16:P23)=4,SUM(P16:P23),\"\")","v":""},{"$f":"IF(COUNT(Q16:Q23)=4,SUM(Q16:Q23),\"\")","v":""},{"$f":"IF(COUNT(R16:R23)=4,SUM(R16:R23),\"\")","v":""},{"$f":"IF(SUM(S16,S18,S20,S22)=0,\"\",SUM(S16,S18,S20,S22))","v":""},{"$f":"IF(SUM(T16,T18,T20,T22)=0,\"\",SUM(T16,T18,T20,T22))","v":""},{"$f":"IF(SUM(U16,U18,U20,U22)=0,\"\",SUM(U16,U18,U20,U22))","v":""}]
[null,null,null,null,null,null,null,null,null,null,null,null,null,null,null,null,null,null,{"$f":"IF(SUM(S17,S19,S21,S23)=0,\"\",SUM(S17,S19,S21,S23))","v":""},"",""]
["３．職員状況",null,null,null,null,null,null,null,null,"三年",1,9,25,{"$f":"SUM(L26:M27)","v":34}]
[]
[null,"《出張》\n鈴木和　　　9:30　　東二番小\n高山・種井　8:00　　蔵王\n\n《年休》\n齋藤美（前4）\n山本　 (前2）",null,null,null,null,null,null,null,null,2,10,25,{"$f":"SUM(L28:M29)","v":35}]
[]
[null,null,null,null,null,null,null,null,null,null,3,10,25,{"$f":"SUM(L30:M31)","v":35}]
[]
[null,null,null,null,null,null,null,null,null,null,4,10,24,{"$f":"SUM(L32:M33)","v":34}]
[]
[null,null,null,null,null,null,null,null,null,null,"小計",{"$f":"SUM(L26:L33)","v":39},{"$f":"SUM(M26:M33)","v":99},138,{"$f":"IF(SUM(O26:O33)=0,\"\",SUM(O26:O33))","v":""},{"$f":"IF(COUNT(P26:P33)=4,SUM(P26:P33),\"\")","v":""},{"$f":"IF(COUNT(Q26:Q33)=4,SUM(Q26:Q33),\"\")","v":""},{"$f":"IF(COUNT(R26:R33)=4,SUM(R26:R33),\"\")","v":""},{"$f":"IF(SUM(S26,S28,S30,S32)=0,\"\",SUM(S26,S28,S30,S32))","v":""},{"$f":"IF(SUM(T26,T28,T30,T32)=0,\"\",SUM(T26,T28,T30,T32))","v":""},{"$f":"IF(SUM(U26,U28,U30,U32)=0,\"\",SUM(U26,U28,U30,U32))","v":""}]
[null,null,null,null,null,null,null,null,null,null,null,null,null,null,null,null,null,null,{"$f":"IF(SUM(S27,S29,S31,S33)=0,\"\",SUM(S27,S29,S31,S33))","v":""},"",""]
[null,null,null,null,null,null,null,null,null,"四年",1,14,20,{"$f":"SUM(L36:M37)","v":34}]
[]
[null,null,null,null,null,null,null,null,null,null,2,14,19,{"$f":"SUM(L38:M39)","v":33}]
[]
[null,null,null,null,null,null,null,null,null,null,3,14,19,{"$f":"SUM(L40:M41)","v":33},1]
[]
[null,null,null,null,null,null,null,null,null,null,4,13,20,{"$f":"SUM(L42:M43)","v":33}]
[]
[null,null,null,null,null,null,null,null,null,null,"小計",{"$f":"SUM(L36:L43)","v":55},{"$f":"SUM(M36:M43)","v":78},133,{"$f":"IF(SUM(O36:O43)=0,\"\",SUM(O36:O43))","v":1},{"$f":"IF(COUNT(P36:P43)=4,SUM(P36:P43),\"\")","v":""},{"$f":"IF(COUNT(Q36:Q43)=4,SUM(Q36:Q43),\"\")","v":""},{"$f":"IF(COUNT(R36:R43)=4,SUM(R36:R43),\"\")","v":""},{"$f":"IF(SUM(S36,S38,S40,S42)=0,\"\",SUM(S36,S38,S40,S42))","v":""},{"$f":"IF(SUM(T36,T38,T40,T42)=0,\"\",SUM(T36,T38,T40,T42))","v":""},{"$f":"IF(SUM(U36,U38,U40,U42)=0,\"\",SUM(U36,U38,U40,U42))","v":""}]
[null,null,null,null,null,null,null,null,null,null,null,null,null,null,null,null,null,null,{"$f":"IF(SUM(S37,S39,S41,S43)=0,\"\",SUM(S37,S39,S41,S43))","v":""},"",""]
[null,null,null,null,null,null,null,null,null,"五年",1,16,19,{"$f":"SUM(L46:M47)","v":35}]
[]
[null,null,null,null,null,null,null,null,null,null,2,18,17,{"$f":"SUM(L48:M49)","v":35}]
[]
[null,null,null,null,null,null,null,null,null,null,3,8,26,{"$f":"SUM(L50:M51)","v":34}]
[]
[null,null,null,null,null,null,null,null,null,null,4,14,20,{"$f":"SUM(L52:M53)","v":34},1]
[]
[null,null,null,null,null,null,null,null,null,null,"小計",{"$f":"SUM(L46:L53)","v":56},{"$f":"SUM(M46:M53)","v":82},138,{"$f":"IF(SUM(O46:O53)=0,\"\",SUM(O46:O53))","v":1},{"$f":"IF(COUNT(P46:P53)=4,SUM(P46:P53),\"\")","v":""},{"$f":"IF(COUNT(Q46:Q53)=4,SUM(Q46:Q53),\"\")","v":""},{"$f":"IF(COUNT(R46:R53)=4,SUM(R46:R53),\"\")","v":""},{"$f":"IF(SUM(S46,S48,S50,S52)=0,\"\",SUM(S46,S48,S50,S52))","v":""},{"$f":"IF(SUM(T46,T48,T50,T52)=0,\"\",SUM(T46,T48,T50,T52))","v":""},{"$f":"IF(SUM(U46,U48,U50,U52)=0,\"\",SUM(U46,U48,U50,U52))","v":""}]
[null,null,null,null,null,null,null,null,null,null,null,null,null,null,null,null,null,null,{"$f":"IF(SUM(S47,S49,S51,S53)=0,\"\",SUM(S47,S49,S51,S53))","v":""},"",""]
[null,null,null,null,null,null,null,null,null,"六年",1,19,11,{"$f":"SUM(L56:M57)","v":30}]
[]
[null,null,null,null,null,null,null,null,null,null,2,23,7,{"$f":"SUM(L58:M59)","v":30}]
[]
[null,null,null,null,null,null,null,null,null,null,3,12,23,{"$f":"SUM(L60:M61)","v":35},1]
[]
[null,null,null,null,null,null,null,null,null,null,4,12,23,{"$f":"SUM(L62:M63)","v":35}]
[]
[null,null,null,null,null,null,null,null,null,null,"小計",{"$f":"SUM(L56:L63)","v":66},{"$f":"SUM(M56:M63)","v":64},130,{"$f":"IF(SUM(O56:O63)=0,\"\",SUM(O56:O63))","v":1},{"$f":"IF(COUNT(P56:P63)=4,SUM(P56:P63),\"\")","v":""},{"$f":"IF(COUNT(Q56:Q63)=4,SUM(Q56:Q63),\"\")","v":""},{"$f":"IF(COUNT(R56:R63)=4,SUM(R56:R63),\"\")","v":""},{"$f":"IF(SUM(S56,S58,S60,S62)=0,\"\",SUM(S56,S58,S60,S62))","v":""},{"$f":"IF(SUM(T56,T58,T60,T62)=0,\"\",SUM(T56,T58,T60,T62))","v":""},{"$f":"IF(SUM(U56,U58,U60,U62)=0,\"\",SUM(U56,U58,U60,U62))","v":""}]
["授業日数",null,null,"1年","2年","3年","4年","5年","6年",null,null,null,null,null,null,null,null,null,{"$f":"IF(SUM(S57,S59,S61,S63)=0,\"\",SUM(S57,S59,S61,S63))","v":""},"",""]
[null,null,null,0,0,0,0,0,0,"合計",null,{"$f":"SUM(L14,L24,L34,L44,L54,L64)","v":342},{"$f":"SUM(M14,M24,M34,M44,M54,M64)","v":474},816,{"$f":"IF(SUM(O14,O24,O34,O44,O54,O64)=0,\"\",SUM(O14,O24,O34,O44,O54,O64))","v":3},{"$f":"IF(COUNT(P14,P24,P34,P44,P54,P64)=6,SUM(P14,P24,P34,P44,P54,P64),\"\")","v":""},{"$f":"IF(COUNT(Q14,Q24,Q34,Q44,Q54,Q64)=6,SUM(Q14,Q24,Q34,Q44,Q54,Q64),\"\")","v":""},"",{"$f":"IF(SUM(S14,S24,S34,S44,S54,S64)=0,\"\",SUM(S14,S24,S34,S44,S54,S64))","v":""},{"$f":"IF(SUM(T14,T24,T34,T44,T54,T64)=0,\"\",SUM(T14,T24,T34,T44,T54,T64))","v":""},""]
[null,null,null,null,null,null,null,null,null,null,null,null,null,null,null,null,null,null,{"$f":"IF(SUM(S15,S25,S35,S45,S55,S65)=0,\"\",SUM(S15,S25,S35,S45,S55,S65))","v":""},"",""]
["当番",null,"氏名",null,null,null,null,"印",null,"在籍移動","4309　苅谷　拓海（休学）\n5432  米山　英夫（休学）\n6313  菅野　綾人（休学）"]
[]
[]
["施設\n状況"]
[]
[]
[]
[]
[]
[]
[]
[]
[]
[]
[]
[]
[]
[]
["晴れ"]
["曇り"]
["雨"]
["雪"]
["晴れのち曇り"]
["晴れのち雨"]
["晴れのち雪"]
["曇りのち晴れ"]
["曇りのち雨"]
["曇りのち雪"]
["雨のち晴れ"]
["雨のち曇り"]
["雨のち雪"]
["雪のち晴れ"]
["雪のち曇り"]
["雪のち雨"]

{"sheet":"参照","index":1,"n_rows":101,"n_cols":21,"rows_kept":101,"cut":false,"hidden":false,"merged":[[0,15,0,16],[0,17,0,18],[1,0,4,1],[1,2,4,3],[1,4,4,4],[1,5,4,6],[1,7,4,8],[1,9,4,9],[1,10,4,10],[1,11,1,13],[0,0,0,1],[0,2,0,5],[0,7,0,8],[0,9,0,10],[0,11,0,12],[0,13,0,14],[1,14,4,14],[1,15,1,20],[2,11,4,11],[2,12,4,12],[2,13,4,13],[2,15,4,15],[2,16,4,16],[2,17,4,17],[2,18,2,20],[5,14,6,14],[5,15,6,15],[5,16,6,16],[5,17,6,17],[7,0,13,0],[7,1,13,8],[7,10,8,10],[7,11,8,11],[7,12,8,12],[7,13,8,13],[5,0,6,8],[5,9,14,9],[5,10,6,10],[5,11,6,11],[5,12,6,12],[5,13,6,13],[13,10,14,10],[13,11,14,11],[13,12,14,12],[13,13,14,13],[7,14,8,14],[7,15,8,15],[7,16,8,16],[7,17,8,17],[9,10,10,10],[9,11,10,11],[9,12,10,12],[9,13,10,13],[9,14,10,14],[9,15,10,15],[9,16,10,16],[9,17,10,17],[11,10,12,10],[11,11,12,11],[11,12,12,12],[11,13,12,13],[11,14,12,14],[11,15,12,15],[11,16,12,16],[11,17,12,17],[13,14,14,14],[13,15,14,15],[13,16,14,16],[13,17,14,17],[14,0,15,8],[15,9,24,9],[15,10,16,10],[15,11,16,11],[15,12,16,12],[15,13,16,13],[15,14,16,14],[15,15,16,15],[15,16,16,16],[21,15,22,15],[21,16,22,16],[15,17,16,17],[16,0,24,0],[16,1,24,8],[17,10,18,10],[17,11,18,11],[17,12,18,12],[17,13,18,13],[17,14,18,14],[17,15,18,15],[17,16,18,16],[17,17,18,17],[19,10,20,10],[19,11,20,11],[19,12,20,12],[19,13,20,13],[19,14,20,14],[19,15,20,15],[19,16,20,16],[19,17,20,17],[21,10,22,10],[21,11,22,11],[21,12,22,12],[21,13,22,13],[21,14,22,14],[21,17,22,17],[23,16,24,16],[23,17,24,17],[25,0,26,8],[25,9,34,9],[25,10,26,10],[25,11,26,11],[25,12,26,12],[25,13,26,13],[25,14,26,14],[25,15,26,15],[23,10,24,10],[23,11,24,11],[23,12,24,12],[23,13,24,13],[23,14,24,14],[23,15,24,15],[25,16,26,16],[25,17,26,17],[27,0,56,0],[27,1,56,8],[27,10,28,10],[27,11,28,11],[27,12,28,12],[27,13,28,13],[27,14,28,14],[27,15,28,15],[27,16,28,16],[27,17,28,17],[29,10,30,10],[29,11,30,11],[29,12,30,12],[29,13,30,13],[29,14,30,14],[29,15,30,15],[29,16,30,16],[29,17,30,17],[31,16,32,16],[31,17,32,17],[33,10,34,10],[33,11,34,11],[33,12,34,12],[33,13,34,13],[33,14,34,14],[33,15,34,15],[33,16,34,16],[33,17,34,17],[31,10,32,10],[31,11,32,11],[31,12,32,12],[31,13,32,13],[31,14,32,14],[31,15,32,15],[35,15,36,15],[35,16,36,16],[35,17,36,17],[37,10,38,10],[37,11,38,11],[37,12,38,12],[37,13,38,13],[37,14,38,14],[37,15,38,15],[37,16,38,16],[35,10,36,10],[35,11,36,11],[35,12,36,12],[35,13,36,13],[35,14,36,14],[37,17,38,17],[39,10,40,10],[39,11,40,11],[39,12,40,12],[39,13,40,13],[39,14,40,14],[39,15,40,15],[39,16,40,16],[39,17,40,17],[41,14,42,14],[41,15,42,15],[41,16,42,16],[41,17,42,17],[43,10,44,10],[43,11,44,11],[43,12,44,12],[43,13,44,13],[43,14,44,14],[43,15,44,15],[41,10,42,10],[41,11,42,11],[41,12,42,12],[41,13,42,13],[43,16,44,16],[43,17,44,17],[45,9,54,9],[45,10,46,10],[45,11,46,11],[45,12,46,12],[45,13,46,13],[45,14,46,14],[45,15,46,15],[45,16,46,16],[35,9,44,9],[45,17,46,17],[47,10,48,10],[47,11,48,11],[47,12,48,12],[47,13,48,13],[47,14,48,14],[47,15,48,15],[47,16,48,16],[47,17,48,17],[49,16,50,16],[49,17,50,17],[51,10,52,10],[51,11,52,11],[51,12,52,12],[51,13,52,13],[51,14,52,14],[51,15,52,15],[51,16,52,16],[51,17,52,17],[49,10,50,10],[49,11,50,11],[49,12,50,12],[49,13,50,13],[49,14,50,14],[49,15,50,15],[53,16,54,16],[53,17,54,17],[55,9,64,9],[55,10,56,10],[55,11,56,11],[55,12,56,12],[55,13,56,13],[55,14,56,14],[55,15,56,15],[55,16,56,16],[53,10,54,10],[53,11,54,11],[53,12,54,12],[53,13,54,13],[53,14,54,14],[53,15,54,15],[61,14,62,14],[61,15,62,15],[61,16,62,16],[61,17,62,17],[63,10,64,10],[63,11,64,11],[63,12,64,12],[63,13,64,13],[55,17,56,17],[57,0,58,8],[57,10,58,10],[57,11,58,11],[57,12,58,12],[57,13,58,13],[57,14,58,14],[57,15,58,15],[57,16,58,16],[57,17,58,17],[59,0,63,0],[65,15,66,15],[65,16,66,16],[65,17,66,17],[67,0,69,1],[65,14,66,14],[64,0,66,2],[65,3,66,3],[65,4,66,4],[65,5,66,5],[65,6,66,6],[65,7,66,7],[63,14,64,14],[63,15,64,15],[67,2,69,2],[67,3,69,6],[67,7,69,8],[59,12,60,12],[67,9,72,9],[67,10,72,20],[70,0,72,1],[65,8,66,8],[65,9,66,10],[65,11,66,11],[59,13,60,13],[59,14,60,14],[59,15,60,15],[61,11,62,11],[61,12,62,12],[61,13,62,13],[63,16,64,16],[63,17,64,17],[70,2,72,8],[65,12,66,12],[65,13,66,13],[59,16,60,16],[59,17,60,17],[61,10,62,10],[59,1,63,8],[59,10,60,10],[59,11,60,11]]}
[null,null,{"$f":"入力!Z8","v":"2014-04-01"},null,null,null,"天候",{"$f":"IF(VLOOKUP($C$1,日誌ﾃﾞｰﾀ,4)=\"\",\"\",VLOOKUP($C$1,日誌ﾃﾞｰﾀ,4))","v":"雨"}]
["校長",null,null,null,"教頭",null,null,null,null,"学年","学級","在籍者数",null,null,"休学","欠席者等の数"]
[null,null,null,null,null,null,null,null,null,null,null,"男","女","計",null,"遅刻","早退","欠席","その他"]
[null,null,null,null,null,null,null,null,null,null,null,null,null,null,null,null,null,null,"公欠","忌引","出停"]
[null,null,null,null,null,null,null,null,null,null,null,null,null,null,null,null,null,null,"受験","その他","停学"]
["１．行事等",null,null,null,null,null,null,null,null,"一年",1,{"$f":"VLOOKUP($C$1,日誌ﾃﾞｰﾀ,16)","v":17},{"$f":"VLOOKUP($C$1,日誌ﾃﾞｰﾀ,40)","v":18},{"$f":"SUM(L6:M7)","v":35},{"$f":"IF(VLOOKUP($C$1,日誌ﾃﾞｰﾀ,88)=\"\",\"\",VLOOKUP($C$1,日誌ﾃﾞｰﾀ,88))","v":""},{"$f":"VLOOKUP($C$1,日誌ﾃﾞｰﾀ,112)","v":0},{"$f":"VLOOKUP($C$1,日誌ﾃﾞｰﾀ,136)","v":0},{"$f":"VLOOKUP($C$1,日誌ﾃﾞｰﾀ,160)","v":0},{"$f":"IF(VLOOKUP($C$1,日誌ﾃﾞｰﾀ,184)=\"\",\"\",VLOOKUP($C$1,日誌ﾃﾞｰﾀ,184))","v":""},{"$f":"IF(VLOOKUP($C$1,日誌ﾃﾞｰﾀ,208)=\"\",\"\",VLOOKUP($C$1,日誌ﾃﾞｰﾀ,208))","v":""},{"$f":"IF(VLOOKUP($C$1,日誌ﾃﾞｰﾀ,232)=\"\",\"\",VLOOKUP($C$1,日誌ﾃﾞｰﾀ,232))","v":""}]
[null,null,null,null,null,null,null,null,null,null,null,null,null,null,null,null,null,null,{"$f":"IF(VLOOKUP($C$1,日誌ﾃﾞｰﾀ,256)=\"\",\"\",VLOOKUP($C$1,日誌ﾃﾞｰﾀ,256))","v":""},{"$f":"IF(VLOOKUP($C$1,日誌ﾃﾞｰﾀ,280)=\"\",\"\",VLOOKUP($C$1,日誌ﾃﾞｰﾀ,280))","v":""},{"$f":"IF(VLOOKUP($C$1,日誌ﾃﾞｰﾀ,304)=\"\",\"\",VLOOKUP($C$1,日誌ﾃﾞｰﾀ,304))","v":""}]
[null,{"$f":"IF(VLOOKUP($C$1,日誌ﾃﾞｰﾀ,5)=\"\",\"\",VLOOKUP($C$1,日誌ﾃﾞｰﾀ,5))","v":"学年始休業，一斉赴任日，運営委員会"},{"$f":"VLOOKUP($C$1,日誌ﾃﾞｰﾀ,183)","v":0},0,0,0,0,0,0,null,2,{"$f":"VLOOKUP($C$1,日誌ﾃﾞｰﾀ,17)","v":17},{"$f":"VLOOKUP($C$1,日誌ﾃﾞｰﾀ,41)","v":18},{"$f":"SUM(L8:M9)","v":35},{"$f":"IF(VLOOKUP($C$1,日誌ﾃﾞｰﾀ,89)=\"\",\"\",VLOOKUP($C$1,日誌ﾃﾞｰﾀ,89))","v":""},{"$f":"VLOOKUP($C$1,日誌ﾃﾞｰﾀ,113)","v":0},{"$f":"VLOOKUP($C$1,日誌ﾃﾞｰﾀ,137)","v":0},{"$f":"VLOOKUP($C$1,日誌ﾃﾞｰﾀ,161)","v":0},{"$f":"IF(VLOOKUP($C$1,日誌ﾃﾞｰﾀ,185)=\"\",\"\",VLOOKUP($C$1,日誌ﾃﾞｰﾀ,185))","v":""},{"$f":"IF(VLOOKUP($C$1,日誌ﾃﾞｰﾀ,209)=\"\",\"\",VLOOKUP($C$1,日誌ﾃﾞｰﾀ,209))","v":""},{"$f":"IF(VLOOKUP($C$1,日誌ﾃﾞｰﾀ,233)=\"\",\"\",VLOOKUP($C$1,日誌ﾃﾞｰﾀ,233))","v":""}]
[null,{"$f":"VLOOKUP($C$1,日誌ﾃﾞｰﾀ,183)","v":0},0,0,0,0,0,0,0,null,null,null,null,null,null,null,null,null,{"$f":"IF(VLOOKUP($C$1,日誌ﾃﾞｰﾀ,257)=\"\",\"\",VLOOKUP($C$1,日誌ﾃﾞｰﾀ,257))","v":""},{"$f":"IF(VLOOKUP($C$1,日誌ﾃﾞｰﾀ,281)=\"\",\"\",VLOOKUP($C$1,日誌ﾃﾞｰﾀ,281))","v":""},{"$f":"IF(VLOOKUP($C$1,日誌ﾃﾞｰﾀ,305)=\"\",\"\",VLOOKUP($C$1,日誌ﾃﾞｰﾀ,305))","v":""}]
[null,0,0,0,0,0,0,0,0,null,3,{"$f":"VLOOKUP($C$1,日誌ﾃﾞｰﾀ,18)","v":15},{"$f":"VLOOKUP($C$1,日誌ﾃﾞｰﾀ,42)","v":19},{"$f":"SUM(L10:M11)","v":34},{"$f":"IF(VLOOKUP($C$1,日誌ﾃﾞｰﾀ,90)=\"\",\"\",VLOOKUP($C$1,日誌ﾃﾞｰﾀ,90))","v":""},{"$f":"VLOOKUP($C$1,日誌ﾃﾞｰﾀ,114)","v":0},{"$f":"VLOOKUP($C$1,日誌ﾃﾞｰﾀ,138)","v":0},{"$f":"VLOOKUP($C$1,日誌ﾃﾞｰﾀ,162)","v":0},{"$f":"IF(VLOOKUP($C$1,日誌ﾃﾞｰﾀ,186)=\"\",\"\",VLOOKUP($C$1,日誌ﾃﾞｰﾀ,186))","v":""},{"$f":"IF(VLOOKUP($C$1,日誌ﾃﾞｰﾀ,210)=\"\",\"\",VLOOKUP($C$1,日誌ﾃﾞｰﾀ,210))","v":""},{"$f":"IF(VLOOKUP($C$1,日誌ﾃﾞｰﾀ,234)=\"\",\"\",VLOOKUP($C$1,日誌ﾃﾞｰﾀ,234))","v":""}]
[null,0,0,0,0,0,0,0,0,null,null,null,null,null,null,null,null,null,{"$f":"IF(VLOOKUP($C$1,日誌ﾃﾞｰﾀ,258)=\"\",\"\",VLOOKUP($C$1,日誌ﾃﾞｰﾀ,258))","v":""},{"$f":"IF(VLOOKUP($C$1,日誌ﾃﾞｰﾀ,282)=\"\",\"\",VLOOKUP($C$1,日誌ﾃﾞｰﾀ,282))","v":""},{"$f":"IF(VLOOKUP($C$1,日誌ﾃﾞｰﾀ,306)=\"\",\"\",VLOOKUP($C$1,日誌ﾃﾞｰﾀ,306))","v":""}]
[null,0,0,0,0,0,0,0,0,null,4,{"$f":"VLOOKUP($C$1,日誌ﾃﾞｰﾀ,19)","v":17},{"$f":"VLOOKUP($C$1,日誌ﾃﾞｰﾀ,43)","v":18},{"$f":"SUM(L12:M13)","v":35},{"$f":"IF(VLOOKUP($C$1,日誌ﾃﾞｰﾀ,91)=\"\",\"\",VLOOKUP($C$1,日誌ﾃﾞｰﾀ,91))","v":""},{"$f":"VLOOKUP($C$1,日誌ﾃﾞｰﾀ,115)","v":0},{"$f":"VLOOKUP($C$1,日誌ﾃﾞｰﾀ,139)","v":0},{"$f":"VLOOKUP($C$1,日誌ﾃﾞｰﾀ,163)","v":0},{"$f":"IF(VLOOKUP($C$1,日誌ﾃﾞｰﾀ,187)=\"\",\"\",VLOOKUP($C$1,日誌ﾃﾞｰﾀ,187))","v":""},{"$f":"IF(VLOOKUP($C$1,日誌ﾃﾞｰﾀ,211)=\"\",\"\",VLOOKUP($C$1,日誌ﾃﾞｰﾀ,211))","v":""},{"$f":"IF(VLOOKUP($C$1,日誌ﾃﾞｰﾀ,235)=\"\",\"\",VLOOKUP($C$1,日誌ﾃﾞｰﾀ,235))","v":""}]
[null,0,0,0,0,0,0,0,0,null,null,null,null,null,null,null,null,null,{"$f":"IF(VLOOKUP($C$1,日誌ﾃﾞｰﾀ,259)=\"\",\"\",VLOOKUP($C$1,日誌ﾃﾞｰﾀ,259))","v":""},{"$f":"IF(VLOOKUP($C$1,日誌ﾃﾞｰﾀ,283)=\"\",\"\",VLOOKUP($C$1,日誌ﾃﾞｰﾀ,283))","v":""},{"$f":"IF(VLOOKUP($C$1,日誌ﾃﾞｰﾀ,307)=\"\",\"\",VLOOKUP($C$1,日誌ﾃﾞｰﾀ,307))","v":""}]
[null,0,0,0,0,0,0,0,0,null,"小計",{"$f":"SUM(L6:L13)","v":66},{"$f":"SUM(M6:M13)","v":73},139,{"$f":"IF(SUM(O6:O13)=0,\"\",SUM(O6:O13))","v":""},{"$f":"IF(COUNT(P6:P13)=4,SUM(P6:P13),\"\")","v":0},{"$f":"IF(COUNT(Q6:Q13)=4,SUM(Q6:Q13),\"\")","v":0},{"$f":"IF(COUNT(R6:R13)=4,SUM(R6:R13),\"\")","v":0},{"$f":"IF(SUM(S6,S8,S10,S12)=0,\"\",SUM(S6,S8,S10,S12))","v":""},{"$f":"IF(SUM(T6,T8,T10,T12)=0,\"\",SUM(T6,T8,T10,T12))","v":""},{"$f":"IF(SUM(U6,U8,U10,U12)=0,\"\",SUM(U6,U8,U10,U12))","v":""}]
["２．打合せ事項",null,null,null,null,null,null,null,null,null,null,null,null,null,null,null,null,null,{"$f":"IF(SUM(S7,S9,S11,S13)=0,\"\",SUM(S7,S9,S11,S13))","v":""},"",""]
[null,null,null,null,null,null,null,null,null,"二年",1,{"$f":"VLOOKUP($C$1,日誌ﾃﾞｰﾀ,20)","v":10},{"$f":"VLOOKUP($C$1,日誌ﾃﾞｰﾀ,44)","v":25},{"$f":"SUM(L16:M17)","v":35},{"$f":"IF(VLOOKUP($C$1,日誌ﾃﾞｰﾀ,92)=\"\",\"\",VLOOKUP($C$1,日誌ﾃﾞｰﾀ,92))","v":""},{"$f":"VLOOKUP($C$1,日誌ﾃﾞｰﾀ,116)","v":0},{"$f":"VLOOKUP($C$1,日誌ﾃﾞｰﾀ,140)","v":0},{"$f":"VLOOKUP($C$1,日誌ﾃﾞｰﾀ,164)","v":0},{"$f":"IF(VLOOKUP($C$1,日誌ﾃﾞｰﾀ,188)=\"\",\"\",VLOOKUP($C$1,日誌ﾃﾞｰﾀ,188))","v":""},{"$f":"IF(VLOOKUP($C$1,日誌ﾃﾞｰﾀ,212)=\"\",\"\",VLOOKUP($C$1,日誌ﾃﾞｰﾀ,212))","v":""},{"$f":"IF(VLOOKUP($C$1,日誌ﾃﾞｰﾀ,236)=\"\",\"\",VLOOKUP($C$1,日誌ﾃﾞｰﾀ,236))","v":""}]
[null,{"$f":"IF(VLOOKUP($C$1,日誌ﾃﾞｰﾀ,6)=\"\",\"\",VLOOKUP($C$1,日誌ﾃﾞｰﾀ,6))","v":""},{"$f":"VLOOKUP($C$1,日誌ﾃﾞｰﾀ,183)","v":0},0,0,0,0,0,0,null,null,null,null,null,null,null,null,null,{"$f":"IF(VLOOKUP($C$1,日誌ﾃﾞｰﾀ,260)=\"\",\"\",VLOOKUP($C$1,日誌ﾃﾞｰﾀ,260))","v":""},{"$f":"IF(VLOOKUP($C$1,日誌ﾃﾞｰﾀ,284)=\"\",\"\",VLOOKUP($C$1,日誌ﾃﾞｰﾀ,284))","v":""},{"$f":"IF(VLOOKUP($C$1,日誌ﾃﾞｰﾀ,308)=\"\",\"\",VLOOKUP($C$1,日誌ﾃﾞｰﾀ,308))","v":""}]
[null,{"$f":"VLOOKUP($C$1,日誌ﾃﾞｰﾀ,183)","v":0},0,0,0,0,0,0,0,null,2,{"$f":"VLOOKUP($C$1,日誌ﾃﾞｰﾀ,21)","v":10},{"$f":"VLOOKUP($C$1,日誌ﾃﾞｰﾀ,45)","v":24},{"$f":"SUM(L18:M19)","v":34},{"$f":"IF(VLOOKUP($C$1,日誌ﾃﾞｰﾀ,93)=\"\",\"\",VLOOKUP($C$1,日誌ﾃﾞｰﾀ,93))","v":""},{"$f":"VLOOKUP($C$1,日誌ﾃﾞｰﾀ,117)","v":0},{"$f":"VLOOKUP($C$1,日誌ﾃﾞｰﾀ,141)","v":0},{"$f":"VLOOKUP($C$1,日誌ﾃﾞｰﾀ,165)","v":0},{"$f":"IF(VLOOKUP($C$1,日誌ﾃﾞｰﾀ,189)=\"\",\"\",VLOOKUP($C$1,日誌ﾃﾞｰﾀ,189))","v":""},{"$f":"IF(VLOOKUP($C$1,日誌ﾃﾞｰﾀ,213)=\"\",\"\",VLOOKUP($C$1,日誌ﾃﾞｰﾀ,213))","v":""},{"$f":"IF(VLOOKUP($C$1,日誌ﾃﾞｰﾀ,237)=\"\",\"\",VLOOKUP($C$1,日誌ﾃﾞｰﾀ,237))","v":""}]
[null,0,0,0,0,0,0,0,0,null,null,null,null,null,null,null,null,null,{"$f":"IF(VLOOKUP($C$1,日誌ﾃﾞｰﾀ,261)=\"\",\"\",VLOOKUP($C$1,日誌ﾃﾞｰﾀ,261))","v":""},{"$f":"IF(VLOOKUP($C$1,日誌ﾃﾞｰﾀ,213)=\"\",\"\",VLOOKUP($C$1,日誌ﾃﾞｰﾀ,213))","v":""},{"$f":"IF(VLOOKUP($C$1,日誌ﾃﾞｰﾀ,309)=\"\",\"\",VLOOKUP($C$1,日誌ﾃﾞｰﾀ,309))","v":""}]
[null,0,0,0,0,0,0,0,0,null,3,{"$f":"VLOOKUP($C$1,日誌ﾃﾞｰﾀ,22)","v":9},{"$f":"VLOOKUP($C$1,日誌ﾃﾞｰﾀ,46)","v":25},{"$f":"SUM(L20:M21)","v":34},{"$f":"IF(VLOOKUP($C$1,日誌ﾃﾞｰﾀ,94)=\"\",\"\",VLOOKUP($C$1,日誌ﾃﾞｰﾀ,94))","v":""},{"$f":"VLOOKUP($C$1,日誌ﾃﾞｰﾀ,118)","v":0},{"$f":"VLOOKUP($C$1,日誌ﾃﾞｰﾀ,142)","v":0},{"$f":"VLOOKUP($C$1,日誌ﾃﾞｰﾀ,166)","v":0},{"$f":"IF(VLOOKUP($C$1,日誌ﾃﾞｰﾀ,190)=\"\",\"\",VLOOKUP($C$1,日誌ﾃﾞｰﾀ,190))","v":""},{"$f":"IF(VLOOKUP($C$1,日誌ﾃﾞｰﾀ,214)=\"\",\"\",VLOOKUP($C$1,日誌ﾃﾞｰﾀ,214))","v":""},{"$f":"IF(VLOOKUP($C$1,日誌ﾃﾞｰﾀ,238)=\"\",\"\",VLOOKUP($C$1,日誌ﾃﾞｰﾀ,238))","v":""}]
[null,0,0,0,0,0,0,0,0,null,null,null,null,null,null,null,null,null,{"$f":"IF(VLOOKUP($C$1,日誌ﾃﾞｰﾀ,262)=\"\",\"\",VLOOKUP($C$1,日誌ﾃﾞｰﾀ,262))","v":""},{"$f":"IF(VLOOKUP($C$1,日誌ﾃﾞｰﾀ,286)=\"\",\"\",VLOOKUP($C$1,日誌ﾃﾞｰﾀ,286))","v":""},{"$f":"IF(VLOOKUP($C$1,日誌ﾃﾞｰﾀ,310)=\"\",\"\",VLOOKUP($C$1,日誌ﾃﾞｰﾀ,310))","v":""}]
[null,0,0,0,0,0,0,0,0,null,4,{"$f":"VLOOKUP($C$1,日誌ﾃﾞｰﾀ,23)","v":10},{"$f":"VLOOKUP($C$1,日誌ﾃﾞｰﾀ,47)","v":25},{"$f":"SUM(L22:M23)","v":35},{"$f":"IF(VLOOKUP($C$1,日誌ﾃﾞｰﾀ,95)=\"\",\"\",VLOOKUP($C$1,日誌ﾃﾞｰﾀ,95))","v":""},{"$f":"VLOOKUP($C$1,日誌ﾃﾞｰﾀ,119)","v":0},{"$f":"VLOOKUP($C$1,日誌ﾃﾞｰﾀ,143)","v":0},{"$f":"VLOOKUP($C$1,日誌ﾃﾞｰﾀ,167)","v":0},{"$f":"IF(VLOOKUP($C$1,日誌ﾃﾞｰﾀ,191)=\"\",\"\",VLOOKUP($C$1,日誌ﾃﾞｰﾀ,191))","v":""},{"$f":"IF(VLOOKUP($C$1,日誌ﾃﾞｰﾀ,215)=\"\",\"\",VLOOKUP($C$1,日誌ﾃﾞｰﾀ,215))","v":""},{"$f":"IF(VLOOKUP($C$1,日誌ﾃﾞｰﾀ,239)=\"\",\"\",VLOOKUP($C$1,日誌ﾃﾞｰﾀ,239))","v":""}]
[null,0,0,0,0,0,0,0,0,null,null,null,null,null,null,null,null,null,{"$f":"IF(VLOOKUP($C$1,日誌ﾃﾞｰﾀ,263)=\"\",\"\",VLOOKUP($C$1,日誌ﾃﾞｰﾀ,263))","v":""},{"$f":"IF(VLOOKUP($C$1,日誌ﾃﾞｰﾀ,287)=\"\",\"\",VLOOKUP($C$1,日誌ﾃﾞｰﾀ,287))","v":""},{"$f":"IF(VLOOKUP($C$1,日誌ﾃﾞｰﾀ,311)=\"\",\"\",VLOOKUP($C$1,日誌ﾃﾞｰﾀ,311))","v":""}]
[null,0,0,0,0,0,0,0,0,null,"小計",{"$f":"SUM(L16:L23)","v":39},{"$f":"SUM(M16:M23)","v":99},138,{"$f":"IF(SUM(O16:O23)=0,\"\",SUM(O16:O23))","v":""},{"$f":"IF(COUNT(P16:P23)=4,SUM(P16:P23),\"\")","v":0},{"$f":"IF(COUNT(Q16:Q23)=4,SUM(Q16:Q23),\"\")","v":0},0,{"$f":"IF(SUM(S16,S18,S20,S22)=0,\"\",SUM(S16,S18,S20,S22))","v":""},{"$f":"IF(SUM(T16,T18,T20,T22)=0,\"\",SUM(T16,T18,T20,T22))","v":""},{"$f":"IF(SUM(U16,U18,U20,U22)=0,\"\",SUM(U16,U18,U20,U22))","v":""}]
[null,0,0,0,0,0,0,0,0,null,null,null,null,null,null,null,null,null,{"$f":"IF(SUM(S17,S19,S21,S23)=0,\"\",SUM(S17,S19,S21,S23))","v":""},"",""]
["３．職員状況",null,null,null,null,null,null,null,null,"三年",1,{"$f":"VLOOKUP($C$1,日誌ﾃﾞｰﾀ,24)","v":14},{"$f":"VLOOKUP($C$1,日誌ﾃﾞｰﾀ,48)","v":20},{"$f":"SUM(L26:M27)","v":34},{"$f":"IF(VLOOKUP($C$1,日誌ﾃﾞｰﾀ,96)=\"\",\"\",VLOOKUP($C$1,日誌ﾃﾞｰﾀ,96))","v":""},{"$f":"VLOOKUP($C$1,日誌ﾃﾞｰﾀ,120)","v":0},{"$f":"VLOOKUP($C$1,日誌ﾃﾞｰﾀ,144)","v":0},{"$f":"VLOOKUP($C$1,日誌ﾃﾞｰﾀ,168)","v":0},{"$f":"IF(VLOOKUP($C$1,日誌ﾃﾞｰﾀ,192)=\"\",\"\",VLOOKUP($C$1,日誌ﾃﾞｰﾀ,192))","v":""},{"$f":"IF(VLOOKUP($C$1,日誌ﾃﾞｰﾀ,216)=\"\",\"\",VLOOKUP($C$1,日誌ﾃﾞｰﾀ,216))","v":""},{"$f":"IF(VLOOKUP($C$1,日誌ﾃﾞｰﾀ,240)=\"\",\"\",VLOOKUP($C$1,日誌ﾃﾞｰﾀ,240))","v":""}]
[null,null,null,null,null,null,null,null,null,null,null,null,null,null,null,null,null,null,{"$f":"IF(VLOOKUP($C$1,日誌ﾃﾞｰﾀ,264)=\"\",\"\",VLOOKUP($C$1,日誌ﾃﾞｰﾀ,264))","v":""},{"$f":"IF(VLOOKUP($C$1,日誌ﾃﾞｰﾀ,288)=\"\",\"\",VLOOKUP($C$1,日誌ﾃﾞｰﾀ,288))","v":""},{"$f":"IF(VLOOKUP($C$1,日誌ﾃﾞｰﾀ,312)=\"\",\"\",VLOOKUP($C$1,日誌ﾃﾞｰﾀ,312))","v":""}]
[null,{"$f":"IF(VLOOKUP($C$1,日誌ﾃﾞｰﾀ,7)=\"\",\"\",VLOOKUP($C$1,日誌ﾃﾞｰﾀ,7))","v":""},{"$f":"VLOOKUP($C$1,日誌ﾃﾞｰﾀ,183)","v":0},0,0,0,0,0,0,null,2,{"$f":"VLOOKUP($C$1,日誌ﾃﾞｰﾀ,25)","v":13},{"$f":"VLOOKUP($C$1,日誌ﾃﾞｰﾀ,49)","v":20},{"$f":"SUM(L28:M29)","v":33},{"$f":"IF(VLOOKUP($C$1,日誌ﾃﾞｰﾀ,97)=\"\",\"\",VLOOKUP($C$1,日誌ﾃﾞｰﾀ,97))","v":""},{"$f":"VLOOKUP($C$1,日誌ﾃﾞｰﾀ,121)","v":0},{"$f":"VLOOKUP($C$1,日誌ﾃﾞｰﾀ,145)","v":0},{"$f":"VLOOKUP($C$1,日誌ﾃﾞｰﾀ,169)","v":0},{"$f":"IF(VLOOKUP($C$1,日誌ﾃﾞｰﾀ,193)=\"\",\"\",VLOOKUP($C$1,日誌ﾃﾞｰﾀ,193))","v":""},{"$f":"IF(VLOOKUP($C$1,日誌ﾃﾞｰﾀ,217)=\"\",\"\",VLOOKUP($C$1,日誌ﾃﾞｰﾀ,217))","v":""},{"$f":"IF(VLOOKUP($C$1,日誌ﾃﾞｰﾀ,241)=\"\",\"\",VLOOKUP($C$1,日誌ﾃﾞｰﾀ,241))","v":""}]
[null,{"$f":"VLOOKUP($C$1,日誌ﾃﾞｰﾀ,183)","v":0},0,0,0,0,0,0,0,null,null,null,null,null,null,null,null,null,{"$f":"IF(VLOOKUP($C$1,日誌ﾃﾞｰﾀ,265)=\"\",\"\",VLOOKUP($C$1,日誌ﾃﾞｰﾀ,265))","v":""},{"$f":"IF(VLOOKUP($C$1,日誌ﾃﾞｰﾀ,289)=\"\",\"\",VLOOKUP($C$1,日誌ﾃﾞｰﾀ,289))","v":""},{"$f":"IF(VLOOKUP($C$1,日誌ﾃﾞｰﾀ,313)=\"\",\"\",VLOOKUP($C$1,日誌ﾃﾞｰﾀ,313))","v":""}]
[null,0,0,0,0,0,0,0,0,null,3,{"$f":"VLOOKUP($C$1,日誌ﾃﾞｰﾀ,26)","v":14},{"$f":"VLOOKUP($C$1,日誌ﾃﾞｰﾀ,50)","v":21},{"$f":"SUM(L30:M31)","v":35},{"$f":"IF(VLOOKUP($C$1,日誌ﾃﾞｰﾀ,98)=\"\",\"\",VLOOKUP($C$1,日誌ﾃﾞｰﾀ,98))","v":""},{"$f":"VLOOKUP($C$1,日誌ﾃﾞｰﾀ,122)","v":0},{"$f":"VLOOKUP($C$1,日誌ﾃﾞｰﾀ,146)","v":0},{"$f":"VLOOKUP($C$1,日誌ﾃﾞｰﾀ,170)","v":0},{"$f":"IF(VLOOKUP($C$1,日誌ﾃﾞｰﾀ,194)=\"\",\"\",VLOOKUP($C$1,日誌ﾃﾞｰﾀ,194))","v":""},{"$f":"IF(VLOOKUP($C$1,日誌ﾃﾞｰﾀ,218)=\"\",\"\",VLOOKUP($C$1,日誌ﾃﾞｰﾀ,218))","v":""},{"$f":"IF(VLOOKUP($C$1,日誌ﾃﾞｰﾀ,242)=\"\",\"\",VLOOKUP($C$1,日誌ﾃﾞｰﾀ,242))","v":""}]
[null,0,0,0,0,0,0,0,0,null,null,null,null,null,null,null,null,null,{"$f":"IF(VLOOKUP($C$1,日誌ﾃﾞｰﾀ,266)=\"\",\"\",VLOOKUP($C$1,日誌ﾃﾞｰﾀ,266))","v":""},{"$f":"IF(VLOOKUP($C$1,日誌ﾃﾞｰﾀ,290)=\"\",\"\",VLOOKUP($C$1,日誌ﾃﾞｰﾀ,290))","v":""},{"$f":"IF(VLOOKUP($C$1,日誌ﾃﾞｰﾀ,314)=\"\",\"\",VLOOKUP($C$1,日誌ﾃﾞｰﾀ,314))","v":""}]
[null,0,0,0,0,0,0,0,0,null,4,{"$f":"VLOOKUP($C$1,日誌ﾃﾞｰﾀ,27)","v":14},{"$f":"VLOOKUP($C$1,日誌ﾃﾞｰﾀ,51)","v":20},{"$f":"SUM(L32:M33)","v":34},{"$f":"IF(VLOOKUP($C$1,日誌ﾃﾞｰﾀ,99)=\"\",\"\",VLOOKUP($C$1,日誌ﾃﾞｰﾀ,99))","v":""},{"$f":"VLOOKUP($C$1,日誌ﾃﾞｰﾀ,123)","v":0},{"$f":"VLOOKUP($C$1,日誌ﾃﾞｰﾀ,147)","v":0},{"$f":"VLOOKUP($C$1,日誌ﾃﾞｰﾀ,171)","v":0},{"$f":"IF(VLOOKUP($C$1,日誌ﾃﾞｰﾀ,195)=\"\",\"\",VLOOKUP($C$1,日誌ﾃﾞｰﾀ,195))","v":""},{"$f":"IF(VLOOKUP($C$1,日誌ﾃﾞｰﾀ,219)=\"\",\"\",VLOOKUP($C$1,日誌ﾃﾞｰﾀ,219))","v":""},{"$f":"IF(VLOOKUP($C$1,日誌ﾃﾞｰﾀ,243)=\"\",\"\",VLOOKUP($C$1,日誌ﾃﾞｰﾀ,243))","v":""}]
[null,0,0,0,0,0,0,0,0,null,null,null,null,null,null,null,null,null,{"$f":"IF(VLOOKUP($C$1,日誌ﾃﾞｰﾀ,267)=\"\",\"\",VLOOKUP($C$1,日誌ﾃﾞｰﾀ,267))","v":""},{"$f":"IF(VLOOKUP($C$1,日誌ﾃﾞｰﾀ,291)=\"\",\"\",VLOOKUP($C$1,日誌ﾃﾞｰﾀ,291))","v":""},{"$f":"IF(VLOOKUP($C$1,日誌ﾃﾞｰﾀ,315)=\"\",\"\",VLOOKUP($C$1,日誌ﾃﾞｰﾀ,315))","v":""}]
[null,0,0,0,0,0,0,0,0,null,"小計",{"$f":"SUM(L26:L33)","v":55},{"$f":"SUM(M26:M33)","v":81},136,{"$f":"IF(SUM(O26:O33)=0,\"\",SUM(O26:O33))","v":""},{"$f":"IF(COUNT(P26:P33)=4,SUM(P26:P33),\"\")","v":0},{"$f":"IF(COUNT(Q26:Q33)=4,SUM(Q26:Q33),\"\")","v":0},0,{"$f":"IF(SUM(S26,S28,S30,S32)=0,\"\",SUM(S26,S28,S30,S32))","v":""},{"$f":"IF(SUM(T26,T28,T30,T32)=0,\"\",SUM(T26,T28,T30,T32))","v":""},{"$f":"IF(SUM(U26,U28,U30,U32)=0,\"\",SUM(U26,U28,U30,U32))","v":""}]
[null,0,0,0,0,0,0,0,0,null,null,null,null,null,null,null,null,null,{"$f":"IF(SUM(S27,S29,S31,S33)=0,\"\",SUM(S27,S29,S31,S33))","v":""},"",{"$f":"IF(SUM(U27,U29,U31,U33)=0,\"\",SUM(U27,U29,U31,U33))","v":""}]
[null,0,0,0,0,0,0,0,0,"四年",1,{"$f":"VLOOKUP($C$1,日誌ﾃﾞｰﾀ,28)","v":13},{"$f":"VLOOKUP($C$1,日誌ﾃﾞｰﾀ,52)","v":21},{"$f":"SUM(L36:M37)","v":34},{"$f":"IF(VLOOKUP($C$1,日誌ﾃﾞｰﾀ,100)=\"\",\"\",VLOOKUP($C$1,日誌ﾃﾞｰﾀ,100))","v":""},{"$f":"VLOOKUP($C$1,日誌ﾃﾞｰﾀ,124)","v":0},{"$f":"VLOOKUP($C$1,日誌ﾃﾞｰﾀ,148)","v":0},{"$f":"VLOOKUP($C$1,日誌ﾃﾞｰﾀ,172)","v":0},{"$f":"IF(VLOOKUP($C$1,日誌ﾃﾞｰﾀ,196)=\"\",\"\",VLOOKUP($C$1,日誌ﾃﾞｰﾀ,196))","v":""},{"$f":"IF(VLOOKUP($C$1,日誌ﾃﾞｰﾀ,220)=\"\",\"\",VLOOKUP($C$1,日誌ﾃﾞｰﾀ,220))","v":""},{"$f":"IF(VLOOKUP($C$1,日誌ﾃﾞｰﾀ,244)=\"\",\"\",VLOOKUP($C$1,日誌ﾃﾞｰﾀ,244))","v":""}]
[null,0,0,0,0,0,0,0,0,null,null,null,null,null,null,null,null,null,{"$f":"IF(VLOOKUP($C$1,日誌ﾃﾞｰﾀ,268)=\"\",\"\",VLOOKUP($C$1,日誌ﾃﾞｰﾀ,268))","v":""},{"$f":"IF(VLOOKUP($C$1,日誌ﾃﾞｰﾀ,292)=\"\",\"\",VLOOKUP($C$1,日誌ﾃﾞｰﾀ,292))","v":""},{"$f":"IF(VLOOKUP($C$1,日誌ﾃﾞｰﾀ,316)=\"\",\"\",VLOOKUP($C$1,日誌ﾃﾞｰﾀ,316))","v":""}]
[null,0,{"$f":"VLOOKUP($C$1,日誌ﾃﾞｰﾀ,183)","v":0},0,0,0,0,0,0,null,2,{"$f":"VLOOKUP($C$1,日誌ﾃﾞｰﾀ,29)","v":14},{"$f":"VLOOKUP($C$1,日誌ﾃﾞｰﾀ,53)","v":21},{"$f":"SUM(L38:M39)","v":35},{"$f":"IF(VLOOKUP($C$1,日誌ﾃﾞｰﾀ,101)=\"\",\"\",VLOOKUP($C$1,日誌ﾃﾞｰﾀ,101))","v":""},{"$f":"VLOOKUP($C$1,日誌ﾃﾞｰﾀ,125)","v":0},{"$f":"VLOOKUP($C$1,日誌ﾃﾞｰﾀ,149)","v":0},{"$f":"VLOOKUP($C$1,日誌ﾃﾞｰﾀ,173)","v":0},{"$f":"IF(VLOOKUP($C$1,日誌ﾃﾞｰﾀ,197)=\"\",\"\",VLOOKUP($C$1,日誌ﾃﾞｰﾀ,197))","v":""},{"$f":"IF(VLOOKUP($C$1,日誌ﾃﾞｰﾀ,221)=\"\",\"\",VLOOKUP($C$1,日誌ﾃﾞｰﾀ,221))","v":""},{"$f":"IF(VLOOKUP($C$1,日誌ﾃﾞｰﾀ,245)=\"\",\"\",VLOOKUP($C$1,日誌ﾃﾞｰﾀ,245))","v":""}]
[null,0,0,0,0,0,0,0,0,null,null,null,null,null,null,null,null,null,{"$f":"IF(VLOOKUP($C$1,日誌ﾃﾞｰﾀ,269)=\"\",\"\",VLOOKUP($C$1,日誌ﾃﾞｰﾀ,269))","v":""},{"$f":"IF(VLOOKUP($C$1,日誌ﾃﾞｰﾀ,293)=\"\",\"\",VLOOKUP($C$1,日誌ﾃﾞｰﾀ,293))","v":""},{"$f":"IF(VLOOKUP($C$1,日誌ﾃﾞｰﾀ,317)=\"\",\"\",VLOOKUP($C$1,日誌ﾃﾞｰﾀ,317))","v":""}]
[null,0,0,0,0,0,0,0,0,null,3,{"$f":"VLOOKUP($C$1,日誌ﾃﾞｰﾀ,30)","v":14},{"$f":"VLOOKUP($C$1,日誌ﾃﾞｰﾀ,54)","v":21},{"$f":"SUM(L40:M41)","v":35},{"$f":"IF(VLOOKUP($C$1,日誌ﾃﾞｰﾀ,102)=\"\",\"\",VLOOKUP($C$1,日誌ﾃﾞｰﾀ,102))","v":""},{"$f":"VLOOKUP($C$1,日誌ﾃﾞｰﾀ,126)","v":0},{"$f":"VLOOKUP($C$1,日誌ﾃﾞｰﾀ,150)","v":0},{"$f":"VLOOKUP($C$1,日誌ﾃﾞｰﾀ,174)","v":0},{"$f":"IF(VLOOKUP($C$1,日誌ﾃﾞｰﾀ,198)=\"\",\"\",VLOOKUP($C$1,日誌ﾃﾞｰﾀ,198))","v":""},{"$f":"IF(VLOOKUP($C$1,日誌ﾃﾞｰﾀ,222)=\"\",\"\",VLOOKUP($C$1,日誌ﾃﾞｰﾀ,222))","v":""},{"$f":"IF(VLOOKUP($C$1,日誌ﾃﾞｰﾀ,246)=\"\",\"\",VLOOKUP($C$1,日誌ﾃﾞｰﾀ,246))","v":""}]
[null,0,0,0,0,0,0,0,0,null,null,null,null,null,null,null,null,null,{"$f":"IF(VLOOKUP($C$1,日誌ﾃﾞｰﾀ,270)=\"\",\"\",VLOOKUP($C$1,日誌ﾃﾞｰﾀ,270))","v":""},{"$f":"IF(VLOOKUP($C$1,日誌ﾃﾞｰﾀ,294)=\"\",\"\",VLOOKUP($C$1,日誌ﾃﾞｰﾀ,294))","v":""},{"$f":"IF(VLOOKUP($C$1,日誌ﾃﾞｰﾀ,318)=\"\",\"\",VLOOKUP($C$1,日誌ﾃﾞｰﾀ,318))","v":""}]
[null,0,0,0,0,0,0,0,0,null,4,{"$f":"VLOOKUP($C$1,日誌ﾃﾞｰﾀ,31)","v":14},{"$f":"VLOOKUP($C$1,日誌ﾃﾞｰﾀ,55)","v":20},{"$f":"SUM(L42:M43)","v":34},{"$f":"IF(VLOOKUP($C$1,日誌ﾃﾞｰﾀ,103)=\"\",\"\",VLOOKUP($C$1,日誌ﾃﾞｰﾀ,103))","v":""},{"$f":"VLOOKUP($C$1,日誌ﾃﾞｰﾀ,127)","v":0},{"$f":"VLOOKUP($C$1,日誌ﾃﾞｰﾀ,151)","v":0},{"$f":"VLOOKUP($C$1,日誌ﾃﾞｰﾀ,175)","v":0},{"$f":"IF(VLOOKUP($C$1,日誌ﾃﾞｰﾀ,199)=\"\",\"\",VLOOKUP($C$1,日誌ﾃﾞｰﾀ,199))","v":""},{"$f":"IF(VLOOKUP($C$1,日誌ﾃﾞｰﾀ,223)=\"\",\"\",VLOOKUP($C$1,日誌ﾃﾞｰﾀ,223))","v":""},{"$f":"IF(VLOOKUP($C$1,日誌ﾃﾞｰﾀ,247)=\"\",\"\",VLOOKUP($C$1,日誌ﾃﾞｰﾀ,247))","v":""}]
[null,0,0,0,0,0,0,0,0,null,null,null,null,null,null,null,null,null,{"$f":"IF(VLOOKUP($C$1,日誌ﾃﾞｰﾀ,271)=\"\",\"\",VLOOKUP($C$1,日誌ﾃﾞｰﾀ,271))","v":""},{"$f":"IF(VLOOKUP($C$1,日誌ﾃﾞｰﾀ,295)=\"\",\"\",VLOOKUP($C$1,日誌ﾃﾞｰﾀ,295))","v":""},{"$f":"IF(VLOOKUP($C$1,日誌ﾃﾞｰﾀ,319)=\"\",\"\",VLOOKUP($C$1,日誌ﾃﾞｰﾀ,319))","v":""}]
[null,0,0,0,0,0,0,0,0,null,"小計",{"$f":"SUM(L36:L43)","v":55},{"$f":"SUM(M36:M43)","v":83},138,{"$f":"IF(SUM(O36:O43)=0,\"\",SUM(O36:O43))","v":""},{"$f":"IF(COUNT(P36:P43)=4,SUM(P36:P43),\"\")","v":0},{"$f":"IF(COUNT(Q36:Q43)=4,SUM(Q36:Q43),\"\")","v":0},0,{"$f":"IF(SUM(S36,S38,S40,S42)=0,\"\",SUM(S36,S38,S40,S42))","v":""},{"$f":"IF(SUM(T36,T38,T40,T42)=0,\"\",SUM(T36,T38,T40,T42))","v":""},{"$f":"IF(SUM(U36,U38,U40,U42)=0,\"\",SUM(U36,U38,U40,U42))","v":""}]
[null,0,0,0,0,0,0,0,0,null,null,null,null,null,null,null,null,null,{"$f":"IF(SUM(S37,S39,S41,S43)=0,\"\",SUM(S37,S39,S41,S43))","v":""},"",""]
[null,0,0,0,0,0,0,0,0,"五年",1,{"$f":"VLOOKUP($C$1,日誌ﾃﾞｰﾀ,32)","v":21},{"$f":"VLOOKUP($C$1,日誌ﾃﾞｰﾀ,56)","v":10},{"$f":"SUM(L46:M47)","v":31},{"$f":"IF(VLOOKUP($C$1,日誌ﾃﾞｰﾀ,104)=\"\",\"\",VLOOKUP($C$1,日誌ﾃﾞｰﾀ,104))","v":""},{"$f":"VLOOKUP($C$1,日誌ﾃﾞｰﾀ,128)","v":0},{"$f":"VLOOKUP($C$1,日誌ﾃﾞｰﾀ,152)","v":0},{"$f":"VLOOKUP($C$1,日誌ﾃﾞｰﾀ,176)","v":0},{"$f":"IF(VLOOKUP($C$1,日誌ﾃﾞｰﾀ,200)=\"\",\"\",VLOOKUP($C$1,日誌ﾃﾞｰﾀ,200))","v":""},{"$f":"IF(VLOOKUP($C$1,日誌ﾃﾞｰﾀ,224)=\"\",\"\",VLOOKUP($C$1,日誌ﾃﾞｰﾀ,224))","v":""},{"$f":"IF(VLOOKUP($C$1,日誌ﾃﾞｰﾀ,248)=\"\",\"\",VLOOKUP($C$1,日誌ﾃﾞｰﾀ,248))","v":""}]
[null,0,0,0,0,0,0,0,0,null,null,null,null,null,null,null,null,null,{"$f":"IF(VLOOKUP($C$1,日誌ﾃﾞｰﾀ,272)=\"\",\"\",VLOOKUP($C$1,日誌ﾃﾞｰﾀ,272))","v":""},{"$f":"IF(VLOOKUP($C$1,日誌ﾃﾞｰﾀ,296)=\"\",\"\",VLOOKUP($C$1,日誌ﾃﾞｰﾀ,296))","v":""},{"$f":"IF(VLOOKUP($C$1,日誌ﾃﾞｰﾀ,320)=\"\",\"\",VLOOKUP($C$1,日誌ﾃﾞｰﾀ,320))","v":""}]
[null,0,{"$f":"VLOOKUP($C$1,日誌ﾃﾞｰﾀ,183)","v":0},0,0,0,0,0,0,null,2,{"$f":"VLOOKUP($C$1,日誌ﾃﾞｰﾀ,33)","v":22},{"$f":"VLOOKUP($C$1,日誌ﾃﾞｰﾀ,57)","v":11},{"$f":"SUM(L48:M49)","v":33},{"$f":"IF(VLOOKUP($C$1,日誌ﾃﾞｰﾀ,105)=\"\",\"\",VLOOKUP($C$1,日誌ﾃﾞｰﾀ,105))","v":""},{"$f":"VLOOKUP($C$1,日誌ﾃﾞｰﾀ,129)","v":0},{"$f":"VLOOKUP($C$1,日誌ﾃﾞｰﾀ,153)","v":0},{"$f":"VLOOKUP($C$1,日誌ﾃﾞｰﾀ,177)","v":0},{"$f":"IF(VLOOKUP($C$1,日誌ﾃﾞｰﾀ,201)=\"\",\"\",VLOOKUP($C$1,日誌ﾃﾞｰﾀ,201))","v":""},{"$f":"IF(VLOOKUP($C$1,日誌ﾃﾞｰﾀ,225)=\"\",\"\",VLOOKUP($C$1,日誌ﾃﾞｰﾀ,225))","v":""},{"$f":"IF(VLOOKUP($C$1,日誌ﾃﾞｰﾀ,249)=\"\",\"\",VLOOKUP($C$1,日誌ﾃﾞｰﾀ,249))","v":""}]
[null,0,0,0,0,0,0,0,0,null,null,null,null,null,null,null,null,null,{"$f":"IF(VLOOKUP($C$1,日誌ﾃﾞｰﾀ,273)=\"\",\"\",VLOOKUP($C$1,日誌ﾃﾞｰﾀ,273))","v":""},{"$f":"IF(VLOOKUP($C$1,日誌ﾃﾞｰﾀ,297)=\"\",\"\",VLOOKUP($C$1,日誌ﾃﾞｰﾀ,297))","v":""},{"$f":"IF(VLOOKUP($C$1,日誌ﾃﾞｰﾀ,321)=\"\",\"\",VLOOKUP($C$1,日誌ﾃﾞｰﾀ,321))","v":""}]
[null,0,0,0,0,0,0,0,0,null,3,{"$f":"VLOOKUP($C$1,日誌ﾃﾞｰﾀ,34)","v":12},{"$f":"VLOOKUP($C$1,日誌ﾃﾞｰﾀ,58)","v":21},{"$f":"SUM(L50:M51)","v":33},{"$f":"IF(VLOOKUP($C$1,日誌ﾃﾞｰﾀ,106)=\"\",\"\",VLOOKUP($C$1,日誌ﾃﾞｰﾀ,106))","v":""},{"$f":"VLOOKUP($C$1,日誌ﾃﾞｰﾀ,130)","v":0},{"$f":"VLOOKUP($C$1,日誌ﾃﾞｰﾀ,154)","v":0},{"$f":"VLOOKUP($C$1,日誌ﾃﾞｰﾀ,178)","v":0},{"$f":"IF(VLOOKUP($C$1,日誌ﾃﾞｰﾀ,202)=\"\",\"\",VLOOKUP($C$1,日誌ﾃﾞｰﾀ,202))","v":""},{"$f":"IF(VLOOKUP($C$1,日誌ﾃﾞｰﾀ,226)=\"\",\"\",VLOOKUP($C$1,日誌ﾃﾞｰﾀ,226))","v":""},{"$f":"IF(VLOOKUP($C$1,日誌ﾃﾞｰﾀ,250)=\"\",\"\",VLOOKUP($C$1,日誌ﾃﾞｰﾀ,250))","v":""}]
[null,0,0,0,0,0,0,0,0,null,null,null,null,null,null,null,null,null,{"$f":"IF(VLOOKUP($C$1,日誌ﾃﾞｰﾀ,274)=\"\",\"\",VLOOKUP($C$1,日誌ﾃﾞｰﾀ,274))","v":""},{"$f":"IF(VLOOKUP($C$1,日誌ﾃﾞｰﾀ,298)=\"\",\"\",VLOOKUP($C$1,日誌ﾃﾞｰﾀ,298))","v":""},{"$f":"IF(VLOOKUP($C$1,日誌ﾃﾞｰﾀ,322)=\"\",\"\",VLOOKUP($C$1,日誌ﾃﾞｰﾀ,322))","v":""}]
[null,0,0,0,0,0,0,0,0,null,4,{"$f":"VLOOKUP($C$1,日誌ﾃﾞｰﾀ,35)","v":12},{"$f":"VLOOKUP($C$1,日誌ﾃﾞｰﾀ,59)","v":22},{"$f":"SUM(L52:M53)","v":34},{"$f":"IF(VLOOKUP($C$1,日誌ﾃﾞｰﾀ,107)=\"\",\"\",VLOOKUP($C$1,日誌ﾃﾞｰﾀ,107))","v":""},{"$f":"VLOOKUP($C$1,日誌ﾃﾞｰﾀ,131)","v":0},{"$f":"VLOOKUP($C$1,日誌ﾃﾞｰﾀ,155)","v":0},{"$f":"VLOOKUP($C$1,日誌ﾃﾞｰﾀ,179)","v":0},{"$f":"IF(VLOOKUP($C$1,日誌ﾃﾞｰﾀ,203)=\"\",\"\",VLOOKUP($C$1,日誌ﾃﾞｰﾀ,203))","v":""},{"$f":"IF(VLOOKUP($C$1,日誌ﾃﾞｰﾀ,227)=\"\",\"\",VLOOKUP($C$1,日誌ﾃﾞｰﾀ,227))","v":""},{"$f":"IF(VLOOKUP($C$1,日誌ﾃﾞｰﾀ,251)=\"\",\"\",VLOOKUP($C$1,日誌ﾃﾞｰﾀ,251))","v":""}]
[null,0,0,0,0,0,0,0,0,null,null,null,null,null,null,null,null,null,{"$f":"IF(VLOOKUP($C$1,日誌ﾃﾞｰﾀ,275)=\"\",\"\",VLOOKUP($C$1,日誌ﾃﾞｰﾀ,275))","v":""},{"$f":"IF(VLOOKUP($C$1,日誌ﾃﾞｰﾀ,299)=\"\",\"\",VLOOKUP($C$1,日誌ﾃﾞｰﾀ,299))","v":""},{"$f":"IF(VLOOKUP($C$1,日誌ﾃﾞｰﾀ,323)=\"\",\"\",VLOOKUP($C$1,日誌ﾃﾞｰﾀ,323))","v":""}]
[null,0,0,0,0,0,0,0,0,null,"小計",{"$f":"SUM(L46:L53)","v":67},{"$f":"SUM(M46:M53)","v":64},131,{"$f":"IF(SUM(O46:O53)=0,\"\",SUM(O46:O53))","v":""},{"$f":"IF(COUNT(P46:P53)=4,SUM(P46:P53),\"\")","v":0},{"$f":"IF(COUNT(Q46:Q53)=4,SUM(Q46:Q53),\"\")","v":0},0,{"$f":"IF(SUM(S46,S48,S50,S52)=0,\"\",SUM(S46,S48,S50,S52))","v":""},{"$f":"IF(SUM(T46,T48,T50,T52)=0,\"\",SUM(T46,T48,T50,T52))","v":""},{"$f":"IF(SUM(U46,U48,U50,U52)=0,\"\",SUM(U46,U48,U50,U52))","v":""}]
[null,0,0,0,0,0,0,0,0,null,null,null,null,null,null,null,null,null,{"$f":"IF(SUM(S47,S49,S51,S53)=0,\"\",SUM(S47,S49,S51,S53))","v":""},"",""]
[null,0,0,0,0,0,0,0,0,"六年",1,{"$f":"VLOOKUP($C$1,日誌ﾃﾞｰﾀ,36)","v":19},{"$f":"VLOOKUP($C$1,日誌ﾃﾞｰﾀ,60)","v":14},{"$f":"SUM(L56:M57)","v":33},{"$f":"IF(VLOOKUP($C$1,日誌ﾃﾞｰﾀ,108)=\"\",\"\",VLOOKUP($C$1,日誌ﾃﾞｰﾀ,108))","v":""},{"$f":"VLOOKUP($C$1,日誌ﾃﾞｰﾀ,132)","v":0},{"$f":"VLOOKUP($C$1,日誌ﾃﾞｰﾀ,156)","v":0},{"$f":"VLOOKUP($C$1,日誌ﾃﾞｰﾀ,180)","v":0},{"$f":"IF(VLOOKUP($C$1,日誌ﾃﾞｰﾀ,204)=\"\",\"\",VLOOKUP($C$1,日誌ﾃﾞｰﾀ,204))","v":""},{"$f":"IF(VLOOKUP($C$1,日誌ﾃﾞｰﾀ,228)=\"\",\"\",VLOOKUP($C$1,日誌ﾃﾞｰﾀ,228))","v":""},{"$f":"IF(VLOOKUP($C$1,日誌ﾃﾞｰﾀ,252)=\"\",\"\",VLOOKUP($C$1,日誌ﾃﾞｰﾀ,252))","v":""}]
[null,0,0,0,0,0,0,0,0,null,null,null,null,null,null,null,null,null,{"$f":"IF(VLOOKUP($C$1,日誌ﾃﾞｰﾀ,276)=\"\",\"\",VLOOKUP($C$1,日誌ﾃﾞｰﾀ,276))","v":""},{"$f":"IF(VLOOKUP($C$1,日誌ﾃﾞｰﾀ,300)=\"\",\"\",VLOOKUP($C$1,日誌ﾃﾞｰﾀ,300))","v":""},{"$f":"IF(VLOOKUP($C$1,日誌ﾃﾞｰﾀ,324)=\"\",\"\",VLOOKUP($C$1,日誌ﾃﾞｰﾀ,324))","v":""}]
["３．その他",null,null,null,null,null,null,null,null,null,2,{"$f":"VLOOKUP($C$1,日誌ﾃﾞｰﾀ,37)","v":13},{"$f":"VLOOKUP($C$1,日誌ﾃﾞｰﾀ,61)","v":21},{"$f":"SUM(L58:M59)","v":34},{"$f":"IF(VLOOKUP($C$1,日誌ﾃﾞｰﾀ,109)=\"\",\"\",VLOOKUP($C$1,日誌ﾃﾞｰﾀ,109))","v":""},{"$f":"VLOOKUP($C$1,日誌ﾃﾞｰﾀ,133)","v":0},{"$f":"VLOOKUP($C$1,日誌ﾃﾞｰﾀ,157)","v":0},{"$f":"VLOOKUP($C$1,日誌ﾃﾞｰﾀ,181)","v":0},{"$f":"IF(VLOOKUP($C$1,日誌ﾃﾞｰﾀ,205)=\"\",\"\",VLOOKUP($C$1,日誌ﾃﾞｰﾀ,205))","v":""},{"$f":"IF(VLOOKUP($C$1,日誌ﾃﾞｰﾀ,229)=\"\",\"\",VLOOKUP($C$1,日誌ﾃﾞｰﾀ,229))","v":""},{"$f":"IF(VLOOKUP($C$1,日誌ﾃﾞｰﾀ,253)=\"\",\"\",VLOOKUP($C$1,日誌ﾃﾞｰﾀ,253))","v":""}]
[null,null,null,null,null,null,null,null,null,null,null,null,null,null,null,null,null,null,{"$f":"IF(VLOOKUP($C$1,日誌ﾃﾞｰﾀ,277)=\"\",\"\",VLOOKUP($C$1,日誌ﾃﾞｰﾀ,277))","v":""},{"$f":"IF(VLOOKUP($C$1,日誌ﾃﾞｰﾀ,301)=\"\",\"\",VLOOKUP($C$1,日誌ﾃﾞｰﾀ,301))","v":""},{"$f":"IF(VLOOKUP($C$1,日誌ﾃﾞｰﾀ,325)=\"\",\"\",VLOOKUP($C$1,日誌ﾃﾞｰﾀ,325))","v":""}]
[null,{"$f":"IF(VLOOKUP($C$1,日誌ﾃﾞｰﾀ,8)=\"\",\"\",VLOOKUP($C$1,日誌ﾃﾞｰﾀ,8))","v":""},{"$f":"VLOOKUP($C$1,日誌ﾃﾞｰﾀ,183)","v":0},0,0,0,0,0,0,null,3,{"$f":"VLOOKUP($C$1,日誌ﾃﾞｰﾀ,38)","v":14},{"$f":"VLOOKUP($C$1,日誌ﾃﾞｰﾀ,62)","v":21},{"$f":"SUM(L60:M61)","v":35},{"$f":"IF(VLOOKUP($C$1,日誌ﾃﾞｰﾀ,110)=\"\",\"\",VLOOKUP($C$1,日誌ﾃﾞｰﾀ,110))","v":""},{"$f":"VLOOKUP($C$1,日誌ﾃﾞｰﾀ,134)","v":0},{"$f":"VLOOKUP($C$1,日誌ﾃﾞｰﾀ,158)","v":0},{"$f":"VLOOKUP($C$1,日誌ﾃﾞｰﾀ,182)","v":0},{"$f":"IF(VLOOKUP($C$1,日誌ﾃﾞｰﾀ,206)=\"\",\"\",VLOOKUP($C$1,日誌ﾃﾞｰﾀ,206))","v":""},{"$f":"IF(VLOOKUP($C$1,日誌ﾃﾞｰﾀ,230)=\"\",\"\",VLOOKUP($C$1,日誌ﾃﾞｰﾀ,230))","v":""},{"$f":"IF(VLOOKUP($C$1,日誌ﾃﾞｰﾀ,254)=\"\",\"\",VLOOKUP($C$1,日誌ﾃﾞｰﾀ,254))","v":""}]
[null,{"$f":"VLOOKUP($C$1,日誌ﾃﾞｰﾀ,183)","v":0},0,0,0,0,0,0,0,null,null,null,null,null,null,null,null,null,{"$f":"IF(VLOOKUP($C$1,日誌ﾃﾞｰﾀ,278)=\"\",\"\",VLOOKUP($C$1,日誌ﾃﾞｰﾀ,278))","v":""},{"$f":"IF(VLOOKUP($C$1,日誌ﾃﾞｰﾀ,302)=\"\",\"\",VLOOKUP($C$1,日誌ﾃﾞｰﾀ,302))","v":""},{"$f":"IF(VLOOKUP($C$1,日誌ﾃﾞｰﾀ,326)=\"\",\"\",VLOOKUP($C$1,日誌ﾃﾞｰﾀ,326))","v":""}]
[null,{"$f":"VLOOKUP($C$1,日誌ﾃﾞｰﾀ,183)","v":0},0,0,0,0,0,0,0,null,4,{"$f":"VLOOKUP($C$1,日誌ﾃﾞｰﾀ,39)","v":13},{"$f":"VLOOKUP($C$1,日誌ﾃﾞｰﾀ,63)","v":18},{"$f":"SUM(L62:M63)","v":31},{"$f":"IF(VLOOKUP($C$1,日誌ﾃﾞｰﾀ,111)=\"\",\"\",VLOOKUP($C$1,日誌ﾃﾞｰﾀ,111))","v":""},{"$f":"VLOOKUP($C$1,日誌ﾃﾞｰﾀ,135)","v":0},{"$f":"VLOOKUP($C$1,日誌ﾃﾞｰﾀ,159)","v":0},{"$f":"VLOOKUP($C$1,日誌ﾃﾞｰﾀ,183)","v":0},{"$f":"IF(VLOOKUP($C$1,日誌ﾃﾞｰﾀ,207)=\"\",\"\",VLOOKUP($C$1,日誌ﾃﾞｰﾀ,207))","v":""},{"$f":"IF(VLOOKUP($C$1,日誌ﾃﾞｰﾀ,231)=\"\",\"\",VLOOKUP($C$1,日誌ﾃﾞｰﾀ,231))","v":""},{"$f":"IF(VLOOKUP($C$1,日誌ﾃﾞｰﾀ,255)=\"\",\"\",VLOOKUP($C$1,日誌ﾃﾞｰﾀ,255))","v":""}]
[null,{"$f":"VLOOKUP($C$1,日誌ﾃﾞｰﾀ,183)","v":0},0,0,0,0,0,0,0,null,null,null,null,null,null,null,null,null,{"$f":"IF(VLOOKUP($C$1,日誌ﾃﾞｰﾀ,279)=\"\",\"\",VLOOKUP($C$1,日誌ﾃﾞｰﾀ,279))","v":""},{"$f":"IF(VLOOKUP($C$1,日誌ﾃﾞｰﾀ,303)=\"\",\"\",VLOOKUP($C$1,日誌ﾃﾞｰﾀ,303))","v":""},{"$f":"IF(VLOOKUP($C$1,日誌ﾃﾞｰﾀ,327)=\"\",\"\",VLOOKUP($C$1,日誌ﾃﾞｰﾀ,327))","v":""}]
[null,{"$f":"VLOOKUP($C$1,日誌ﾃﾞｰﾀ,183)","v":0},0,0,0,0,0,0,0,null,"小計",{"$f":"SUM(L56:L63)","v":59},{"$f":"SUM(M56:M63)","v":74},133,{"$f":"IF(SUM(O56:O63)=0,\"\",SUM(O56:O63))","v":""},{"$f":"IF(COUNT(P56:P63)=4,SUM(P56:P63),\"\")","v":0},{"$f":"IF(COUNT(Q56:Q63)=4,SUM(Q56:Q63),\"\")","v":0},0,{"$f":"IF(SUM(S56,S58,S60,S62)=0,\"\",SUM(S56,S58,S60,S62))","v":""},{"$f":"IF(SUM(T56,T58,T60,T62)=0,\"\",SUM(T56,T58,T60,T62))","v":""},{"$f":"IF(SUM(U56,U58,U60,U62)=0,\"\",SUM(U56,U58,U60,U62))","v":""}]
["授業日数",null,null,"1年","2年","3年","4年","5年","6年",null,null,null,null,null,null,null,null,null,{"$f":"IF(SUM(S57,S59,S61,S63)=0,\"\",SUM(S57,S59,S61,S63))","v":""},"",""]
[null,null,null,{"$f":"VLOOKUP($C$1,日誌ﾃﾞｰﾀ,9)","v":0},{"$f":"VLOOKUP($C$1,日誌ﾃﾞｰﾀ,10)","v":0},{"$f":"VLOOKUP($C$1,日誌ﾃﾞｰﾀ,11)","v":0},{"$f":"VLOOKUP($C$1,日誌ﾃﾞｰﾀ,12)","v":0},{"$f":"VLOOKUP($C$1,日誌ﾃﾞｰﾀ,13)","v":0},{"$f":"VLOOKUP($C$1,日誌ﾃﾞｰﾀ,14)","v":0},"合計",null,{"$f":"SUM(L14,L24,L34,L44,L54,L64)","v":341},{"$f":"SUM(M14,M24,M34,M44,M54,M64)","v":474},815,{"$f":"IF(SUM(O14,O24,O34,O44,O54,O64)=0,\"\",SUM(O14,O24,O34,O44,O54,O64))","v":""},{"$f":"IF(COUNT(P14,P24,P34,P44,P54,P64)=6,SUM(P14,P24,P34,P44,P54,P64),\"\")","v":0},{"$f":"IF(COUNT(Q14,Q24,Q34,Q44,Q54,Q64)=6,SUM(Q14,Q24,Q34,Q44,Q54,Q64),\"\")","v":0},0,{"$f":"IF(SUM(S14,S24,S34,S44,S54,S64)=0,\"\",SUM(S14,S24,S34,S44,S54,S64))","v":""},{"$f":"IF(SUM(T14,T24,T34,T44,T54,T64)=0,\"\",SUM(T14,T24,T34,T44,T54,T64))","v":""},""]
[null,null,null,{"$f":"VLOOKUP($C$1,日誌ﾃﾞｰﾀ,183)","v":0},0,0,0,0,0,null,null,null,null,null,null,null,null,null,{"$f":"IF(SUM(S15,S25,S35,S45,S55,S65)=0,\"\",SUM(S15,S25,S35,S45,S55,S65))","v":""},"",""]
["当番",null,"氏名",null,null,null,null,"印",null,"在籍移動",{"$f":"IF(VLOOKUP($C$1,日誌ﾃﾞｰﾀ,328)=\"\",\"\",VLOOKUP($C$1,日誌ﾃﾞｰﾀ,328))","v":""},{"$f":"VLOOKUP($C$1,日誌ﾃﾞｰﾀ,183)","v":0},0,0,0,0,0,0,0,0,0]
[null,null,null,null,null,null,null,null,null,null,{"$f":"VLOOKUP($C$1,日誌ﾃﾞｰﾀ,183)","v":0},0,0,0,0,0,0,0,0,0,0]
[null,null,null,null,null,null,null,null,null,null,{"$f":"VLOOKUP($C$1,日誌ﾃﾞｰﾀ,183)","v":0},0,0,0,0,0,0,0,0,0,0]
["施設\n状況",null,{"$f":"IF(VLOOKUP($C$1,日誌ﾃﾞｰﾀ,15)=\"\",\"\",VLOOKUP($C$1,日誌ﾃﾞｰﾀ,15))","v":""},{"$f":"VLOOKUP($C$1,日誌ﾃﾞｰﾀ,183)","v":0},0,0,0,0,0,null,{"$f":"VLOOKUP($C$1,日誌ﾃﾞｰﾀ,183)","v":0},0,0,0,0,0,0,0,0,0,0]
[null,null,{"$f":"VLOOKUP($C$1,日誌ﾃﾞｰﾀ,183)","v":0},0,0,0,0,0,0,null,{"$f":"VLOOKUP($C$1,日誌ﾃﾞｰﾀ,183)","v":0},0,0,0,0,0,0,0,0,0,0]
[null,null,{"$f":"VLOOKUP($C$1,日誌ﾃﾞｰﾀ,183)","v":0},0,0,0,0,0,0,null,{"$f":"VLOOKUP($C$1,日誌ﾃﾞｰﾀ,183)","v":0},0,0,0,0,0,0,0,0,0,0]
[]
[]
[]
[]
[]
[]
[]
[]
[]
[]
[]
[]
["晴れ"]
["曇り"]
["雨"]
["雪"]
["晴れのち曇り"]
["晴れのち雨"]
["晴れのち雪"]
["曇りのち晴れ"]
["曇りのち雨"]
["曇りのち雪"]
["雨のち晴れ"]
["雨のち曇り"]
["雨のち雪"]
["雪のち晴れ"]
["雪のち曇り"]
["雪のち雨"]

{"sheet":"仙台青陵記入例","index":2,"n_rows":71,"n_cols":21,"rows_kept":71,"cut":false,"hidden":false,"merged":[[0,0,0,1],[0,7,0,8],[61,11,62,11],[61,12,62,12],[61,13,62,13],[67,9,72,9],[67,10,72,20],[70,0,72,1],[65,8,66,8],[65,9,66,10],[65,11,66,11],[65,12,66,12],[65,13,66,13],[65,14,66,14],[64,0,66,2],[65,3,66,3],[65,4,66,4],[65,5,66,5],[65,6,66,6],[65,7,66,7],[63,14,64,14],[63,15,64,15],[63,16,64,16],[63,17,64,17],[70,2,72,8],[59,0,63,0],[65,15,66,15],[65,16,66,16],[65,17,66,17],[67,0,69,1],[67,2,69,2],[67,3,69,6],[67,7,69,8],[59,12,60,12],[59,13,60,13],[59,14,60,14],[59,15,60,15],[59,16,60,16],[59,17,60,17],[61,10,62,10],[59,1,63,8],[59,10,60,10],[59,11,60,11],[55,17,56,17],[57,0,58,8],[57,10,58,10],[57,11,58,11],[57,12,58,12],[57,13,58,13],[57,14,58,14],[57,15,58,15],[57,16,58,16],[57,17,58,17],[53,16,54,16],[53,17,54,17],[55,9,64,9],[55,10,56,10],[55,11,56,11],[55,12,56,12],[55,13,56,13],[55,14,56,14],[55,15,56,15],[55,16,56,16],[53,10,54,10],[53,11,54,11],[53,12,54,12],[53,13,54,13],[53,14,54,14],[53,15,54,15],[61,14,62,14],[61,15,62,15],[61,16,62,16],[61,17,62,17],[63,10,64,10],[63,11,64,11],[63,12,64,12],[63,13,64,13],[47,17,48,17],[49,16,50,16],[49,17,50,17],[51,10,52,10],[51,11,52,11],[51,12,52,12],[51,13,52,13],[51,14,52,14],[51,15,52,15],[51,16,52,16],[51,17,52,17],[49,10,50,10],[49,11,50,11],[49,12,50,12],[49,13,50,13],[49,14,50,14],[49,15,50,15],[43,16,44,16],[43,17,44,17],[45,9,54,9],[45,10,46,10],[45,11,46,11],[45,12,46,12],[45,13,46,13],[45,14,46,14],[45,15,46,15],[45,16,46,16],[43,10,44,10],[43,11,44,11],[43,12,44,12],[43,13,44,13],[43,14,44,14],[43,15,44,15],[45,17,46,17],[47,10,48,10],[47,11,48,11],[47,12,48,12],[47,13,48,13],[47,14,48,14],[47,15,48,15],[47,16,48,16],[37,17,38,17],[39,16,40,16],[39,17,40,17],[41,10,42,10],[41,11,42,11],[41,12,42,12],[41,13,42,13],[41,14,42,14],[41,15,42,15],[41,16,42,16],[41,17,42,17],[39,10,40,10],[39,11,40,11],[39,12,40,12],[39,13,40,13],[39,14,40,14],[39,15,40,15],[33,16,34,16],[33,17,34,17],[35,9,44,9],[35,10,36,10],[35,11,36,11],[35,12,36,12],[35,13,36,13],[35,14,36,14],[35,15,36,15],[35,16,36,16],[33,10,34,10],[33,11,34,11],[33,12,34,12],[33,13,34,13],[33,14,34,14],[33,15,34,15],[35,17,36,17],[37,10,38,10],[37,11,38,11],[37,12,38,12],[37,13,38,13],[37,14,38,14],[37,15,38,15],[37,16,38,16],[29,10,30,10],[29,11,30,11],[29,12,30,12],[29,13,30,13],[29,14,30,14],[29,15,30,15],[29,16,30,16],[29,17,30,17],[31,10,32,10],[31,11,32,11],[31,12,32,12],[31,13,32,13],[31,14,32,14],[31,15,32,15],[31,16,32,16],[31,17,32,17],[23,14,24,14],[23,15,24,15],[23,16,24,16],[23,17,24,17],[25,0,26,8],[25,9,34,9],[25,10,26,10],[25,11,26,11],[25,12,26,12],[25,13,26,13],[25,14,26,14],[25,15,26,15],[25,16,26,16],[25,17,26,17],[27,0,56,0],[27,1,56,8],[27,10,28,10],[27,11,28,11],[27,12,28,12],[27,13,28,13],[27,14,28,14],[27,15,28,15],[27,16,28,16],[27,17,28,17],[19,10,20,10],[19,11,20,11],[19,12,20,12],[19,13,20,13],[19,14,20,14],[19,15,20,15],[19,16,20,16],[19,17,20,17],[21,10,22,10],[21,11,22,11],[21,12,22,12],[21,13,22,13],[21,14,22,14],[21,15,22,15],[21,16,22,16],[21,17,22,17],[15,14,16,14],[15,15,16,15],[15,16,16,16],[15,17,16,17],[16,0,24,0],[16,1,24,8],[17,10,18,10],[17,11,18,11],[17,12,18,12],[17,13,18,13],[14,0,15,8],[15,9,24,9],[15,10,16,10],[15,11,16,11],[15,12,16,12],[15,13,16,13],[23,10,24,10],[23,11,24,11],[23,12,24,12],[23,13,24,13],[17,14,18,14],[17,15,18,15],[17,16,18,16],[17,17,18,17],[11,17,12,17],[13,10,14,10],[13,11,14,11],[13,12,14,12],[13,13,14,13],[13,14,14,14],[13,15,14,15],[13,16,14,16],[13,17,14,17],[11,10,12,10],[11,11,12,11],[11,12,12,12],[11,13,12,13],[11,14,12,14],[11,15,12,15],[1,0,4,1],[1,2,4,3],[1,4,4,4],[1,5,4,6],[5,17,6,17],[7,0,13,0],[7,1,13,8],[7,10,8,10],[7,11,8,11],[7,12,8,12],[7,13,8,13],[7,14,8,14],[7,15,8,15],[7,16,8,16],[7,17,8,17],[9,10,10,10],[9,11,10,11],[9,12,10,12],[9,13,10,13],[9,14,10,14],[9,15,10,15],[9,16,10,16],[9,17,10,17],[11,16,12,16],[5,0,6,8],[5,9,14,9],[5,10,6,10],[5,11,6,11],[5,12,6,12],[5,13,6,13],[5,14,6,14],[5,15,6,15],[5,16,6,16],[1,7,4,8],[1,9,4,9],[0,2,0,5],[0,9,0,10],[0,11,0,12],[0,13,0,14],[0,15,0,16],[0,17,0,18],[2,18,2,20],[1,10,4,10],[1,11,1,13],[1,14,4,14],[1,15,1,20],[2,11,4,11],[2,12,4,12],[2,13,4,13],[2,15,4,15],[2,16,4,16],[2,17,4,17]]}
[null,null,"2014-04-01",null,null,null,"天候"]
["校長",null,null,null,"教頭",null,null,null,null,"学年","学級","在籍者数",null,null,"休学","欠席者等の数"]
[null,null,null,null,null,null,null,null,null,null,null,"男","女","計",null,"遅刻","早退","欠席","その他"]
[null,null,null,null,null,null,null,null,null,null,null,null,null,null,null,null,null,null,"公欠","忌引","出停"]
[null,null,null,null,null,null,null,null,null,null,null,null,null,null,null,null,null,null,"受験","その他","停学"]
["１．行事等",null,null,null,null,null,null,null,null,"一年",1,17,18,{"$f":"SUM(L6:M7)","v":35},null,1,2,3,1,1]
[null,null,null,null,null,null,null,null,null,null,null,null,null,null,null,null,null,null,null,1]
[null,"３年九州旅行\n４年英語事前研修",null,null,null,null,null,null,null,null,2,null,null,{"$f":"SUM(L8:M9)","v":0},null,0,0,0]
[]
[null,null,null,null,null,null,null,null,null,null,3,null,null,{"$f":"SUM(L10:M11)","v":0},null,0,0,0]
[]
[null,null,null,null,null,null,null,null,null,null,4,null,null,{"$f":"SUM(L12:M13)","v":0},null,0,1,3]
[]
[null,null,null,null,null,null,null,null,null,null,"小計",{"$f":"SUM(L6:L13)","v":17},{"$f":"SUM(M6:M13)","v":18},35,{"$f":"IF(SUM(O6:O13)=0,\"\",SUM(O6:O13))","v":""},{"$f":"IF(COUNT(P6:P13)=4,SUM(P6:P13),\"\")","v":1},{"$f":"IF(COUNT(Q6:Q13)=4,SUM(Q6:Q13),\"\")","v":3},6,{"$f":"IF(SUM(S6,S8,S10,S12)=0,\"\",SUM(S6,S8,S10,S12))","v":1},{"$f":"IF(SUM(T6,T8,T10,T12)=0,\"\",SUM(T6,T8,T10,T12))","v":1},{"$f":"IF(SUM(U6,U8,U10,U12)=0,\"\",SUM(U6,U8,U10,U12))","v":""}]
["２．打合せ事項",null,null,null,null,null,null,null,null,null,null,null,null,null,null,null,null,null,{"$f":"IF(SUM(S7,S9,S11,S13)=0,\"\",SUM(S7,S9,S11,S13))","v":""},1,""]
[null,null,null,null,null,null,null,null,null,"二年",1,null,null,{"$f":"SUM(L16:M17)","v":0},null,0,0,1,null,1]
[null,"九州旅行について（３年）\n４年英語事前研修について（４年）"]
[null,null,null,null,null,null,null,null,null,null,2,null,null,{"$f":"SUM(L18:M19)","v":0},null,0,0,0]
[]
[null,null,null,null,null,null,null,null,null,null,3,null,null,{"$f":"SUM(L20:M21)","v":0},null,0,0,0]
[]
[null,null,null,null,null,null,null,null,null,null,4,null,null,{"$f":"SUM(L22:M23)","v":0},null,0,0,0]
[]
[null,null,null,null,null,null,null,null,null,null,"小計",{"$f":"SUM(L16:L23)","v":0},{"$f":"SUM(M16:M23)","v":0},0,{"$f":"IF(SUM(O16:O23)=0,\"\",SUM(O16:O23))","v":""},{"$f":"IF(COUNT(P16:P23)=4,SUM(P16:P23),\"\")","v":0},{"$f":"IF(COUNT(Q16:Q23)=4,SUM(Q16:Q23),\"\")","v":0},1,{"$f":"IF(SUM(S16,S18,S20,S22)=0,\"\",SUM(S16,S18,S20,S22))","v":""},{"$f":"IF(SUM(T16,T18,T20,T22)=0,\"\",SUM(T16,T18,T20,T22))","v":1},{"$f":"IF(SUM(U16,U18,U20,U22)=0,\"\",SUM(U16,U18,U20,U22))","v":""}]
[null,null,null,null,null,null,null,null,null,null,null,null,null,null,null,null,null,null,{"$f":"IF(SUM(S17,S19,S21,S23)=0,\"\",SUM(S17,S19,S21,S23))","v":""},"",""]
["３．職員状況",null,null,null,null,null,null,null,null,"三年",1,null,null,{"$f":"SUM(L26:M27)","v":0}]
[]
[null,"《出張》\n校長　13:00　ホテル白萩\n鈴木　14:00　県庁\n大築　11:00　青葉体育館\n小松　終日 　ニュージーランド\n\n《年休》\n菅井（前4）\n山本（後3）\n高山（1日）\n藤原（8）\n\n《病休》\n吉田\n\n《育休》\n佐藤光\n\n《職専免》\n市原（8）\n高倉（1日）",null,null,null,null,null,null,null,null,2,null,null,{"$f":"SUM(L28:M29)","v":0}]
[]
[null,null,null,null,null,null,null,null,null,null,3,null,null,{"$f":"SUM(L30:M31)","v":0}]
[]
[null,null,null,null,null,null,null,null,null,null,4,null,null,{"$f":"SUM(L32:M33)","v":0}]
[]
[null,null,null,null,null,null,null,null,null,null,"小計",{"$f":"SUM(L26:L33)","v":0},{"$f":"SUM(M26:M33)","v":0},0,{"$f":"IF(SUM(O26:O33)=0,\"\",SUM(O26:O33))","v":""},{"$f":"IF(COUNT(P26:P33)=4,SUM(P26:P33),\"\")","v":""},{"$f":"IF(COUNT(Q26:Q33)=4,SUM(Q26:Q33),\"\")","v":""},"",{"$f":"IF(SUM(S26,S28,S30,S32)=0,\"\",SUM(S26,S28,S30,S32))","v":""},{"$f":"IF(SUM(T26,T28,T30,T32)=0,\"\",SUM(T26,T28,T30,T32))","v":""},{"$f":"IF(SUM(U26,U28,U30,U32)=0,\"\",SUM(U26,U28,U30,U32))","v":""}]
[null,null,null,null,null,null,null,null,null,null,null,null,null,null,null,null,null,null,{"$f":"IF(SUM(S27,S29,S31,S33)=0,\"\",SUM(S27,S29,S31,S33))","v":""},"",""]
[null,null,null,null,null,null,null,null,null,"四年",1,null,null,{"$f":"SUM(L36:M37)","v":0},null,1]
[]
[null,null,null,null,null,null,null,null,null,null,2,null,null,{"$f":"SUM(L38:M39)","v":0},null,1]
[]
[null,null,null,null,null,null,null,null,null,null,3,null,null,{"$f":"SUM(L40:M41)","v":0},null,1]
[]
[null,null,null,null,null,null,null,null,null,null,4,null,null,{"$f":"SUM(L42:M43)","v":0}]
[]
[null,null,null,null,null,null,null,null,null,null,"小計",{"$f":"SUM(L36:L43)","v":0},{"$f":"SUM(M36:M43)","v":0},0,{"$f":"IF(SUM(O36:O43)=0,\"\",SUM(O36:O43))","v":""},{"$f":"IF(COUNT(P36:P43)=4,SUM(P36:P43),\"\")","v":""},{"$f":"IF(COUNT(Q36:Q43)=4,SUM(Q36:Q43),\"\")","v":""},"",{"$f":"IF(SUM(S36,S38,S40,S42)=0,\"\",SUM(S36,S38,S40,S42))","v":""},{"$f":"IF(SUM(T36,T38,T40,T42)=0,\"\",SUM(T36,T38,T40,T42))","v":""},{"$f":"IF(SUM(U36,U38,U40,U42)=0,\"\",SUM(U36,U38,U40,U42))","v":""}]
[null,null,null,null,null,null,null,null,null,null,null,null,null,null,null,null,null,null,{"$f":"IF(SUM(S37,S39,S41,S43)=0,\"\",SUM(S37,S39,S41,S43))","v":""},"",""]
[null,null,null,null,null,null,null,null,null,"五年",1,null,null,{"$f":"SUM(L46:M47)","v":0}]
[]
[null,null,null,null,null,null,null,null,null,null,2,null,null,{"$f":"SUM(L48:M49)","v":0}]
[]
[null,null,null,null,null,null,null,null,null,null,3,null,null,{"$f":"SUM(L50:M51)","v":0}]
[]
[null,null,null,null,null,null,null,null,null,null,4,null,null,{"$f":"SUM(L52:M53)","v":0}]
[]
[null,null,null,null,null,null,null,null,null,null,"小計",{"$f":"SUM(L46:L53)","v":0},{"$f":"SUM(M46:M53)","v":0},0,{"$f":"IF(SUM(O46:O53)=0,\"\",SUM(O46:O53))","v":""},{"$f":"IF(COUNT(P46:P53)=4,SUM(P46:P53),\"\")","v":""},{"$f":"IF(COUNT(Q46:Q53)=4,SUM(Q46:Q53),\"\")","v":""},"",{"$f":"IF(SUM(S46,S48,S50,S52)=0,\"\",SUM(S46,S48,S50,S52))","v":""},{"$f":"IF(SUM(T46,T48,T50,T52)=0,\"\",SUM(T46,T48,T50,T52))","v":""},{"$f":"IF(SUM(U46,U48,U50,U52)=0,\"\",SUM(U46,U48,U50,U52))","v":""}]
[null,null,null,null,null,null,null,null,null,null,null,null,null,null,null,null,null,null,{"$f":"IF(SUM(S47,S49,S51,S53)=0,\"\",SUM(S47,S49,S51,S53))","v":""},"",""]
[null,null,null,null,null,null,null,null,null,"六年",1,null,null,{"$f":"SUM(L56:M57)","v":0}]
[]
["３．その他",null,null,null,null,null,null,null,null,null,2,null,null,{"$f":"SUM(L58:M59)","v":0}]
[]
[null,"暴風雨のため授業開始15分遅れ",null,null,null,null,null,null,null,null,3,null,null,{"$f":"SUM(L60:M61)","v":0}]
[]
[null,null,null,null,null,null,null,null,null,null,4,null,null,{"$f":"SUM(L62:M63)","v":0}]
[]
[null,null,null,null,null,null,null,null,null,null,"小計",{"$f":"SUM(L56:L63)","v":0},{"$f":"SUM(M56:M63)","v":0},0,{"$f":"IF(SUM(O56:O63)=0,\"\",SUM(O56:O63))","v":""},{"$f":"IF(COUNT(P56:P63)=4,SUM(P56:P63),\"\")","v":""},{"$f":"IF(COUNT(Q56:Q63)=4,SUM(Q56:Q63),\"\")","v":""},"",{"$f":"IF(SUM(S56,S58,S60,S62)=0,\"\",SUM(S56,S58,S60,S62))","v":""},{"$f":"IF(SUM(T56,T58,T60,T62)=0,\"\",SUM(T56,T58,T60,T62))","v":""},{"$f":"IF(SUM(U56,U58,U60,U62)=0,\"\",SUM(U56,U58,U60,U62))","v":""}]
["授業日数",null,null,"1年","2年","3年","4年","5年","6年",null,null,null,null,null,null,null,null,null,{"$f":"IF(SUM(S57,S59,S61,S63)=0,\"\",SUM(S57,S59,S61,S63))","v":""},"",""]
[null,null,null,null,null,null,null,null,null,"合計",null,{"$f":"SUM(L14,L24,L34,L44,L54,L64)","v":17},{"$f":"SUM(M14,M24,M34,M44,M54,M64)","v":18},35,{"$f":"IF(SUM(O14,O24,O34,O44,O54,O64)=0,\"\",SUM(O14,O24,O34,O44,O54,O64))","v":""},{"$f":"IF(COUNT(P14,P24,P34,P44,P54,P64)=6,SUM(P14,P24,P34,P44,P54,P64),\"\")","v":""},{"$f":"IF(COUNT(Q14,Q24,Q34,Q44,Q54,Q64)=6,SUM(Q14,Q24,Q34,Q44,Q54,Q64),\"\")","v":""},"",{"$f":"IF(SUM(S14,S24,S34,S44,S54,S64)=0,\"\",SUM(S14,S24,S34,S44,S54,S64))","v":1},{"$f":"IF(SUM(T14,T24,T34,T44,T54,T64)=0,\"\",SUM(T14,T24,T34,T44,T54,T64))","v":2},""]
[null,null,null,null,null,null,null,null,null,null,null,null,null,null,null,null,null,null,{"$f":"IF(SUM(S15,S25,S35,S45,S55,S65)=0,\"\",SUM(S15,S25,S35,S45,S55,S65))","v":""},1,""]
["当番",null,"氏名",null,null,null,null,"印",null,"在籍移動","2000　○○○○　休学"]
[]
[]
["施設\n状況",null,"異状なし"]

{"sheet":"行事","index":3,"n_rows":376,"n_cols":328,"rows_kept":376,"cut":false,"hidden":false,"merged":[[0,279,1,302],[0,303,1,326],[0,327,2,327],[0,159,1,182],[0,183,1,206],[0,207,1,230],[0,231,1,254],[0,255,1,278],[0,63,0,86],[1,63,1,86],[0,87,1,110],[0,111,1,134],[0,135,1,158],[0,14,2,14],[1,15,1,38],[0,15,0,38],[0,39,0,62],[1,39,1,62],[0,5,2,5],[0,6,2,6],[0,7,2,7],[0,8,1,13],[0,0,2,0],[0,1,2,1],[0,2,2,2],[0,3,2,3],[0,4,2,4]]}
["年月日","曜","行","天候","行事等","打合事項","職員状況","その他","授業日数",null,null,null,null,null,"施設状況","在籍者数",null,null,null,null,null,null,null,null,null,null,null,null,null,null,null,null,null,null,null,null,null,null,null,"在籍者数",null,null,null,null,null,null,null,null,null,null,null,null,null,null,null,null,null,null,null,null,null,null,null,"在籍者数",null,null,null,null,null,null,null,null,null,null,null,null,null,null,null,null,null,null,null,null,null,null,null,"休学",null,null,null,null,null,null,null,null,null,null,null,null,null,null,null,null,null,null,null,null,null,null,null,"遅刻",null,null,null,null,null,null,null,null,null,null,null,null,null,null,null,null,null,null,null,null,null,null,null,"早退",null,null,null,null,null,null,null,null,null,null,null,null,null,null,null,null,null,null,null,null,null,null,null,"欠席",null,null,null,null,null,null,null,null,null,null,null,null,null,null,null,null,null,null,null,null,null,null,null,"公欠",null,null,null,null,null,null,null,null,null,null,null,null,null,null,null,null,null,null,null,null,null,null,null,"忌引",null,null,null,null,null,null,null,null,null,null,null,null,null,null,null,null,null,null,null,null,null,null,null,"出席停止",null,null,null,null,null,null,null,null,null,null,null,null,null,null,null,null,null,null,null,null,null,null,null,"受験",null,null,null,null,null,null,null,null,null,null,null,null,null,null,null,null,null,null,null,null,null,null,null,"その他",null,null,null,null,null,null,null,null,null,null,null,null,null,null,null,null,null,null,null,null,null,null,null,"停学",null,null,null,null,null,null,null,null,null,null,null,null,null,null,null,null,null,null,null,null,null,null,null,"在籍移動"]
[null,null,null,null,null,null,null,null,null,null,null,null,null,null,null,"男",null,null,null,null,null,null,null,null,null,null,null,null,null,null,null,null,null,null,null,null,null,null,null,"女",null,null,null,null,null,null,null,null,null,null,null,null,null,null,null,null,null,null,null,null,null,null,null,"計"]
[null,null,null,null,null,null,null,null,"1年","2年","3年","4年","5年","6年",null,"1-1","1-2","1-3","1-4","2-1","2-2","2-3","2-4","3-1","3-2","3-3","3-4","4-1","4-2","4-3","4-4","5-1","5-2","5-3","5-4","6-1","6-2","6-3","6-4","1-1","1-2","1-3","1-4","2-1","2-2","2-3","2-4","3-1","3-2","3-3","3-4","4-1","4-2","4-3","4-4","5-1","5-2","5-3","5-4","6-1","6-2","6-3","6-4","1-1","1-2","1-3","1-4","2-1","2-2","2-3","2-4","3-1","3-2","3-3","3-4","4-1","4-2","4-3","4-4","5-1","5-2","5-3","5-4","6-1","6-2","6-3","6-4","1-1","1-2","1-3","1-4","2-1","2-2","2-3","2-4","3-1","3-2","3-3","3-4","4-1","4-2","4-3","4-4","5-1","5-2","5-3","5-4","6-1","6-2","6-3","6-4","1-1","1-2","1-3","1-4","2-1","2-2","2-3","2-4","3-1","3-2","3-3","3-4","4-1","4-2","4-3","4-4","5-1","5-2","5-3","5-4","6-1","6-2","6-3","6-4","1-1","1-2","1-3","1-4","2-1","2-2","2-3","2-4","3-1","3-2","3-3","3-4","4-1","4-2","4-3","4-4","5-1","5-2","5-3","5-4","6-1","6-2","6-3","6-4","1-1","1-2","1-3","1-4","2-1","2-2","2-3","2-4","3-1","3-2","3-3","3-4","4-1","4-2","4-3","4-4","5-1","5-2","5-3","5-4","6-1","6-2","6-3","6-4","1-1","1-2","1-3","1-4","2-1","2-2","2-3","2-4","3-1","3-2","3-3","3-4","4-1","4-2","4-3","4-4","5-1","5-2","5-3","5-4","6-1","6-2","6-3","6-4","1-1","1-2","1-3","1-4","2-1","2-2","2-3","2-4","3-1","3-2","3-3","3-4","4-1","4-2","4-3","4-4","5-1","5-2","5-3","5-4","6-1","6-2","6-3","6-4","1-1","1-2","1-3","1-4","2-1","2-2","2-3","2-4","3-1","3-2","3-3","3-4","4-1","4-2","4-3","4-4","5-1","5-2","5-3","5-4","6-1","6-2","6-3","6-4","1-1","1-2","1-3","1-4","2-1","2-2","2-3","2-4","3-1","3-2","3-3","3-4","4-1","4-2","4-3","4-4","5-1","5-2","5-3","5-4","6-1","6-2","6-3","6-4","1-1","1-2","1-3","1-4","2-1","2-2","2-3","2-4","3-1","3-2","3-3","3-4","4-1","4-2","4-3","4-4","5-1","5-2","5-3","5-4","6-1","6-2","6-3","6-4","1-1","1-2","1-3","1-4","2-1","2-2","2-3","2-4","3-1","3-2","3-3","3-4","4-1","4-2","4-3","4-4","5-1","5-2","5-3","5-4","6-1","6-2","6-3","6-4"]
[{"$f":"入力!$C$1","v":"2014-04-01"},{"$f":"$A$4","v":41730},"行です",{"$f":"入力!$Z$11","v":"晴れ"},{"$f":"IF(入力!$B$8=\"\",\"\",入力!$B$8)","v":"学年始休業，一斉赴任日，運営委員会"},{"$f":"IF(入力!$B$17=\"\",\"\",入力!$B$17)","v":""},{"$f":"IF(入力!$B$28=\"\",\"\",入力!$B$28)","v":"《出張》\n鈴木和　　　9:30　　東二番小\n高山・種井　8:00　　蔵王\n\n《年休》\n齋藤美（前4）\n山本　 (前2）"},{"$f":"IF(入力!$B$60=\"\",\"\",入力!$B$60)","v":""},{"$f":"入力!$D$66","v":0},{"$f":"入力!$E$66","v":0},{"$f":"入力!$F$66","v":0},{"$f":"入力!$G$66","v":0},{"$f":"入力!$H$66","v":0},{"$f":"入力!$I$66","v":0},{"$f":"IF(入力!C71=\"\",\"\",入力!C71)","v":""},{"$f":"入力!$L$6","v":16},{"$f":"入力!$L$8","v":15},{"$f":"入力!$L$10","v":15},{"$f":"入力!$L$12","v":15},{"$f":"入力!$L$16","v":16},{"$f":"入力!$L$18","v":16},{"$f":"入力!$L$20","v":16},{"$f":"入力!$L$22","v":17},{"$f":"入力!$L$26","v":9},{"$f":"入力!$L$28","v":10},{"$f":"入力!$L$30","v":10},{"$f":"入力!$L$32","v":10},{"$f":"入力!$L$36","v":14},{"$f":"入力!$L$38","v":14},{"$f":"入力!$L$40","v":14},{"$f":"入力!$L$42","v":13},{"$f":"入力!$L$46","v":16},{"$f":"入力!$L$48","v":18},{"$f":"入力!$L$50","v":8},{"$f":"入力!$L$52","v":14},{"$f":"入力!$L$56","v":19},{"$f":"入力!$L$58","v":23},{"$f":"入力!$L$60","v":12},{"$f":"入力!$L$62","v":12},{"$f":"入力!$M$6","v":19},{"$f":"入力!$M$8","v":20},{"$f":"入力!$M$10","v":20},{"$f":"入力!$M$12","v":19},{"$f":"入力!$M$16","v":19},{"$f":"入力!$M$18","v":18},{"$f":"入力!$M$20","v":18},{"$f":"入力!$M$22","v":18},{"$f":"入力!$M$26","v":25},{"$f":"入力!$M$28","v":25},{"$f":"入力!$M$30","v":25},{"$f":"入力!$M$32","v":24},{"$f":"入力!$M$36","v":20},{"$f":"入力!$M$38","v":19},{"$f":"入力!$M$40","v":19},{"$f":"入力!$M$42","v":20},{"$f":"入力!$M$46","v":19},{"$f":"入力!$M$48","v":17},{"$f":"入力!$M$50","v":26},{"$f":"入力!$M$52","v":20},{"$f":"入力!$M$56","v":11},{"$f":"入力!$M$58","v":7},{"$f":"入力!$M$60","v":23},{"$f":"入力!$M$62","v":23},{"$f":"入力!$N$6","v":35},{"$f":"入力!$N$8","v":35},{"$f":"入力!$N$10","v":35},{"$f":"入力!$N$12","v":34},{"$f":"入力!$N$16","v":35},{"$f":"入力!$N$18","v":34},{"$f":"入力!$N$20","v":34},{"$f":"入力!$N$22","v":35},{"$f":"入力!$N$26","v":34},{"$f":"入力!$N$28","v":35},{"$f":"入力!$N$30","v":35},{"$f":"入力!$N$32","v":34},{"$f":"入力!$N$36","v":34},{"$f":"入力!$N$38","v":33},{"$f":"入力!$N$40","v":33},{"$f":"入力!$N$42","v":33},{"$f":"入力!$N$46","v":35},{"$f":"入力!$N$48","v":35},{"$f":"入力!$N$50","v":34},{"$f":"入力!$N$52","v":34},{"$f":"入力!$N$56","v":30},{"$f":"入力!$N$58","v":30},{"$f":"入力!$N$60","v":35},{"$f":"入力!$N$62","v":35},{"$f":"IF(入力!$O$6=\"\",\"\",入力!$O$6)","v":""},{"$f":"IF(入力!$O$8=\"\",\"\",入力!$O$8)","v":""},{"$f":"IF(入力!$O$10=\"\",\"\",入力!$O$10)","v":""},{"$f":"IF(入力!$O$12=\"\",\"\",入力!$O$12)","v":""},{"$f":"IF(入力!$O$16=\"\",\"\",入力!$O$16)","v":""},{"$f":"IF(入力!$O$18=\"\",\"\",入力!$O$18)","v":""},{"$f":"IF(入力!$O$20=\"\",\"\",入力!$O$20)","v":""},{"$f":"IF(入力!$O$22=\"\",\"\",入力!$O$22)","v":""},{"$f":"IF(入力!$O$26=\"\",\"\",入力!$O$26)","v":""},{"$f":"IF(入力!$O$28=\"\",\"\",入力!$O$28)","v":""},{"$f":"IF(入力!$O$30=\"\",\"\",入力!$O$30)","v":""},{"$f":"IF(入力!$O$32=\"\",\"\",入力!$O$32)","v":""},{"$f":"IF(入力!$O$36=\"\",\"\",入力!$O$36)","v":""},{"$f":"IF(入力!$O$38=\"\",\"\",入力!$O$38)","v":""},{"$f":"IF(入力!$O$40=\"\",\"\",入力!$O$40)","v":1},{"$f":"IF(入力!$O$42=\"\",\"\",入力!$O$42)","v":""},{"$f":"IF(入力!$O$46=\"\",\"\",入力!$O$46)","v":""},{"$f":"IF(入力!$O$48=\"\",\"\",入力!$O$48)","v":""},{"$f":"IF(入力!$O$50=\"\",\"\",入力!$O$50)","v":""},{"$f":"IF(入力!$O$52=\"\",\"\",入力!$O$52)","v":1},{"$f":"IF(入力!$O$56=\"\",\"\",入力!$O$56)","v":""},{"$f":"IF(入力!$O$58=\"\",\"\",入力!$O$58)","v":""},{"$f":"IF(入力!$O$60=\"\",\"\",入力!$O$60)","v":1},{"$f":"IF(入力!$O$62=\"\",\"\",入力!$O$62)","v":""},{"$f":"入力!$P$6","v":0},{"$f":"入力!$P$8","v":0},{"$f":"入力!$P$10","v":0},{"$f":"入力!$P$12","v":0},{"$f":"入力!$P$16","v":0},{"$f":"入力!$P$18","v":0},{"$f":"入力!$P$20","v":0},{"$f":"入力!$P$22","v":0},{"$f":"入力!$P$26","v":0},{"$f":"入力!$P$28","v":0},{"$f":"入力!$P$30","v":0},{"$f":"入力!$P$32","v":0},{"$f":"入力!$P$36","v":0},{"$f":"入力!$P$38","v":0},{"$f":"入力!$P$40","v":0},{"$f":"入力!$P$42","v":0},{"$f":"入力!$P$46","v":0},{"$f":"入力!$P$48","v":0},{"$f":"入力!$P$50","v":0},{"$f":"入力!$P$52","v":0},{"$f":"入力!$P$56","v":0},{"$f":"入力!$P$58","v":0},{"$f":"入力!$P$60","v":0},{"$f":"入力!$P$62","v":0},{"$f":"入力!$Q$6","v":0},{"$f":"入力!$Q$8","v":0},{"$f":"入力!$Q$10","v":0},{"$f":"入力!$Q$12","v":0},{"$f":"入力!$Q$16","v":0},{"$f":"入力!$Q$18","v":0},{"$f":"入力!$Q$20","v":0},{"$f":"入力!$Q$22","v":0},{"$f":"入力!$Q$26","v":0},{"$f":"入力!$Q$28","v":0},{"$f":"入力!$Q$30","v":0},{"$f":"入力!$Q$32","v":0},{"$f":"入力!$Q$36","v":0},{"$f":"入力!$Q$38","v":0},{"$f":"入力!$Q$40","v":0},{"$f":"入力!$Q$42","v":0},{"$f":"入力!$Q$46","v":0},{"$f":"入力!$Q$48","v":0},{"$f":"入力!$Q$50","v":0},{"$f":"入力!$Q$52","v":0},{"$f":"入力!$Q$56","v":0},{"$f":"入力!$Q$58","v":0},{"$f":"入力!$Q$60","v":0},{"$f":"入力!$Q$62","v":0},{"$f":"入力!$R$6","v":0},{"$f":"入力!$R$8","v":0},{"$f":"入力!$R$10","v":0},{"$f":"入力!$R$12","v":0},{"$f":"入力!$R$16","v":0},{"$f":"入力!$R$18","v":0},{"$f":"入力!$R$20","v":0},{"$f":"入力!$R$22","v":0},{"$f":"入力!$R$26","v":0},{"$f":"入力!$R$28","v":0},{"$f":"入力!$R$30","v":0},{"$f":"入力!$R$32","v":0},{"$f":"入力!$R$36","v":0},{"$f":"入力!$R$38","v":0},{"$f":"入力!$R$40","v":0},{"$f":"入力!$R$42","v":0},{"$f":"入力!$R$46","v":0},{"$f":"入力!$R$48","v":0},{"$f":"入力!$R$50","v":0},{"$f":"入力!$R$52","v":0},{"$f":"入力!$R$56","v":0},{"$f":"入力!$R$58","v":0},{"$f":"入力!$R$60","v":0},{"$f":"入力!$R$62","v":0},{"$f":"IF(入力!$S$6=\"\",\"\",入力!$S$6)","v":""},{"$f":"IF(入力!$S$8=\"\",\"\",入力!$S$8)","v":""},{"$f":"IF(入力!$S$10=\"\",\"\",入力!$S$10)","v":""},{"$f":"IF(入力!$S$12=\"\",\"\",入力!$S$12)","v":""},{"$f":"IF(入力!$S$16=\"\",\"\",入力!$S$16)","v":""},{"$f":"IF(入力!$S$18=\"\",\"\",入力!$S$18)","v":""},{"$f":"IF(入力!$S$20=\"\",\"\",入力!$S$20)","v":""},{"$f":"IF(入力!$S$22=\"\",\"\",入力!$S$22)","v":""},{"$f":"IF(入力!$S$26=\"\",\"\",入力!$S$26)","v":""},{"$f":"IF(入力!$S$28=\"\",\"\",入力!$S$28)","v":""},{"$f":"IF(入力!$S$30=\"\",\"\",入力!$S$30)","v":""},{"$f":"IF(入力!$S$32=\"\",\"\",入力!$S$32)","v":""},{"$f":"IF(入力!$S$36=\"\",\"\",入力!$S$36)","v":""},{"$f":"IF(入力!$S$38=\"\",\"\",入力!$S$38)","v":""},{"$f":"IF(入力!$S$40=\"\",\"\",入力!$S$40)","v":""},{"$f":"IF(入力!$S$42=\"\",\"\",入力!$S$42)","v":""},{"$f":"IF(入力!$S$46=\"\",\"\",入力!$S$46)","v":""},{"$f":"IF(入力!$S$48=\"\",\"\",入力!$S$48)","v":""},{"$f":"IF(入力!$S$50=\"\",\"\",入力!$S$50)","v":""},{"$f":"IF(入力!$S$52=\"\",\"\",入力!$S$52)","v":""},{"$f":"IF(入力!$S$56=\"\",\"\",入力!$S$56)","v":""},{"$f":"IF(入力!$S$58=\"\",\"\",入力!$S$58)","v":""},{"$f":"IF(入力!$S$60=\"\",\"\",入力!$S$60)","v":""},{"$f":"IF(入力!$S$62=\"\",\"\",入力!$S$62)","v":""},{"$f":"IF(入力!$T$6=\"\",\"\",入力!$T$6)","v":""},{"$f":"IF(入力!$T$8=\"\",\"\",入力!$T$8)","v":""},{"$f":"IF(入力!$T$10=\"\",\"\",入力!$T$10)","v":""},{"$f":"IF(入力!$T$12=\"\",\"\",入力!$T$12)","v":""},{"$f":"IF(入力!$T$16=\"\",\"\",入力!$T$16)","v":""},{"$f":"IF(入力!$T$18=\"\",\"\",入力!$T$18)","v":""},{"$f":"IF(入力!$T$20=\"\",\"\",入力!$T$20)","v":""},{"$f":"IF(入力!$T$22=\"\",\"\",入力!$T$22)","v":""},{"$f":"IF(入力!$T$26=\"\",\"\",入力!$T$26)","v":""},{"$f":"IF(入力!$T$28=\"\",\"\",入力!$T$28)","v":""},{"$f":"IF(入力!$T$30=\"\",\"\",入力!$T$30)","v":""},{"$f":"IF(入力!$T$32=\"\",\"\",入力!$T$32)","v":""},{"$f":"IF(入力!$T$36=\"\",\"\",入力!$T$36)","v":""},{"$f":"IF(入力!$T$38=\"\",\"\",入力!$T$38)","v":""},{"$f":"IF(入力!$T$40=\"\",\"\",入力!$T$40)","v":""},{"$f":"IF(入力!$T$42=\"\",\"\",入力!$T$42)","v":""},{"$f":"IF(入力!$T$46=\"\",\"\",入力!$T$46)","v":""},{"$f":"IF(入力!$T$48=\"\",\"\",入力!$T$48)","v":""},{"$f":"IF(入力!$T$50=\"\",\"\",入力!$T$50)","v":""},{"$f":"IF(入力!$T$52=\"\",\"\",入力!$T$52)","v":""},{"$f":"IF(入力!$T$56=\"\",\"\",入力!$T$56)","v":""},{"$f":"IF(入力!$T$58=\"\",\"\",入力!$T$58)","v":""},{"$f":"IF(入力!$T$60=\"\",\"\",入力!$T$60)","v":""},{"$f":"IF(入力!$T$62=\"\",\"\",入力!$T$62)","v":""},{"$f":"IF(入力!$U$6=\"\",\"\",入力!$U$6)","v":""},{"$f":"IF(入力!$U$8=\"\",\"\",入力!$U$8)","v":""},{"$f":"IF(入力!$U$10=\"\",\"\",入力!$U$10)","v":""},{"$f":"IF(入力!$U$12=\"\",\"\",入力!$U$12)","v":""},{"$f":"IF(入力!$U$16=\"\",\"\",入力!$U$16)","v":""},{"$f":"IF(入力!$U$18=\"\",\"\",入力!$U$18)","v":""},{"$f":"IF(入力!$U$20=\"\",\"\",入力!$U$20)","v":""},{"$f":"IF(入力!$U$22=\"\",\"\",入力!$U$22)","v":""},{"$f":"IF(入力!$U$26=\"\",\"\",入力!$U$26)","v":""},{"$f":"IF(入力!$U$28=\"\",\"\",入力!$U$28)","v":""},{"$f":"IF(入力!$U$30=\"\",\"\",入力!$U$30)","v":""},{"$f":"IF(入力!$U$32=\"\",\"\",入力!$U$32)","v":""},{"$f":"IF(入力!$U$36=\"\",\"\",入力!$U$36)","v":""},{"$f":"IF(入力!$U$38=\"\",\"\",入力!$U$38)","v":""},{"$f":"IF(入力!$U$40=\"\",\"\",入力!$U$40)","v":""},{"$f":"IF(入力!$U$42=\"\",\"\",入力!$U$42)","v":""},{"$f":"IF(入力!$U$46=\"\",\"\",入力!$U$46)","v":""},{"$f":"IF(入力!$U$48=\"\",\"\",入力!$U$48)","v":""},{"$f":"IF(入力!$U$50=\"\",\"\",入力!$U$50)","v":""},{"$f":"IF(入力!$U$52=\"\",\"\",入力!$U$52)","v":""},{"$f":"IF(入力!$U$56=\"\",\"\",入力!$U$56)","v":""},{"$f":"IF(入力!$U$58=\"\",\"\",入力!$U$58)","v":""},{"$f":"IF(入力!$U$60=\"\",\"\",入力!$U$60)","v":""},{"$f":"IF(入力!$U$62=\"\",\"\",入力!$U$62)","v":""},{"$f":"IF(入力!$S$7=\"\",\"\",入力!$S$7)","v":""},{"$f":"IF(入力!$S$9=\"\",\"\",入力!$S$9)","v":""},{"$f":"IF(入力!$S$11=\"\",\"\",入力!$S$11)","v":""},{"$f":"IF(入力!$S$13=\"\",\"\",入力!$S$13)","v":""},{"$f":"IF(入力!$S$17=\"\",\"\",入力!$S$17)","v":""},{"$f":"IF(入力!$S$19=\"\",\"\",入力!$S$19)","v":""},{"$f":"IF(入力!$S$21=\"\",\"\",入力!$S$21)","v":""},{"$f":"IF(入力!$S$23=\"\",\"\",入力!$S$23)","v":""},{"$f":"IF(入力!$S$27=\"\",\"\",入力!$S$27)","v":""},{"$f":"IF(入力!$S$29=\"\",\"\",入力!$S$29)","v":""},{"$f":"IF(入力!$S$31=\"\",\"\",入力!$S$31)","v":""},{"$f":"IF(入力!$S$33=\"\",\"\",入力!$S$33)","v":""},{"$f":"IF(入力!$S$37=\"\",\"\",入力!$S$37)","v":""},{"$f":"IF(入力!$S$39=\"\",\"\",入力!$S$39)","v":""},{"$f":"IF(入力!$S$41=\"\",\"\",入力!$S$41)","v":""},{"$f":"IF(入力!$S$43=\"\",\"\",入力!$S$43)","v":""},{"$f":"IF(入力!$S$47=\"\",\"\",入力!$S$47)","v":""},{"$f":"IF(入力!$S$49=\"\",\"\",入力!$S$49)","v":""},{"$f":"IF(入力!$S$51=\"\",\"\",入力!$S$51)","v":""},{"$f":"IF(入力!$S$53=\"\",\"\",入力!$S$53)","v":""},{"$f":"IF(入力!$S$57=\"\",\"\",入力!$S$57)","v":""},{"$f":"IF(入力!$S$59=\"\",\"\",入力!$S$59)","v":""},{"$f":"IF(入力!$S$61=\"\",\"\",入力!$S$61)","v":""},{"$f":"IF(入力!$S$63=\"\",\"\",入力!$S$63)","v":""},{"$f":"IF(入力!$T$7=\"\",\"\",入力!$T$7)","v":""},{"$f":"IF(入力!$T$9=\"\",\"\",入力!$T$9)","v":""},{"$f":"IF(入力!$T$11=\"\",\"\",入力!$T$11)","v":""},{"$f":"IF(入力!$T$13=\"\",\"\",入力!$T$13)","v":""},{"$f":"IF(入力!$T$17=\"\",\"\",入力!$T$17)","v":""},{"$f":"IF(入力!$T$19=\"\",\"\",入力!$T$19)","v":""},{"$f":"IF(入力!$T$21=\"\",\"\",入力!$T$21)","v":""},{"$f":"IF(入力!$T$23=\"\",\"\",入力!$T$23)","v":""},{"$f":"IF(入力!$T$27=\"\",\"\",入力!$T$27)","v":""},{"$f":"IF(入力!$T$29=\"\",\"\",入力!$T$29)","v":""},{"$f":"IF(入力!$T$31=\"\",\"\",入力!$T$31)","v":""},{"$f":"IF(入力!$T$33=\"\",\"\",入力!$T$33)","v":""},{"$f":"IF(入力!$T$37=\"\",\"\",入力!$T$37)","v":""},{"$f":"IF(入力!$T$39=\"\",\"\",入力!$T$39)","v":""},{"$f":"IF(入力!$T$41=\"\",\"\",入力!$T$41)","v":""},{"$f":"IF(入力!$T$43=\"\",\"\",入力!$T$43)","v":""},{"$f":"IF(入力!$T$47=\"\",\"\",入力!$T$47)","v":""},{"$f":"IF(入力!$T$49=\"\",\"\",入力!$T$49)","v":""},{"$f":"IF(入力!$T$51=\"\",\"\",入力!$T$51)","v":""},{"$f":"IF(入力!$T$53=\"\",\"\",入力!$T$53)","v":""},{"$f":"IF(入力!$T$57=\"\",\"\",入力!$T$57)","v":""},{"$f":"IF(入力!$T$59=\"\",\"\",入力!$T$59)","v":""},{"$f":"IF(入力!$T$61=\"\",\"\",入力!$T$61)","v":""},{"$f":"IF(入力!$T$63=\"\",\"\",入力!$T$63)","v":""},{"$f":"IF(入力!$U$7=\"\",\"\",入力!$U$7)","v":""},{"$f":"IF(入力!$U$9=\"\",\"\",入力!$U$9)","v":""},{"$f":"IF(入力!$U$11=\"\",\"\",入力!$U$11)","v":""},{"$f":"IF(入力!$U$13=\"\",\"\",入力!$U$13)","v":""},{"$f":"IF(入力!$U$17=\"\",\"\",入力!$U$17)","v":""},{"$f":"IF(入力!$U$19=\"\",\"\",入力!$U$19)","v":""},{"$f":"IF(入力!$U$21=\"\",\"\",入力!$U$21)","v":""},{"$f":"IF(入力!$U$23=\"\",\"\",入力!$U$23)","v":""},{"$f":"IF(入力!$U$27=\"\",\"\",入力!$U$27)","v":""},{"$f":"IF(入力!$U$29=\"\",\"\",入力!$U$29)","v":""},{"$f":"IF(入力!$U$31=\"\",\"\",入力!$U$31)","v":""},{"$f":"IF(入力!$U$33=\"\",\"\",入力!$U$33)","v":""},{"$f":"IF(入力!$U$37=\"\",\"\",入力!$U$37)","v":""},{"$f":"IF(入力!$U$39=\"\",\"\",入力!$U$39)","v":""},{"$f":"IF(入力!$U$41=\"\",\"\",入力!$U$41)","v":""},{"$f":"IF(入力!$U$43=\"\",\"\",入力!$U$43)","v":""},{"$f":"IF(入力!$U$47=\"\",\"\",入力!$U$47)","v":""},{"$f":"IF(入力!$U$49=\"\",\"\",入力!$U$49)","v":""},{"$f":"IF(入力!$U$51=\"\",\"\",入力!$U$51)","v":""},{"$f":"IF(入力!$U$53=\"\",\"\",入力!$U$53)","v":""},{"$f":"IF(入力!$U$57=\"\",\"\",入力!$U$57)","v":""},{"$f":"IF(入力!$U$59=\"\",\"\",入力!$U$59)","v":""},{"$f":"IF(入力!$U$61=\"\",\"\",入力!$U$61)","v":""},{"$f":"IF(入力!$U$63=\"\",\"\",入力!$U$63)","v":""},{"$f":"IF(入力!$K$68=\"\",\"\",入力!$K$68)","v":"4309　苅谷　拓海（休学）\n5432  米山　英夫（休学）\n6313  菅野　綾人（休学）"}]
[{"$f":"LOOKUP($A$4,年間日付,$C$11:$C$376)","v":11}]
[{"$f":"入力!$C$1","v":"2014-04-01"},null,null,null,{"$f":"LOOKUP(A6,年間!C6:C377,年間!F6:F377)","v":"学年始休業，一斉赴任日，運営委員会"},null,null,null,{"$f":"LOOKUP($A$6,年間!$C$6:$C$377,年間!$N$6:$N$377)","v":0},{"$f":"LOOKUP($A$6,年間!$C$6:$C$377,年間!$O$6:$O$377)","v":0},{"$f":"LOOKUP($A$6,年間!$C$6:$C$377,年間!$P$6:$P$377)","v":0},{"$f":"LOOKUP($A$6,年間!$C$6:$C$377,年間!$Q$6:$Q$377)","v":0},{"$f":"LOOKUP($A$6,年間!$C$6:$C$377,年間!$R$6:$R$377)","v":0},{"$f":"LOOKUP($A$6,年間!$C$6:$C$377,年間!$S$6:$S$377)","v":0}]
[1,2,3,4,5,6,7,8,9,10,11,12,13,14,15,16,17,18,19,20,21,22,23,24,25,26,27,28,29,30,31,32,33,34,35,36,37,38,39,40,41,42,43,44,45,46,47,48,49,50,51,52,53,54,55,56,57,58,59,60,61,62,63,64,65,66,67,68,69,70,71,72,73,74,75,76,77,78,79,80,81,82,83,84,85,86,87,88,89,90,91,92,93,94,95,96,97,98,99,100,101,102,103,104,105,106,107,108,109,110,111,112,113,114,115,116,117,118,119,120,121,122,123,124,125,126,127,128,129,130,131,132,133,134,135,136,137,138,139,140,141,142,143,144,145,146,147,148,149,150,151,152,153,154,155,156,157,158,159,160,161,162,163,164,165,166,167,168,169,170,171,172,173,174,175,176,177,178,179,180,181,182,183,184,185,186,187,188,189,190,191,192,193,194,195,196,197,198,199,200,201,202,203,204,205,206,207,208,209,210,211,212,213,214,215,216,217,218,219,220,221,222,223,224,225,226,227,228,229,230,231,232,233,234,235,236,237,238,239,240,241,242,243,244,245,246,247,248,249,250,251,252,253,254,255,256,257,258,259,260,261,262,263,264,265,266,267,268,269,270,271,272,273,274,275,276,277,278,279,280,281,282,283,284,285,286,287,288,289,290,291,292,293,294,295,296,297,298,299,300,301,302,303,304,305,306,307,308,309,310,311,312,313,314,315,316,317,318,319,320,321,322,323,324,325,326,327,328]
[null,null,null,null,null,null,null,null,null,null,null,null,null,null,null,"在籍者数",null,null,null,null,null,null,null,null,null,null,null,null,null,null,null,null,null,null,null,null,null,null,null,"在籍者数",null,null,null,null,null,null,null,null,null,null,null,null,null,null,null,null,null,null,null,null,null,null,null,"在籍者数"]
[null,null,null,null,null,null,null,null,"授業日数",null,null,null,null,null,null,null,null,null,null,null,null,null,null,null,null,null,null,null,null,null,null,null,null,null,null,null,null,null,null,null,null,null,null,null,null,null,null,null,null,null,null,null,null,null,null,null,null,null,null,null,null,null,null,null,null,null,null,null,null,null,null,null,null,null,null,null,null,null,null,null,null,null,null,null,null,null,null,"休学",null,null,null,null,null,null,null,null,null,null,null,null,null,null,null,null,null,null,null,null,null,null,null,"遅刻",null,null,null,null,null,null,null,null,null,null,null,null,null,null,null,null,null,null,null,null,null,null,null,"早退",null,null,null,null,null,null,null,null,null,null,null,null,null,null,null,null,null,null,null,null,null,null,null,"欠席",null,null,null,null,null,null,null,null,null,null,null,null,null,null,null,null,null,null,null,null,null,null,null,"公欠",null,null,null,null,null,null,null,null,null,null,null,null,null,null,null,null,null,null,null,null,null,null,null,"忌引",null,null,null,null,null,null,null,null,null,null,null,null,null,null,null,null,null,null,null,null,null,null,null,"出席停止",null,null,null,null,null,null,null,null,null,null,null,null,null,null,null,null,null,null,null,null,null,null,null,"受験",null,null,null,null,null,null,null,null,null,null,null,null,null,null,null,null,null,null,null,null,null,null,null,"その他",null,null,null,null,null,null,null,null,null,null,null,null,null,null,null,null,null,null,null,null,null,null,null,"停学"]
["年月日","曜","行",null,"行事等","打合事項","職員状況","その他","1年","2年","3年","4年","5年","6年","施設状況","1-1","1-2","1-3","1-4","2-1","2-2","2-3","2-4","3-1","3-2","3-3","3-4","4-1","4-2","4-3","4-4","5-1","5-2","5-3","5-4","6-1","6-2","6-3","6-4","1-1","1-2","1-3","1-4","2-1","2-2","2-3","2-4","3-1","3-2","3-3","3-4","4-1","4-2","4-3","4-4","5-1","5-2","5-3","5-4","6-1","6-2","6-3","6-4","1-1","1-2","1-3","1-4","2-1","2-2","2-3","2-4","3-1","3-2","3-3","3-4","4-1","4-2","4-3","4-4","5-1","5-2","5-3","5-4","6-1","6-2","6-3","6-4","1-1","1-2","1-3","1-4","2-1","2-2","2-3","2-4","3-1","3-2","3-3","3-4","4-1","4-2","4-3","4-4","5-1","5-2","5-3","5-4","6-1","6-2","6-3","6-4","1-1","1-2","1-3","1-4","2-1","2-2","2-3","2-4","3-1","3-2","3-3","3-4","4-1","4-2","4-3","4-4","5-1","5-2","5-3","5-4","6-1","6-2","6-3","6-4","1-1","1-2","1-3","1-4","2-1","2-2","2-3","2-4","3-1","3-2","3-3","3-4","4-1","4-2","4-3","4-4","5-1","5-2","5-3","5-4","6-1","6-2","6-3","6-4","1-1","1-2","1-3","1-4","2-1","2-2","2-3","2-4","3-1","3-2","3-3","3-4","4-1","4-2","4-3","4-4","5-1","5-2","5-3","5-4","6-1","6-2","6-3","6-4","1-1","1-2","1-3","1-4","2-1","2-2","2-3","2-4","3-1","3-2","3-3","3-4","4-1","4-2","4-3","4-4","5-1","5-2","5-3","5-4","6-1","6-2","6-3","6-4","1-1","1-2","1-3","1-4","2-1","2-2","2-3","2-4","3-1","3-2","3-3","3-4","4-1","4-2","4-3","4-4","5-1","5-2","5-3","5-4","6-1","6-2","6-3","6-4","1-1","1-2","1-3","1-4","2-1","2-2","2-3","2-4","3-1","3-2","3-3","3-4","4-1","4-2","4-3","4-4","5-1","5-2","5-3","5-4","6-1","6-2","6-3","6-4","1-1","1-2","1-3","1-4","2-1","2-2","2-3","2-4","3-1","3-2","3-3","3-4","4-1","4-2","4-3","4-4","5-1","5-2","5-3","5-4","6-1","6-2","6-3","6-4","1-1","1-2","1-3","1-4","2-1","2-2","2-3","2-4","3-1","3-2","3-3","3-4","4-1","4-2","4-3","4-4","5-1","5-2","5-3","5-4","6-1","6-2","6-3","6-4","1-1","1-2","1-3","1-4","2-1","2-2","2-3","2-4","3-1","3-2","3-3","3-4","4-1","4-2","4-3","4-4","5-1","5-2","5-3","5-4","6-1","6-2","6-3","6-4","在籍移動"]
["2014-04-01",{"$f":"TEXT(A11,\"aaa\")","v":"火"},11,"雨","学年始休業，一斉赴任日，運営委員会","","","",0,0,0,0,0,0,"",17,17,15,17,10,10,9,10,14,13,14,14,13,14,14,14,21,22,12,12,19,13,14,13,18,18,19,18,25,24,25,25,20,20,21,20,21,21,21,20,10,11,21,22,14,21,21,18,35,35,34,35,35,34,34,35,34,33,35,34,34,35,35,34,31,33,33,34,33,34,35,31,"","","","","","","","","","","","","","","","","","","","","","","","",0,0,0,0,0,0,0,0,0,0,0,0,0,0,0,0,0,0,0,0,0,0,0,0,0,0,0,0,0,0,0,0,0,0,0,0,0,0,0,0,0,0,0,0,0,0,0,0,0,0,0,0,0,0,0,0,0,0,0,0,0,0,0,0,0,0,0,0,0,0,0,0,"","","","","","","","","","","","","","","","","","","","","","","","","","","","","","","","","","","","","","","","","","","","","","","","","","","","","","","","","","","","","","","","","","","","","","","","","","","","","","","","","","","","","","","","","","","","","","","","","","","","","","","","","","","","","","","","","","","","","","","","","","","","","","","","","","","","","","","","","","","","","","","","",""]
[{"$f":"A11+1","v":"2014-04-02"},{"$f":"TEXT(A12,\"aaa\")","v":"水"},12]
[{"$f":"A12+1","v":"2014-04-03"},"木",13]
["2014-04-04","金",14]
["2014-04-05","土",15]
["2014-04-06","日",16]
["2014-04-07","月",17]
["2014-04-08","火",18]
["2014-04-09","水",19]
["2014-04-10","木",20]
["2014-04-11","金",21]
["2014-04-12","土",22]
["2014-04-13","日",23]
["2014-04-14","月",24]
["2014-04-15","火",25]
["2014-04-16","水",26]
["2014-04-17","木",27]
["2014-04-18","金",28]
["2014-04-19","土",29]
["2014-04-20","日",30]
["2014-04-21","月",31]
["2014-04-22","火",32]
["2014-04-23","水",33]
["2014-04-24","木",34]
["2014-04-25","金",35]
["2014-04-26","土",36]
["2014-04-27","日",37]
["2014-04-28","月",38]
["2014-04-29","火",39]
["2014-04-30","水",40]
["2014-05-01","木",41]
["2014-05-02","金",42]
["2014-05-03","土",43]
["2014-05-04","日",44]
["2014-05-05","月",45]
["2014-05-06","火",46]
["2014-05-07","水",47]
["2014-05-08","木",48]
["2014-05-09","金",49]
["2014-05-10","土",50]
["2014-05-11","日",51]
["2014-05-12","月",52]
["2014-05-13","火",53]
["2014-05-14","水",54]
["2014-05-15","木",55]
["2014-05-16","金",56]
["2014-05-17","土",57]
["2014-05-18","日",58]
["2014-05-19","月",59]
["2014-05-20","火",60]
["2014-05-21","水",61]
["2014-05-22","木",62]
["2014-05-23","金",63]
["2014-05-24","土",64]
["2014-05-25","日",65]
["2014-05-26","月",66]
["2014-05-27","火",67]
["2014-05-28","水",68]
["2014-05-29","木",69]
["2014-05-30","金",70]
["2014-05-31","土",71]
["2014-06-01","日",72]
["2014-06-02","月",73]
["2014-06-03","火",74]
["2014-06-04","水",75]
["2014-06-05",{"$f":"TEXT(A76,\"aaa\")","v":"木"},76]
[{"$f":"A76+1","v":"2014-06-06"},"金",77]
["2014-06-07","土",78]
["2014-06-08","日",79]
["2014-06-09","月",80]
["2014-06-10","火",81]
["2014-06-11","水",82]
["2014-06-12","木",83]
["2014-06-13","金",84]
["2014-06-14","土",85]
["2014-06-15","日",86]
["2014-06-16","月",87]
["2014-06-17","火",88]
["2014-06-18","水",89]
["2014-06-19","木",90]
["2014-06-20","金",91]
["2014-06-21","土",92]
["2014-06-22","日",93]
["2014-06-23","月",94]
["2014-06-24","火",95]
["2014-06-25","水",96]
["2014-06-26","木",97]
["2014-06-27","金",98]
["2014-06-28","土",99]
["2014-06-29","日",100]
["2014-06-30","月",101]
["2014-07-01","火",102]
["2014-07-02","水",103]
["2014-07-03","木",104]
["2014-07-04","金",105]
["2014-07-05","土",106]
["2014-07-06","日",107]
["2014-07-07","月",108]
["2014-07-08","火",109]
["2014-07-09","水",110]
["2014-07-10","木",111]
["2014-07-11","金",112]
["2014-07-12","土",113]
["2014-07-13","日",114]
["2014-07-14","月",115]
["2014-07-15","火",116]
["2014-07-16","水",117]
["2014-07-17","木",118]
["2014-07-18","金",119]
["2014-07-19","土",120]
["2014-07-20","日",121]
["2014-07-21","月",122]
["2014-07-22","火",123]
["2014-07-23","水",124]
["2014-07-24","木",125]
["2014-07-25","金",126]
["2014-07-26","土",127]
["2014-07-27","日",128]
["2014-07-28","月",129]
["2014-07-29","火",130]
["2014-07-30","水",131]
["2014-07-31","木",132]
["2014-08-01","金",133]
["2014-08-02","土",134]
["2014-08-03","日",135]
["2014-08-04","月",136]
["2014-08-05","火",137]
["2014-08-06","水",138]
["2014-08-07","木",139]
["2014-08-08",{"$f":"TEXT(A140,\"aaa\")","v":"金"},140]
[{"$f":"A140+1","v":"2014-08-09"},"土",141]
["2014-08-10","日",142]
["2014-08-11","月",143]
["2014-08-12","火",144]
["2014-08-13","水",145]
["2014-08-14","木",146]
["2014-08-15","金",147]
["2014-08-16","土",148]
["2014-08-17","日",149]
["2014-08-18","月",150]
["2014-08-19","火",151]
["2014-08-20","水",152]
["2014-08-21","木",153]
["2014-08-22","金",154]
["2014-08-23","土",155]
["2014-08-24","日",156]
["2014-08-25","月",157]
["2014-08-26","火",158]
["2014-08-27","水",159]
["2014-08-28","木",160]
["2014-08-29","金",161]
["2014-08-30","土",162]
["2014-08-31","日",163]
["2014-09-01","月",164]
["2014-09-02","火",165]
["2014-09-03","水",166]
["2014-09-04","木",167]
["2014-09-05","金",168]
["2014-09-06","土",169]
["2014-09-07","日",170]
["2014-09-08","月",171]
["2014-09-09","火",172]
["2014-09-10","水",173]
["2014-09-11","木",174]
["2014-09-12","金",175]
["2014-09-13","土",176]
["2014-09-14","日",177]
["2014-09-15","月",178]
["2014-09-16","火",179]
["2014-09-17","水",180]
["2014-09-18","木",181]
["2014-09-19","金",182]
["2014-09-20","土",183]
["2014-09-21","日",184]
["2014-09-22","月",185]
["2014-09-23","火",186]
["2014-09-24","水",187]
["2014-09-25","木",188]
["2014-09-26","金",189]
["2014-09-27","土",190]
["2014-09-28","日",191]
["2014-09-29","月",192]
["2014-09-30","火",193]
["2014-10-01","水",194]
["2014-10-02","木",195]
["2014-10-03","金",196]
["2014-10-04","土",197]
["2014-10-05","日",198]
["2014-10-06","月",199]
["2014-10-07","火",200]
["2014-10-08","水",201]
["2014-10-09","木",202]
["2014-10-10","金",203]
["2014-10-11",{"$f":"TEXT(A204,\"aaa\")","v":"土"},204]
[{"$f":"A204+1","v":"2014-10-12"},"日",205]
["2014-10-13","月",206]
["2014-10-14","火",207]
["2014-10-15","水",208]
["2014-10-16","木",209]
["2014-10-17","金",210]
["2014-10-18","土",211]
["2014-10-19","日",212]
["2014-10-20","月",213]
["2014-10-21","火",214]
["2014-10-22","水",215]
["2014-10-23","木",216]
["2014-10-24","金",217]
["2014-10-25","土",218]
["2014-10-26","日",219]
["2014-10-27","月",220]
["2014-10-28","火",221]
["2014-10-29","水",222]
["2014-10-30","木",223]
["2014-10-31","金",224]
["2014-11-01","土",225]
["2014-11-02","日",226]
["2014-11-03","月",227]
["2014-11-04","火",228]
["2014-11-05","水",229]
["2014-11-06","木",230]
["2014-11-07","金",231]
["2014-11-08","土",232]
["2014-11-09","日",233]
["2014-11-10","月",234]
["2014-11-11","火",235]
["2014-11-12","水",236]
["2014-11-13","木",237]
["2014-11-14","金",238]
["2014-11-15","土",239]
["2014-11-16","日",240]
["2014-11-17","月",241]
["2014-11-18","火",242]
["2014-11-19","水",243]
["2014-11-20","木",244]
["2014-11-21","金",245]
["2014-11-22","土",246]
["2014-11-23","日",247]
["2014-11-24","月",248]
["2014-11-25","火",249]
["2014-11-26","水",250]
["2014-11-27","木",251]
["2014-11-28","金",252]
["2014-11-29","土",253]
["2014-11-30","日",254]
["2014-12-01","月",255]
["2014-12-02","火",256]
["2014-12-03","水",257]
["2014-12-04","木",258]
["2014-12-05","金",259]
["2014-12-06","土",260]
["2014-12-07","日",261]
["2014-12-08","月",262]
["2014-12-09","火",263]
["2014-12-10","水",264]
["2014-12-11","木",265]
["2014-12-12","金",266]
["2014-12-13","土",267]
["2014-12-14",{"$f":"TEXT(A268,\"aaa\")","v":"日"},268]
[{"$f":"A268+1","v":"2014-12-15"},"月",269]
["2014-12-16","火",270]
["2014-12-17","水",271]
["2014-12-18","木",272]
["2014-12-19","金",273]
["2014-12-20","土",274]
["2014-12-21","日",275]
["2014-12-22","月",276]
["2014-12-23","火",277]
["2014-12-24","水",278]
["2014-12-25","木",279]
["2014-12-26","金",280]
["2014-12-27","土",281]
["2014-12-28","日",282]
["2014-12-29","月",283]
["2014-12-30","火",284]
["2014-12-31","水",285]
["2015-01-01","木",286]
["2015-01-02","金",287]
["2015-01-03","土",288]
["2015-01-04","日",289]
["2015-01-05","月",290]
["2015-01-06","火",291]
["2015-01-07","水",292]
["2015-01-08","木",293]
["2015-01-09","金",294]
["2015-01-10","土",295]
["2015-01-11","日",296]
["2015-01-12","月",297]
["2015-01-13","火",298]
["2015-01-14","水",299]
["2015-01-15","木",300]
["2015-01-16","金",301]
["2015-01-17","土",302]
["2015-01-18","日",303]
["2015-01-19","月",304]
["2015-01-20","火",305]
["2015-01-21","水",306]
["2015-01-22","木",307]
["2015-01-23","金",308]
["2015-01-24","土",309]
["2015-01-25","日",310]
["2015-01-26","月",311]
["2015-01-27","火",312]
["2015-01-28","水",313]
["2015-01-29","木",314]
["2015-01-30","金",315]
["2015-01-31","土",316]
["2015-02-01","日",317]
["2015-02-02","月",318]
["2015-02-03","火",319]
["2015-02-04","水",320]
["2015-02-05","木",321]
["2015-02-06","金",322]
["2015-02-07","土",323]
["2015-02-08","日",324]
["2015-02-09","月",325]
["2015-02-10","火",326]
["2015-02-11","水",327]
["2015-02-12","木",328]
["2015-02-13","金",329]
["2015-02-14","土",330]
["2015-02-15","日",331]
["2015-02-16",{"$f":"TEXT(A332,\"aaa\")","v":"月"},332]
[{"$f":"A332+1","v":"2015-02-17"},"火",333]
["2015-02-18","水",334]
["2015-02-19","木",335]
["2015-02-20","金",336]
["2015-02-21","土",337]
["2015-02-22","日",338]
["2015-02-23","月",339]
["2015-02-24","火",340]
["2015-02-25","水",341]
["2015-02-26","木",342]
["2015-02-27","金",343]
["2015-02-28","土",344]
["2015-03-01","日",345]
["2015-03-02","月",346]
["2015-03-03","火",347]
["2015-03-04","水",348]
["2015-03-05","木",349]
["2015-03-06","金",350]
["2015-03-07","土",351]
["2015-03-08","日",352]
["2015-03-09","月",353]
["2015-03-10","火",354]
["2015-03-11","水",355]
["2015-03-12","木",356]
["2015-03-13","金",357]
["2015-03-14","土",358]
["2015-03-15","日",359]
["2015-03-16","月",360]
["2015-03-17","火",361]
["2015-03-18","水",362]
["2015-03-19","木",363]
["2015-03-20","金",364]
["2015-03-21","土",365]
["2015-03-22","日",366]
["2015-03-23","月",367]
["2015-03-24","火",368]
["2015-03-25","水",369]
["2015-03-26","木",370]
["2015-03-27","金",371]
["2015-03-28","土",372]
["2015-03-29","日",373]
["2015-03-30","月",374]
["2015-03-31","火",375]
["2015-04-01","水",376]

{"sheet":"在籍","index":4,"n_rows":52,"n_cols":7,"rows_kept":52,"cut":false,"hidden":false,"merged":[[15,1,16,1],[17,1,18,1],[19,1,20,1],[21,1,22,1],[23,1,24,1],[25,1,26,1],[3,1,4,1],[5,1,6,1],[7,1,8,1],[9,1,10,1],[11,1,12,1],[13,1,14,1],[39,1,40,1],[41,1,42,1],[43,1,44,1],[45,1,46,1],[47,1,48,1],[49,1,50,1],[27,1,28,1],[29,1,30,1],[31,1,32,1],[33,1,34,1],[35,1,36,1],[37,1,38,1],[15,2,16,2],[17,2,18,2],[19,2,20,2],[21,2,22,2],[23,2,24,2],[25,2,26,2],[3,2,4,2],[5,2,6,2],[7,2,8,2],[9,2,10,2],[11,2,12,2],[13,2,14,2],[39,2,40,2],[41,2,42,2],[43,2,44,2],[45,2,46,2],[47,2,48,2],[49,2,50,2],[27,2,28,2],[29,2,30,2],[31,2,32,2],[33,2,34,2],[35,2,36,2],[37,2,38,2],[43,3,44,3],[45,3,46,3],[47,3,48,3],[49,3,50,3],[27,3,28,3],[29,3,30,3],[31,3,32,3],[33,3,34,3],[35,3,36,3],[37,3,38,3],[41,3,42,3],[23,4,24,4],[25,4,26,4],[3,4,4,4],[5,4,6,4],[7,4,8,4],[9,4,10,4],[11,4,12,4],[13,4,14,4],[39,3,40,3],[15,3,16,3],[17,3,18,3],[19,3,20,3],[21,3,22,3],[23,3,24,3],[25,3,26,3],[3,3,4,3],[5,3,6,3],[7,3,8,3],[9,3,10,3],[11,3,12,3],[13,3,14,3],[3,6,10,11],[51,0,51,1],[3,0,10,0],[11,0,18,0],[19,0,26,0],[27,0,34,0],[35,0,42,0],[43,0,50,0],[39,4,40,4],[41,4,42,4],[43,4,44,4],[45,4,46,4],[47,4,48,4],[49,4,50,4],[27,4,28,4],[29,4,30,4],[31,4,32,4],[33,4,34,4],[35,4,36,4],[37,4,38,4],[15,4,16,4],[17,4,18,4],[19,4,20,4],[21,4,22,4]]}
["生徒在籍表"]
[]
["学年","組","男","女","計"]
["1年",1,16,19,{"$f":"SUM(C4:D5)","v":35},null,"在籍に変更があった場合必ずこの表を修正してください。"]
[]
[null,2,15,20,{"$f":"SUM(C6:D7)","v":35}]
[]
[null,3,15,20,{"$f":"SUM(C8:D9)","v":35}]
[]
[null,4,15,19,{"$f":"SUM(C10:D11)","v":34}]
[]
["2年",1,16,19,{"$f":"SUM(C12:D13)","v":35}]
[]
[null,2,16,18,{"$f":"SUM(C14:D15)","v":34}]
[]
[null,3,16,18,{"$f":"SUM(C16:D17)","v":34}]
[]
[null,4,17,18,{"$f":"SUM(C18:D19)","v":35}]
[]
["3年",1,9,25,{"$f":"SUM(C20:D21)","v":34}]
[]
[null,2,10,25,{"$f":"SUM(C22:D23)","v":35}]
[]
[null,3,10,25,{"$f":"SUM(C24:D25)","v":35}]
[]
[null,4,10,24,{"$f":"SUM(C26:D27)","v":34}]
[]
["4年",1,14,20,{"$f":"SUM(C28:D29)","v":34}]
[]
[null,2,14,19,{"$f":"SUM(C30:D31)","v":33}]
[]
[null,3,14,19,{"$f":"SUM(C32:D33)","v":33}]
[]
[null,4,13,20,{"$f":"SUM(C34:D35)","v":33}]
[]
["5年",1,16,19,{"$f":"SUM(C36:D37)","v":35}]
[]
[null,2,18,17,{"$f":"SUM(C38:D39)","v":35}]
[]
[null,3,8,26,{"$f":"SUM(C40:D41)","v":34}]
[]
[null,4,14,20,{"$f":"SUM(C42:D43)","v":34}]
[]
["6年",1,19,11,{"$f":"SUM(C44:D45)","v":30}]
[]
[null,2,23,7,{"$f":"SUM(C46:D47)","v":30}]
[]
[null,3,12,23,{"$f":"SUM(C48:D49)","v":35}]
[]
[null,4,12,23,{"$f":"SUM(C50:D51)","v":35}]
[]
["計",null,{"$f":"SUM(C4:C51)","v":342},{"$f":"SUM(D4:D51)","v":474},816]

{"sheet":"年間","index":5,"n_rows":377,"n_cols":19,"rows_kept":377,"cut":false,"hidden":false,"merged":[[3,13,3,18],[2,3,2,4],[2,6,2,11],[3,3,4,3],[3,4,4,4],[3,5,4,5],[3,6,3,11]]}
[]
[]
[null,null,null,"平成２６年度",null,"年間統計用"]
[null,null,null,"日","曜","行　      　　事","授業日数",null,null,null,null,null,null,"授業日数"]
[null,null,null,null,null,null,"１年","２年","３年","4年","5年","6年",null,"1年","2年","3年","4年","5年","6年"]
[null,null,"2014-04-01",1,{"$f":"IF($M6=\"\",\"\",VLOOKUP(WEEKDAY($M6),[1]Sheet1!$A$2:$B$8,2))","v":"火"},{"$f":"IF('[1]４月'!D7=\"\",\"\",'[1]４月'!D7)","v":"学年始休業，一斉赴任日，運営委員会"},{"$f":"IF('[1]４月'!E7=\"\",\"\",'[1]４月'!E7)","v":0},{"$f":"IF('[1]４月'!F7=\"\",\"\",'[1]４月'!F7)","v":0},{"$f":"IF('[1]４月'!G7=\"\",\"\",'[1]４月'!G7)","v":0},{"$f":"IF('[1]４月'!H7=\"\",\"\",'[1]４月'!H7)","v":0},{"$f":"IF('[1]４月'!I7=\"\",\"\",'[1]４月'!I7)","v":0},{"$f":"IF('[1]４月'!J7=\"\",\"\",'[1]４月'!J7)","v":0},"2014-04-01",{"$f":"COUNTIF(G6,\"○\")+COUNTIF(G6,\"◎\")","v":0},{"$f":"COUNTIF(H6,\"○\")+COUNTIF(H6,\"◎\")","v":0},0,0,0,0]
[null,null,"2014-04-02",2,{"$f":"IF($M7=\"\",\"\",VLOOKUP(WEEKDAY($M7),[1]Sheet1!$A$2:$B$8,2))","v":"水"},{"$f":"IF('[1]４月'!D8=\"\",\"\",'[1]４月'!D8)","v":"分掌・学年・教科会"},{"$f":"IF('[1]４月'!E8=\"\",\"\",'[1]４月'!E8)","v":0},{"$f":"IF('[1]４月'!F8=\"\",\"\",'[1]４月'!F8)","v":0},{"$f":"IF('[1]４月'!G8=\"\",\"\",'[1]４月'!G8)","v":0},{"$f":"IF('[1]４月'!H8=\"\",\"\",'[1]４月'!H8)","v":0},{"$f":"IF('[1]４月'!I8=\"\",\"\",'[1]４月'!I8)","v":0},{"$f":"IF('[1]４月'!J8=\"\",\"\",'[1]４月'!J8)","v":0},"2014-04-02",{"$f":"COUNTIF(G7,\"○\")+COUNTIF(G7,\"◎\")+N6","v":0},{"$f":"COUNTIF(H7,\"○\")+COUNTIF(H7,\"◎\")+O6","v":0},0,0,0,0]
[null,null,"2014-04-03",3,{"$f":"IF($M8=\"\",\"\",VLOOKUP(WEEKDAY($M8),[1]Sheet1!$A$2:$B$8,2))","v":"木"},{"$f":"IF('[1]４月'!D9=\"\",\"\",'[1]４月'!D9)","v":"運営委員会，分掌・学年・教科会"},{"$f":"IF('[1]４月'!E9=\"\",\"\",'[1]４月'!E9)","v":0},{"$f":"IF('[1]４月'!F9=\"\",\"\",'[1]４月'!F9)","v":0},{"$f":"IF('[1]４月'!G9=\"\",\"\",'[1]４月'!G9)","v":0},{"$f":"IF('[1]４月'!H9=\"\",\"\",'[1]４月'!H9)","v":0},{"$f":"IF('[1]４月'!I9=\"\",\"\",'[1]４月'!I9)","v":0},{"$f":"IF('[1]４月'!J9=\"\",\"\",'[1]４月'!J9)","v":0},"2014-04-03",{"$f":"COUNTIF(G8,\"○\")+COUNTIF(G8,\"◎\")+N7","v":0},{"$f":"COUNTIF(H8,\"○\")+COUNTIF(H8,\"◎\")+O7","v":0},{"$f":"COUNTIF(I8,\"○\")+COUNTIF(I8,\"◎\")+P7","v":0},{"$f":"COUNTIF(J8,\"○\")+COUNTIF(J8,\"◎\")+Q7","v":0},{"$f":"COUNTIF(K8,\"○\")+COUNTIF(K8,\"◎\")+R7","v":0},{"$f":"COUNTIF(L8,\"○\")+COUNTIF(L8,\"◎\")+S7","v":0}]
[null,null,"2014-04-04",4,{"$f":"IF($M9=\"\",\"\",VLOOKUP(WEEKDAY($M9),[1]Sheet1!$A$2:$B$8,2))","v":"金"},{"$f":"IF('[1]４月'!D10=\"\",\"\",'[1]４月'!D10)","v":"職員会議，論理担当者会，転入考査"},{"$f":"IF('[1]４月'!E10=\"\",\"\",'[1]４月'!E10)","v":0},{"$f":"IF('[1]４月'!F10=\"\",\"\",'[1]４月'!F10)","v":0},{"$f":"IF('[1]４月'!G10=\"\",\"\",'[1]４月'!G10)","v":0},{"$f":"IF('[1]４月'!H10=\"\",\"\",'[1]４月'!H10)","v":0},{"$f":"IF('[1]４月'!I10=\"\",\"\",'[1]４月'!I10)","v":0},{"$f":"IF('[1]４月'!J10=\"\",\"\",'[1]４月'!J10)","v":0},"2014-04-04",0,0,0,0,0,0]
[null,null,"2014-04-05",5,{"$f":"IF($M10=\"\",\"\",VLOOKUP(WEEKDAY($M10),[1]Sheet1!$A$2:$B$8,2))","v":"土"},{"$f":"IF('[1]４月'!D11=\"\",\"\",'[1]４月'!D11)","v":0},{"$f":"IF('[1]４月'!E11=\"\",\"\",'[1]４月'!E11)","v":0},{"$f":"IF('[1]４月'!F11=\"\",\"\",'[1]４月'!F11)","v":0},{"$f":"IF('[1]４月'!G11=\"\",\"\",'[1]４月'!G11)","v":0},{"$f":"IF('[1]４月'!H11=\"\",\"\",'[1]４月'!H11)","v":0},{"$f":"IF('[1]４月'!I11=\"\",\"\",'[1]４月'!I11)","v":0},{"$f":"IF('[1]４月'!J11=\"\",\"\",'[1]４月'!J11)","v":0},"2014-04-05",0,0,0,0,0,0]
[null,null,"2014-04-06",6,{"$f":"IF($M11=\"\",\"\",VLOOKUP(WEEKDAY($M11),[1]Sheet1!$A$2:$B$8,2))","v":"日"},{"$f":"IF('[1]４月'!D12=\"\",\"\",'[1]４月'!D12)","v":0},{"$f":"IF('[1]４月'!E12=\"\",\"\",'[1]４月'!E12)","v":0},{"$f":"IF('[1]４月'!F12=\"\",\"\",'[1]４月'!F12)","v":0},{"$f":"IF('[1]４月'!G12=\"\",\"\",'[1]４月'!G12)","v":0},{"$f":"IF('[1]４月'!H12=\"\",\"\",'[1]４月'!H12)","v":0},{"$f":"IF('[1]４月'!I12=\"\",\"\",'[1]４月'!I12)","v":0},{"$f":"IF('[1]４月'!J12=\"\",\"\",'[1]４月'!J12)","v":0},"2014-04-06",0,0,0,0,0,0]
[null,null,"2014-04-07",7,{"$f":"IF($M12=\"\",\"\",VLOOKUP(WEEKDAY($M12),[1]Sheet1!$A$2:$B$8,2))","v":"月"},{"$f":"IF('[1]４月'!D13=\"\",\"\",'[1]４月'!D13)","v":"学年会，職員検診"},{"$f":"IF('[1]４月'!E13=\"\",\"\",'[1]４月'!E13)","v":0},{"$f":"IF('[1]４月'!F13=\"\",\"\",'[1]４月'!F13)","v":0},{"$f":"IF('[1]４月'!G13=\"\",\"\",'[1]４月'!G13)","v":0},{"$f":"IF('[1]４月'!H13=\"\",\"\",'[1]４月'!H13)","v":0},{"$f":"IF('[1]４月'!I13=\"\",\"\",'[1]４月'!I13)","v":0},{"$f":"IF('[1]４月'!J13=\"\",\"\",'[1]４月'!J13)","v":0},"2014-04-07",0,0,0,0,0,0]
[null,null,"2014-04-08",8,{"$f":"IF($M13=\"\",\"\",VLOOKUP(WEEKDAY($M13),[1]Sheet1!$A$2:$B$8,2))","v":"火"},{"$f":"IF('[1]４月'!D14=\"\",\"\",'[1]４月'!D14)","v":"着任式・始業式・式場準備，大掃除"},{"$f":"IF('[1]４月'!E14=\"\",\"\",'[1]４月'!E14)","v":0},{"$f":"IF('[1]４月'!F14=\"\",\"\",'[1]４月'!F14)","v":"○"},{"$f":"IF('[1]４月'!G14=\"\",\"\",'[1]４月'!G14)","v":"○"},{"$f":"IF('[1]４月'!H14=\"\",\"\",'[1]４月'!H14)","v":"○"},{"$f":"IF('[1]４月'!I14=\"\",\"\",'[1]４月'!I14)","v":"○"},{"$f":"IF('[1]４月'!J14=\"\",\"\",'[1]４月'!J14)","v":"○"},"2014-04-08",0,1,1,1,1,1]
[null,null,"2014-04-09",9,{"$f":"IF($M14=\"\",\"\",VLOOKUP(WEEKDAY($M14),[1]Sheet1!$A$2:$B$8,2))","v":"水"},{"$f":"IF('[1]４月'!D15=\"\",\"\",'[1]４月'!D15)","v":"入学式，4～6年課題テスト，新入生写真撮影"},{"$f":"IF('[1]４月'!E15=\"\",\"\",'[1]４月'!E15)","v":"○"},{"$f":"IF('[1]４月'!F15=\"\",\"\",'[1]４月'!F15)","v":"○"},{"$f":"IF('[1]４月'!G15=\"\",\"\",'[1]４月'!G15)","v":"○"},{"$f":"IF('[1]４月'!H15=\"\",\"\",'[1]４月'!H15)","v":"○"},{"$f":"IF('[1]４月'!I15=\"\",\"\",'[1]４月'!I15)","v":"○"},{"$f":"IF('[1]４月'!J15=\"\",\"\",'[1]４月'!J15)","v":"○"},"2014-04-09",1,2,2,2,2,2]
[null,null,"2014-04-10",10,{"$f":"IF($M15=\"\",\"\",VLOOKUP(WEEKDAY($M15),[1]Sheet1!$A$2:$B$8,2))","v":"木"},{"$f":"IF('[1]４月'!D16=\"\",\"\",'[1]４月'!D16)","v":"対面式，部活動紹介，4～6年課題テスト"},{"$f":"IF('[1]４月'!E16=\"\",\"\",'[1]４月'!E16)","v":"◎"},{"$f":"IF('[1]４月'!F16=\"\",\"\",'[1]４月'!F16)","v":"◎"},{"$f":"IF('[1]４月'!G16=\"\",\"\",'[1]４月'!G16)","v":"◎"},{"$f":"IF('[1]４月'!H16=\"\",\"\",'[1]４月'!H16)","v":"○"},{"$f":"IF('[1]４月'!I16=\"\",\"\",'[1]４月'!I16)","v":"○"},{"$f":"IF('[1]４月'!J16=\"\",\"\",'[1]４月'!J16)","v":"○"},"2014-04-10",2,3,3,3,3,3]
[null,null,"2014-04-11",11,{"$f":"IF($M16=\"\",\"\",VLOOKUP(WEEKDAY($M16),[1]Sheet1!$A$2:$B$8,2))","v":"金"},{"$f":"IF('[1]４月'!D17=\"\",\"\",'[1]４月'!D17)","v":"身体測定"},{"$f":"IF('[1]４月'!E17=\"\",\"\",'[1]４月'!E17)","v":"◎"},{"$f":"IF('[1]４月'!F17=\"\",\"\",'[1]４月'!F17)","v":"◎"},{"$f":"IF('[1]４月'!G17=\"\",\"\",'[1]４月'!G17)","v":"◎"},{"$f":"IF('[1]４月'!H17=\"\",\"\",'[1]４月'!H17)","v":"○"},{"$f":"IF('[1]４月'!I17=\"\",\"\",'[1]４月'!I17)","v":"○"},{"$f":"IF('[1]４月'!J17=\"\",\"\",'[1]４月'!J17)","v":"○"},"2014-04-11",3,4,4,4,4,4]
[null,null,"2014-04-12",12,{"$f":"IF($M17=\"\",\"\",VLOOKUP(WEEKDAY($M17),[1]Sheet1!$A$2:$B$8,2))","v":"土"},{"$f":"IF('[1]４月'!D18=\"\",\"\",'[1]４月'!D18)","v":"土曜学習会"},{"$f":"IF('[1]４月'!E18=\"\",\"\",'[1]４月'!E18)","v":0},{"$f":"IF('[1]４月'!F18=\"\",\"\",'[1]４月'!F18)","v":0},{"$f":"IF('[1]４月'!G18=\"\",\"\",'[1]４月'!G18)","v":0},{"$f":"IF('[1]４月'!H18=\"\",\"\",'[1]４月'!H18)","v":0},{"$f":"IF('[1]４月'!I18=\"\",\"\",'[1]４月'!I18)","v":0},{"$f":"IF('[1]４月'!J18=\"\",\"\",'[1]４月'!J18)","v":0},"2014-04-12",3,4,4,4,4,4]
[null,null,"2014-04-13",13,{"$f":"IF($M18=\"\",\"\",VLOOKUP(WEEKDAY($M18),[1]Sheet1!$A$2:$B$8,2))","v":"日"},{"$f":"IF('[1]４月'!D19=\"\",\"\",'[1]４月'!D19)","v":0},{"$f":"IF('[1]４月'!E19=\"\",\"\",'[1]４月'!E19)","v":0},{"$f":"IF('[1]４月'!F19=\"\",\"\",'[1]４月'!F19)","v":0},{"$f":"IF('[1]４月'!G19=\"\",\"\",'[1]４月'!G19)","v":0},{"$f":"IF('[1]４月'!H19=\"\",\"\",'[1]４月'!H19)","v":0},{"$f":"IF('[1]４月'!I19=\"\",\"\",'[1]４月'!I19)","v":0},{"$f":"IF('[1]４月'!J19=\"\",\"\",'[1]４月'!J19)","v":0},"2014-04-13",3,4,4,4,4,4]
[null,null,"2014-04-14",14,{"$f":"IF($M19=\"\",\"\",VLOOKUP(WEEKDAY($M19),[1]Sheet1!$A$2:$B$8,2))","v":"月"},{"$f":"IF('[1]４月'!D20=\"\",\"\",'[1]４月'!D20)","v":"１年オリエンテーション合宿"},{"$f":"IF('[1]４月'!E20=\"\",\"\",'[1]４月'!E20)","v":"○"},{"$f":"IF('[1]４月'!F20=\"\",\"\",'[1]４月'!F20)","v":"◎"},{"$f":"IF('[1]４月'!G20=\"\",\"\",'[1]４月'!G20)","v":"◎"},{"$f":"IF('[1]４月'!H20=\"\",\"\",'[1]４月'!H20)","v":"○"},{"$f":"IF('[1]４月'!I20=\"\",\"\",'[1]４月'!I20)","v":"○"},{"$f":"IF('[1]４月'!J20=\"\",\"\",'[1]４月'!J20)","v":"○"},"2014-04-14",4,5,5,5,5,5]
[null,null,"2014-04-15",15,{"$f":"IF($M20=\"\",\"\",VLOOKUP(WEEKDAY($M20),[1]Sheet1!$A$2:$B$8,2))","v":"火"},{"$f":"IF('[1]４月'!D21=\"\",\"\",'[1]４月'!D21)","v":0},{"$f":"IF('[1]４月'!E21=\"\",\"\",'[1]４月'!E21)","v":"○"},{"$f":"IF('[1]４月'!F21=\"\",\"\",'[1]４月'!F21)","v":"◎"},{"$f":"IF('[1]４月'!G21=\"\",\"\",'[1]４月'!G21)","v":"◎"},{"$f":"IF('[1]４月'!H21=\"\",\"\",'[1]４月'!H21)","v":"○"},{"$f":"IF('[1]４月'!I21=\"\",\"\",'[1]４月'!I21)","v":"○"},{"$f":"IF('[1]４月'!J21=\"\",\"\",'[1]４月'!J21)","v":"○"},"2014-04-15",5,6,6,6,6,6]
[null,null,"2014-04-16",16,{"$f":"IF($M21=\"\",\"\",VLOOKUP(WEEKDAY($M21),[1]Sheet1!$A$2:$B$8,2))","v":"水"},{"$f":"IF('[1]４月'!D22=\"\",\"\",'[1]４月'!D22)","v":"内科検診"},{"$f":"IF('[1]４月'!E22=\"\",\"\",'[1]４月'!E22)","v":"◎"},{"$f":"IF('[1]４月'!F22=\"\",\"\",'[1]４月'!F22)","v":"◎"},{"$f":"IF('[1]４月'!G22=\"\",\"\",'[1]４月'!G22)","v":"◎"},{"$f":"IF('[1]４月'!H22=\"\",\"\",'[1]４月'!H22)","v":"○"},{"$f":"IF('[1]４月'!I22=\"\",\"\",'[1]４月'!I22)","v":"○"},{"$f":"IF('[1]４月'!J22=\"\",\"\",'[1]４月'!J22)","v":"○"},"2014-04-16",{"$f":"COUNTIF(G21,\"○\")+COUNTIF(G21,\"◎\")+N20","v":6},{"$f":"COUNTIF(H21,\"○\")+COUNTIF(H21,\"◎\")+O20","v":7},{"$f":"COUNTIF(I21,\"○\")+COUNTIF(I21,\"◎\")+P20","v":7},{"$f":"COUNTIF(J21,\"○\")+COUNTIF(J21,\"◎\")+Q20","v":7},{"$f":"COUNTIF(K21,\"○\")+COUNTIF(K21,\"◎\")+R20","v":7},{"$f":"COUNTIF(L21,\"○\")+COUNTIF(L21,\"◎\")+S20","v":7}]
[null,null,"2014-04-17",17,{"$f":"IF($M22=\"\",\"\",VLOOKUP(WEEKDAY($M22),[1]Sheet1!$A$2:$B$8,2))","v":"木"},{"$f":"IF('[1]４月'!D23=\"\",\"\",'[1]４月'!D23)","v":"内科検診"},{"$f":"IF('[1]４月'!E23=\"\",\"\",'[1]４月'!E23)","v":"◎"},{"$f":"IF('[1]４月'!F23=\"\",\"\",'[1]４月'!F23)","v":"◎"},{"$f":"IF('[1]４月'!G23=\"\",\"\",'[1]４月'!G23)","v":"◎"},{"$f":"IF('[1]４月'!H23=\"\",\"\",'[1]４月'!H23)","v":"○"},{"$f":"IF('[1]４月'!I23=\"\",\"\",'[1]４月'!I23)","v":"○"},{"$f":"IF('[1]４月'!J23=\"\",\"\",'[1]４月'!J23)","v":"○"},"2014-04-17",7,8,8,8,8,8]
[null,null,"2014-04-18",18,{"$f":"IF($M23=\"\",\"\",VLOOKUP(WEEKDAY($M23),[1]Sheet1!$A$2:$B$8,2))","v":"金"},{"$f":"IF('[1]４月'!D24=\"\",\"\",'[1]４月'!D24)","v":"1～3年仙台市標準学力検査，運営委員会"},{"$f":"IF('[1]４月'!E24=\"\",\"\",'[1]４月'!E24)","v":"◎"},{"$f":"IF('[1]４月'!F24=\"\",\"\",'[1]４月'!F24)","v":"◎"},{"$f":"IF('[1]４月'!G24=\"\",\"\",'[1]４月'!G24)","v":"◎"},{"$f":"IF('[1]４月'!H24=\"\",\"\",'[1]４月'!H24)","v":"○"},{"$f":"IF('[1]４月'!I24=\"\",\"\",'[1]４月'!I24)","v":"○"},{"$f":"IF('[1]４月'!J24=\"\",\"\",'[1]４月'!J24)","v":"○"},"2014-04-18",8,9,9,9,9,9]
[null,null,"2014-04-19",19,{"$f":"IF($M24=\"\",\"\",VLOOKUP(WEEKDAY($M24),[1]Sheet1!$A$2:$B$8,2))","v":"土"},{"$f":"IF('[1]４月'!D25=\"\",\"\",'[1]４月'!D25)","v":0},{"$f":"IF('[1]４月'!E25=\"\",\"\",'[1]４月'!E25)","v":0},{"$f":"IF('[1]４月'!F25=\"\",\"\",'[1]４月'!F25)","v":0},{"$f":"IF('[1]４月'!G25=\"\",\"\",'[1]４月'!G25)","v":0},{"$f":"IF('[1]４月'!H25=\"\",\"\",'[1]４月'!H25)","v":0},{"$f":"IF('[1]４月'!I25=\"\",\"\",'[1]４月'!I25)","v":0},{"$f":"IF('[1]４月'!J25=\"\",\"\",'[1]４月'!J25)","v":0},"2014-04-19",8,9,9,9,9,9]
[null,null,"2014-04-20",20,{"$f":"IF($M25=\"\",\"\",VLOOKUP(WEEKDAY($M25),[1]Sheet1!$A$2:$B$8,2))","v":"日"},{"$f":"IF('[1]４月'!D26=\"\",\"\",'[1]４月'!D26)","v":0},{"$f":"IF('[1]４月'!E26=\"\",\"\",'[1]４月'!E26)","v":0},{"$f":"IF('[1]４月'!F26=\"\",\"\",'[1]４月'!F26)","v":0},{"$f":"IF('[1]４月'!G26=\"\",\"\",'[1]４月'!G26)","v":0},{"$f":"IF('[1]４月'!H26=\"\",\"\",'[1]４月'!H26)","v":0},{"$f":"IF('[1]４月'!I26=\"\",\"\",'[1]４月'!I26)","v":0},{"$f":"IF('[1]４月'!J26=\"\",\"\",'[1]４月'!J26)","v":0},"2014-04-20",8,9,9,9,9,9]
[null,null,"2014-04-21",21,{"$f":"IF($M26=\"\",\"\",VLOOKUP(WEEKDAY($M26),[1]Sheet1!$A$2:$B$8,2))","v":"月"},{"$f":"IF('[1]４月'!D27=\"\",\"\",'[1]４月'!D27)","v":"1･4年心臓病検査"},{"$f":"IF('[1]４月'!E27=\"\",\"\",'[1]４月'!E27)","v":"◎"},{"$f":"IF('[1]４月'!F27=\"\",\"\",'[1]４月'!F27)","v":"◎"},{"$f":"IF('[1]４月'!G27=\"\",\"\",'[1]４月'!G27)","v":"◎"},{"$f":"IF('[1]４月'!H27=\"\",\"\",'[1]４月'!H27)","v":"○"},{"$f":"IF('[1]４月'!I27=\"\",\"\",'[1]４月'!I27)","v":"○"},{"$f":"IF('[1]４月'!J27=\"\",\"\",'[1]４月'!J27)","v":"○"},"2014-04-21",9,10,10,10,10,10]
[null,null,"2014-04-22",22,{"$f":"IF($M27=\"\",\"\",VLOOKUP(WEEKDAY($M27),[1]Sheet1!$A$2:$B$8,2))","v":"火"},{"$f":"IF('[1]４月'!D28=\"\",\"\",'[1]４月'!D28)","v":"全国学力調査，4年X線撮影，各種委員会"},{"$f":"IF('[1]４月'!E28=\"\",\"\",'[1]４月'!E28)","v":"◎"},{"$f":"IF('[1]４月'!F28=\"\",\"\",'[1]４月'!F28)","v":"◎"},{"$f":"IF('[1]４月'!G28=\"\",\"\",'[1]４月'!G28)","v":"◎"},{"$f":"IF('[1]４月'!H28=\"\",\"\",'[1]４月'!H28)","v":"○"},{"$f":"IF('[1]４月'!I28=\"\",\"\",'[1]４月'!I28)","v":"○"},{"$f":"IF('[1]４月'!J28=\"\",\"\",'[1]４月'!J28)","v":"○"},"2014-04-22",10,11,11,11,11,11]
[null,null,"2014-04-23",23,{"$f":"IF($M28=\"\",\"\",VLOOKUP(WEEKDAY($M28),[1]Sheet1!$A$2:$B$8,2))","v":"水"},{"$f":"IF('[1]４月'!D29=\"\",\"\",'[1]４月'!D29)","v":"職員会議，歯科検診"},{"$f":"IF('[1]４月'!E29=\"\",\"\",'[1]４月'!E29)","v":"◎"},{"$f":"IF('[1]４月'!F29=\"\",\"\",'[1]４月'!F29)","v":"◎"},{"$f":"IF('[1]４月'!G29=\"\",\"\",'[1]４月'!G29)","v":"◎"},{"$f":"IF('[1]４月'!H29=\"\",\"\",'[1]４月'!H29)","v":"○"},{"$f":"IF('[1]４月'!I29=\"\",\"\",'[1]４月'!I29)","v":"○"},{"$f":"IF('[1]４月'!J29=\"\",\"\",'[1]４月'!J29)","v":"○"},"2014-04-23",11,12,12,12,12,12]
[null,null,"2014-04-24",24,{"$f":"IF($M29=\"\",\"\",VLOOKUP(WEEKDAY($M29),[1]Sheet1!$A$2:$B$8,2))","v":"木"},{"$f":"IF('[1]４月'!D30=\"\",\"\",'[1]４月'!D30)","v":"1～3年学力推移調査，学年会"},{"$f":"IF('[1]４月'!E30=\"\",\"\",'[1]４月'!E30)","v":"◎"},{"$f":"IF('[1]４月'!F30=\"\",\"\",'[1]４月'!F30)","v":"◎"},{"$f":"IF('[1]４月'!G30=\"\",\"\",'[1]４月'!G30)","v":"◎"},{"$f":"IF('[1]４月'!H30=\"\",\"\",'[1]４月'!H30)","v":"○"},{"$f":"IF('[1]４月'!I30=\"\",\"\",'[1]４月'!I30)","v":"○"},{"$f":"IF('[1]４月'!J30=\"\",\"\",'[1]４月'!J30)","v":"○"},"2014-04-24",12,13,13,13,13,13]
[null,null,"2014-04-25",25,{"$f":"IF($M30=\"\",\"\",VLOOKUP(WEEKDAY($M30),[1]Sheet1!$A$2:$B$8,2))","v":"金"},{"$f":"IF('[1]４月'!D31=\"\",\"\",'[1]４月'!D31)","v":"部登録・部集会，ＰＴＡ総会準備"},{"$f":"IF('[1]４月'!E31=\"\",\"\",'[1]４月'!E31)","v":"◎"},{"$f":"IF('[1]４月'!F31=\"\",\"\",'[1]４月'!F31)","v":"◎"},{"$f":"IF('[1]４月'!G31=\"\",\"\",'[1]４月'!G31)","v":"◎"},{"$f":"IF('[1]４月'!H31=\"\",\"\",'[1]４月'!H31)","v":"○"},{"$f":"IF('[1]４月'!I31=\"\",\"\",'[1]４月'!I31)","v":"○"},{"$f":"IF('[1]４月'!J31=\"\",\"\",'[1]４月'!J31)","v":"○"},"2014-04-25",13,14,14,14,14,14]
[null,null,"2014-04-26",26,{"$f":"IF($M31=\"\",\"\",VLOOKUP(WEEKDAY($M31),[1]Sheet1!$A$2:$B$8,2))","v":"土"},{"$f":"IF('[1]４月'!D32=\"\",\"\",'[1]４月'!D32)","v":"ＰＴＡ総会"},{"$f":"IF('[1]４月'!E32=\"\",\"\",'[1]４月'!E32)","v":"○"},{"$f":"IF('[1]４月'!F32=\"\",\"\",'[1]４月'!F32)","v":"○"},{"$f":"IF('[1]４月'!G32=\"\",\"\",'[1]４月'!G32)","v":"○"},{"$f":"IF('[1]４月'!H32=\"\",\"\",'[1]４月'!H32)","v":"○"},{"$f":"IF('[1]４月'!I32=\"\",\"\",'[1]４月'!I32)","v":"○"},{"$f":"IF('[1]４月'!J32=\"\",\"\",'[1]４月'!J32)","v":"○"},"2014-04-26",14,15,15,15,15,15]
[null,null,"2014-04-27",27,{"$f":"IF($M32=\"\",\"\",VLOOKUP(WEEKDAY($M32),[1]Sheet1!$A$2:$B$8,2))","v":"日"},{"$f":"IF('[1]４月'!D33=\"\",\"\",'[1]４月'!D33)","v":0},{"$f":"IF('[1]４月'!E33=\"\",\"\",'[1]４月'!E33)","v":0},{"$f":"IF('[1]４月'!F33=\"\",\"\",'[1]４月'!F33)","v":0},{"$f":"IF('[1]４月'!G33=\"\",\"\",'[1]４月'!G33)","v":0},{"$f":"IF('[1]４月'!H33=\"\",\"\",'[1]４月'!H33)","v":0},{"$f":"IF('[1]４月'!I33=\"\",\"\",'[1]４月'!I33)","v":0},{"$f":"IF('[1]４月'!J33=\"\",\"\",'[1]４月'!J33)","v":0},"2014-04-27",14,15,15,15,15,15]
[null,null,"2014-04-28",28,{"$f":"IF($M33=\"\",\"\",VLOOKUP(WEEKDAY($M33),[1]Sheet1!$A$2:$B$8,2))","v":"月"},{"$f":"IF('[1]４月'!D34=\"\",\"\",'[1]４月'!D34)","v":"ＰＴＡ総会振休"},{"$f":"IF('[1]４月'!E34=\"\",\"\",'[1]４月'!E34)","v":0},{"$f":"IF('[1]４月'!F34=\"\",\"\",'[1]４月'!F34)","v":0},{"$f":"IF('[1]４月'!G34=\"\",\"\",'[1]４月'!G34)","v":0},{"$f":"IF('[1]４月'!H34=\"\",\"\",'[1]４月'!H34)","v":0},{"$f":"IF('[1]４月'!I34=\"\",\"\",'[1]４月'!I34)","v":0},{"$f":"IF('[1]４月'!J34=\"\",\"\",'[1]４月'!J34)","v":0},"2014-04-28",14,15,15,15,15,15]
[null,null,"2014-04-29",29,{"$f":"IF($M34=\"\",\"\",VLOOKUP(WEEKDAY($M34),[1]Sheet1!$A$2:$B$8,2))","v":"火"},{"$f":"IF('[1]４月'!D35=\"\",\"\",'[1]４月'!D35)","v":"昭和の日"},{"$f":"IF('[1]４月'!E35=\"\",\"\",'[1]４月'!E35)","v":0},{"$f":"IF('[1]４月'!F35=\"\",\"\",'[1]４月'!F35)","v":0},{"$f":"IF('[1]４月'!G35=\"\",\"\",'[1]４月'!G35)","v":0},{"$f":"IF('[1]４月'!H35=\"\",\"\",'[1]４月'!H35)","v":0},{"$f":"IF('[1]４月'!I35=\"\",\"\",'[1]４月'!I35)","v":0},{"$f":"IF('[1]４月'!J35=\"\",\"\",'[1]４月'!J35)","v":0},"2014-04-29",14,15,15,15,15,15]
[null,null,"2014-04-30",30,{"$f":"IF($M35=\"\",\"\",VLOOKUP(WEEKDAY($M35),[1]Sheet1!$A$2:$B$8,2))","v":"水"},{"$f":"IF('[1]４月'!D36=\"\",\"\",'[1]４月'!D36)","v":"中央委員会，生徒情報交換会"},{"$f":"IF('[1]４月'!E36=\"\",\"\",'[1]４月'!E36)","v":"◎"},{"$f":"IF('[1]４月'!F36=\"\",\"\",'[1]４月'!F36)","v":"◎"},{"$f":"IF('[1]４月'!G36=\"\",\"\",'[1]４月'!G36)","v":"◎"},{"$f":"IF('[1]４月'!H36=\"\",\"\",'[1]４月'!H36)","v":"○"},{"$f":"IF('[1]４月'!I36=\"\",\"\",'[1]４月'!I36)","v":"○"},{"$f":"IF('[1]４月'!J36=\"\",\"\",'[1]４月'!J36)","v":"○"},"2014-04-30",15,16,16,16,16,16]
[null,null,null,null,{"$f":"IF($M36=\"\",\"\",VLOOKUP(WEEKDAY($M36),[1]Sheet1!$A$2:$B$8,2))","v":""},{"$f":"IF('[1]４月'!D37=\"\",\"\",'[1]４月'!D37)","v":0},{"$f":"IF('[1]４月'!E37=\"\",\"\",'[1]４月'!E37)","v":0},{"$f":"IF('[1]４月'!F37=\"\",\"\",'[1]４月'!F37)","v":0},{"$f":"IF('[1]４月'!G37=\"\",\"\",'[1]４月'!G37)","v":0},{"$f":"IF('[1]４月'!H37=\"\",\"\",'[1]４月'!H37)","v":0},{"$f":"IF('[1]４月'!I37=\"\",\"\",'[1]４月'!I37)","v":0},{"$f":"IF('[1]４月'!J37=\"\",\"\",'[1]４月'!J37)","v":0},null,15,16,16,16,16,16]
[null,null,"2014-05-01",1,{"$f":"IF($M37=\"\",\"\",VLOOKUP(WEEKDAY($M37),[1]Sheet1!$A$2:$B$8,2))","v":"木"},{"$f":"IF('[1]５月'!D7=\"\",\"\",'[1]５月'!D7)","v":"内科検診"},{"$f":"IF('[1]５月'!E7=\"\",\"\",'[1]５月'!E7)","v":"◎"},{"$f":"IF('[1]５月'!F7=\"\",\"\",'[1]５月'!F7)","v":"◎"},{"$f":"IF('[1]５月'!G7=\"\",\"\",'[1]５月'!G7)","v":"◎"},{"$f":"IF('[1]５月'!H7=\"\",\"\",'[1]５月'!H7)","v":"○"},{"$f":"IF('[1]５月'!I7=\"\",\"\",'[1]５月'!I7)","v":"○"},{"$f":"IF('[1]５月'!J7=\"\",\"\",'[1]５月'!J7)","v":"○"},"2014-05-01",16,17,17,17,17,17]
[null,null,"2014-05-02",2,{"$f":"IF($M38=\"\",\"\",VLOOKUP(WEEKDAY($M38),[1]Sheet1!$A$2:$B$8,2))","v":"金"},{"$f":"IF('[1]５月'!D8=\"\",\"\",'[1]５月'!D8)","v":"体育祭"},{"$f":"IF('[1]５月'!E8=\"\",\"\",'[1]５月'!E8)","v":"○"},{"$f":"IF('[1]５月'!F8=\"\",\"\",'[1]５月'!F8)","v":"○"},{"$f":"IF('[1]５月'!G8=\"\",\"\",'[1]５月'!G8)","v":"○"},{"$f":"IF('[1]５月'!H8=\"\",\"\",'[1]５月'!H8)","v":"○"},{"$f":"IF('[1]５月'!I8=\"\",\"\",'[1]５月'!I8)","v":"○"},{"$f":"IF('[1]５月'!J8=\"\",\"\",'[1]５月'!J8)","v":"○"},"2014-05-02",17,18,18,18,18,18]
[null,null,"2014-05-03",3,{"$f":"IF($M39=\"\",\"\",VLOOKUP(WEEKDAY($M39),[1]Sheet1!$A$2:$B$8,2))","v":"土"},{"$f":"IF('[1]５月'!D9=\"\",\"\",'[1]５月'!D9)","v":"憲法記念日"},{"$f":"IF('[1]５月'!E9=\"\",\"\",'[1]５月'!E9)","v":0},{"$f":"IF('[1]５月'!F9=\"\",\"\",'[1]５月'!F9)","v":0},{"$f":"IF('[1]５月'!G9=\"\",\"\",'[1]５月'!G9)","v":0},{"$f":"IF('[1]５月'!H9=\"\",\"\",'[1]５月'!H9)","v":0},{"$f":"IF('[1]５月'!I9=\"\",\"\",'[1]５月'!I9)","v":0},{"$f":"IF('[1]５月'!J9=\"\",\"\",'[1]５月'!J9)","v":0},"2014-05-03",17,18,18,18,18,18]
[null,null,"2014-05-04",4,{"$f":"IF($M40=\"\",\"\",VLOOKUP(WEEKDAY($M40),[1]Sheet1!$A$2:$B$8,2))","v":"日"},{"$f":"IF('[1]５月'!D10=\"\",\"\",'[1]５月'!D10)","v":"みどりの日"},{"$f":"IF('[1]５月'!E10=\"\",\"\",'[1]５月'!E10)","v":0},{"$f":"IF('[1]５月'!F10=\"\",\"\",'[1]５月'!F10)","v":0},{"$f":"IF('[1]５月'!G10=\"\",\"\",'[1]５月'!G10)","v":0},{"$f":"IF('[1]５月'!H10=\"\",\"\",'[1]５月'!H10)","v":0},{"$f":"IF('[1]５月'!I10=\"\",\"\",'[1]５月'!I10)","v":0},{"$f":"IF('[1]５月'!J10=\"\",\"\",'[1]５月'!J10)","v":0},"2014-05-04",17,18,18,18,18,18]
[null,null,"2014-05-05",5,{"$f":"IF($M41=\"\",\"\",VLOOKUP(WEEKDAY($M41),[1]Sheet1!$A$2:$B$8,2))","v":"月"},{"$f":"IF('[1]５月'!D11=\"\",\"\",'[1]５月'!D11)","v":"こどもの日"},{"$f":"IF('[1]５月'!E11=\"\",\"\",'[1]５月'!E11)","v":0},{"$f":"IF('[1]５月'!F11=\"\",\"\",'[1]５月'!F11)","v":0},{"$f":"IF('[1]５月'!G11=\"\",\"\",'[1]５月'!G11)","v":0},{"$f":"IF('[1]５月'!H11=\"\",\"\",'[1]５月'!H11)","v":0},{"$f":"IF('[1]５月'!I11=\"\",\"\",'[1]５月'!I11)","v":0},{"$f":"IF('[1]５月'!J11=\"\",\"\",'[1]５月'!J11)","v":0},"2014-05-05",17,18,18,18,18,18]
[null,null,"2014-05-06",6,{"$f":"IF($M42=\"\",\"\",VLOOKUP(WEEKDAY($M42),[1]Sheet1!$A$2:$B$8,2))","v":"火"},{"$f":"IF('[1]５月'!D12=\"\",\"\",'[1]５月'!D12)","v":"振替休日"},{"$f":"IF('[1]５月'!E12=\"\",\"\",'[1]５月'!E12)","v":0},{"$f":"IF('[1]５月'!F12=\"\",\"\",'[1]５月'!F12)","v":0},{"$f":"IF('[1]５月'!G12=\"\",\"\",'[1]５月'!G12)","v":0},{"$f":"IF('[1]５月'!H12=\"\",\"\",'[1]５月'!H12)","v":0},{"$f":"IF('[1]５月'!I12=\"\",\"\",'[1]５月'!I12)","v":0},{"$f":"IF('[1]５月'!J12=\"\",\"\",'[1]５月'!J12)","v":0},"2014-05-06",17,18,18,18,18,18]
[null,null,"2014-05-07",7,{"$f":"IF($M43=\"\",\"\",VLOOKUP(WEEKDAY($M43),[1]Sheet1!$A$2:$B$8,2))","v":"水"},{"$f":"IF('[1]５月'!D13=\"\",\"\",'[1]５月'!D13)","v":"体育祭予備日，中央委員会"},{"$f":"IF('[1]５月'!E13=\"\",\"\",'[1]５月'!E13)","v":"○"},{"$f":"IF('[1]５月'!F13=\"\",\"\",'[1]５月'!F13)","v":"○"},{"$f":"IF('[1]５月'!G13=\"\",\"\",'[1]５月'!G13)","v":"○"},{"$f":"IF('[1]５月'!H13=\"\",\"\",'[1]５月'!H13)","v":"○"},{"$f":"IF('[1]５月'!I13=\"\",\"\",'[1]５月'!I13)","v":"○"},{"$f":"IF('[1]５月'!J13=\"\",\"\",'[1]５月'!J13)","v":"○"},"2014-05-07",18,19,19,19,19,19]
[null,null,"2014-05-08",8,{"$f":"IF($M44=\"\",\"\",VLOOKUP(WEEKDAY($M44),[1]Sheet1!$A$2:$B$8,2))","v":"木"},{"$f":"IF('[1]５月'!D14=\"\",\"\",'[1]５月'!D14)","v":"調査書作成委員会，前期教科外研究会①"},{"$f":"IF('[1]５月'!E14=\"\",\"\",'[1]５月'!E14)","v":"◎"},{"$f":"IF('[1]５月'!F14=\"\",\"\",'[1]５月'!F14)","v":"◎"},{"$f":"IF('[1]５月'!G14=\"\",\"\",'[1]５月'!G14)","v":"◎"},{"$f":"IF('[1]５月'!H14=\"\",\"\",'[1]５月'!H14)","v":"○"},{"$f":"IF('[1]５月'!I14=\"\",\"\",'[1]５月'!I14)","v":"○"},{"$f":"IF('[1]５月'!J14=\"\",\"\",'[1]５月'!J14)","v":"○"},"2014-05-08",19,20,20,20,20,20]
[null,null,"2014-05-09",9,{"$f":"IF($M45=\"\",\"\",VLOOKUP(WEEKDAY($M45),[1]Sheet1!$A$2:$B$8,2))","v":"金"},{"$f":"IF('[1]５月'!D15=\"\",\"\",'[1]５月'!D15)","v":"後期教科研究会"},{"$f":"IF('[1]５月'!E15=\"\",\"\",'[1]５月'!E15)","v":"◎"},{"$f":"IF('[1]５月'!F15=\"\",\"\",'[1]５月'!F15)","v":"◎"},{"$f":"IF('[1]５月'!G15=\"\",\"\",'[1]５月'!G15)","v":"◎"},{"$f":"IF('[1]５月'!H15=\"\",\"\",'[1]５月'!H15)","v":"○"},{"$f":"IF('[1]５月'!I15=\"\",\"\",'[1]５月'!I15)","v":"○"},{"$f":"IF('[1]５月'!J15=\"\",\"\",'[1]５月'!J15)","v":"○"},"2014-05-09",20,21,21,21,21,21]
[null,null,"2014-05-10",10,{"$f":"IF($M46=\"\",\"\",VLOOKUP(WEEKDAY($M46),[1]Sheet1!$A$2:$B$8,2))","v":"土"},{"$f":"IF('[1]５月'!D16=\"\",\"\",'[1]５月'!D16)","v":"土曜学習会"},{"$f":"IF('[1]５月'!E16=\"\",\"\",'[1]５月'!E16)","v":0},{"$f":"IF('[1]５月'!F16=\"\",\"\",'[1]５月'!F16)","v":0},{"$f":"IF('[1]５月'!G16=\"\",\"\",'[1]５月'!G16)","v":0},{"$f":"IF('[1]５月'!H16=\"\",\"\",'[1]５月'!H16)","v":0},{"$f":"IF('[1]５月'!I16=\"\",\"\",'[1]５月'!I16)","v":0},{"$f":"IF('[1]５月'!J16=\"\",\"\",'[1]５月'!J16)","v":0},"2014-05-10",20,21,21,21,21,21]
[null,null,"2014-05-11",11,{"$f":"IF($M47=\"\",\"\",VLOOKUP(WEEKDAY($M47),[1]Sheet1!$A$2:$B$8,2))","v":"日"},{"$f":"IF('[1]５月'!D17=\"\",\"\",'[1]５月'!D17)","v":0},{"$f":"IF('[1]５月'!E17=\"\",\"\",'[1]５月'!E17)","v":0},{"$f":"IF('[1]５月'!F17=\"\",\"\",'[1]５月'!F17)","v":0},{"$f":"IF('[1]５月'!G17=\"\",\"\",'[1]５月'!G17)","v":0},{"$f":"IF('[1]５月'!H17=\"\",\"\",'[1]５月'!H17)","v":0},{"$f":"IF('[1]５月'!I17=\"\",\"\",'[1]５月'!I17)","v":0},{"$f":"IF('[1]５月'!J17=\"\",\"\",'[1]５月'!J17)","v":0},"2014-05-11",20,21,21,21,21,21]
[null,null,"2014-05-12",12,{"$f":"IF($M48=\"\",\"\",VLOOKUP(WEEKDAY($M48),[1]Sheet1!$A$2:$B$8,2))","v":"月"},{"$f":"IF('[1]５月'!D18=\"\",\"\",'[1]５月'!D18)","v":0},{"$f":"IF('[1]５月'!E18=\"\",\"\",'[1]５月'!E18)","v":"◎"},{"$f":"IF('[1]５月'!F18=\"\",\"\",'[1]５月'!F18)","v":"◎"},{"$f":"IF('[1]５月'!G18=\"\",\"\",'[1]５月'!G18)","v":"◎"},{"$f":"IF('[1]５月'!H18=\"\",\"\",'[1]５月'!H18)","v":"○"},{"$f":"IF('[1]５月'!I18=\"\",\"\",'[1]５月'!I18)","v":"○"},{"$f":"IF('[1]５月'!J18=\"\",\"\",'[1]５月'!J18)","v":"○"},"2014-05-12",21,22,22,22,22,22]
[null,null,"2014-05-13",13,{"$f":"IF($M49=\"\",\"\",VLOOKUP(WEEKDAY($M49),[1]Sheet1!$A$2:$B$8,2))","v":"火"},{"$f":"IF('[1]５月'!D19=\"\",\"\",'[1]５月'!D19)","v":"進路講演会（全校）"},{"$f":"IF('[1]５月'!E19=\"\",\"\",'[1]５月'!E19)","v":"◎"},{"$f":"IF('[1]５月'!F19=\"\",\"\",'[1]５月'!F19)","v":"◎"},{"$f":"IF('[1]５月'!G19=\"\",\"\",'[1]５月'!G19)","v":"◎"},{"$f":"IF('[1]５月'!H19=\"\",\"\",'[1]５月'!H19)","v":"○"},{"$f":"IF('[1]５月'!I19=\"\",\"\",'[1]５月'!I19)","v":"○"},{"$f":"IF('[1]５月'!J19=\"\",\"\",'[1]５月'!J19)","v":"○"},"2014-05-13",22,23,23,23,23,23]
[null,null,"2014-05-14",14,{"$f":"IF($M50=\"\",\"\",VLOOKUP(WEEKDAY($M50),[1]Sheet1!$A$2:$B$8,2))","v":"水"},{"$f":"IF('[1]５月'!D20=\"\",\"\",'[1]５月'!D20)","v":"市中総体抽選会，2年野外活動"},{"$f":"IF('[1]５月'!E20=\"\",\"\",'[1]５月'!E20)","v":"◎"},{"$f":"IF('[1]５月'!F20=\"\",\"\",'[1]５月'!F20)","v":"○"},{"$f":"IF('[1]５月'!G20=\"\",\"\",'[1]５月'!G20)","v":"◎"},{"$f":"IF('[1]５月'!H20=\"\",\"\",'[1]５月'!H20)","v":"○"},{"$f":"IF('[1]５月'!I20=\"\",\"\",'[1]５月'!I20)","v":"○"},{"$f":"IF('[1]５月'!J20=\"\",\"\",'[1]５月'!J20)","v":"○"},"2014-05-14",23,24,24,24,24,24]
[null,null,"2014-05-15",15,{"$f":"IF($M51=\"\",\"\",VLOOKUP(WEEKDAY($M51),[1]Sheet1!$A$2:$B$8,2))","v":"木"},{"$f":"IF('[1]５月'!D21=\"\",\"\",'[1]５月'!D21)","v":"前期教科研究会①"},{"$f":"IF('[1]５月'!E21=\"\",\"\",'[1]５月'!E21)","v":"◎"},{"$f":"IF('[1]５月'!F21=\"\",\"\",'[1]５月'!F21)","v":"○"},{"$f":"IF('[1]５月'!G21=\"\",\"\",'[1]５月'!G21)","v":"◎"},{"$f":"IF('[1]５月'!H21=\"\",\"\",'[1]５月'!H21)","v":"○"},{"$f":"IF('[1]５月'!I21=\"\",\"\",'[1]５月'!I21)","v":"○"},{"$f":"IF('[1]５月'!J21=\"\",\"\",'[1]５月'!J21)","v":"○"},"2014-05-15",24,25,25,25,25,25]
[null,null,"2014-05-16",16,{"$f":"IF($M52=\"\",\"\",VLOOKUP(WEEKDAY($M52),[1]Sheet1!$A$2:$B$8,2))","v":"金"},{"$f":"IF('[1]５月'!D22=\"\",\"\",'[1]５月'!D22)","v":0},{"$f":"IF('[1]５月'!E22=\"\",\"\",'[1]５月'!E22)","v":"◎"},{"$f":"IF('[1]５月'!F22=\"\",\"\",'[1]５月'!F22)","v":"○"},{"$f":"IF('[1]５月'!G22=\"\",\"\",'[1]５月'!G22)","v":"◎"},{"$f":"IF('[1]５月'!H22=\"\",\"\",'[1]５月'!H22)","v":"○"},{"$f":"IF('[1]５月'!I22=\"\",\"\",'[1]５月'!I22)","v":"○"},{"$f":"IF('[1]５月'!J22=\"\",\"\",'[1]５月'!J22)","v":"○"},"2014-05-16",25,26,26,26,26,26]
[null,null,"2014-05-17",17,{"$f":"IF($M53=\"\",\"\",VLOOKUP(WEEKDAY($M53),[1]Sheet1!$A$2:$B$8,2))","v":"土"},{"$f":"IF('[1]５月'!D23=\"\",\"\",'[1]５月'!D23)","v":0},{"$f":"IF('[1]５月'!E23=\"\",\"\",'[1]５月'!E23)","v":0},{"$f":"IF('[1]５月'!F23=\"\",\"\",'[1]５月'!F23)","v":0},{"$f":"IF('[1]５月'!G23=\"\",\"\",'[1]５月'!G23)","v":0},{"$f":"IF('[1]５月'!H23=\"\",\"\",'[1]５月'!H23)","v":0},{"$f":"IF('[1]５月'!I23=\"\",\"\",'[1]５月'!I23)","v":0},{"$f":"IF('[1]５月'!J23=\"\",\"\",'[1]５月'!J23)","v":0},"2014-05-17",25,26,26,26,26,26]
[null,null,"2014-05-18",18,{"$f":"IF($M54=\"\",\"\",VLOOKUP(WEEKDAY($M54),[1]Sheet1!$A$2:$B$8,2))","v":"日"},{"$f":"IF('[1]５月'!D24=\"\",\"\",'[1]５月'!D24)","v":0},{"$f":"IF('[1]５月'!E24=\"\",\"\",'[1]５月'!E24)","v":0},{"$f":"IF('[1]５月'!F24=\"\",\"\",'[1]５月'!F24)","v":0},{"$f":"IF('[1]５月'!G24=\"\",\"\",'[1]５月'!G24)","v":0},{"$f":"IF('[1]５月'!H24=\"\",\"\",'[1]５月'!H24)","v":0},{"$f":"IF('[1]５月'!I24=\"\",\"\",'[1]５月'!I24)","v":0},{"$f":"IF('[1]５月'!J24=\"\",\"\",'[1]５月'!J24)","v":0},"2014-05-18",25,26,26,26,26,26]
[null,null,"2014-05-19",19,{"$f":"IF($M55=\"\",\"\",VLOOKUP(WEEKDAY($M55),[1]Sheet1!$A$2:$B$8,2))","v":"月"},{"$f":"IF('[1]５月'!D25=\"\",\"\",'[1]５月'!D25)","v":"教育課程委員会"},{"$f":"IF('[1]５月'!E25=\"\",\"\",'[1]５月'!E25)","v":"◎"},{"$f":"IF('[1]５月'!F25=\"\",\"\",'[1]５月'!F25)","v":"◎"},{"$f":"IF('[1]５月'!G25=\"\",\"\",'[1]５月'!G25)","v":"◎"},{"$f":"IF('[1]５月'!H25=\"\",\"\",'[1]５月'!H25)","v":"○"},{"$f":"IF('[1]５月'!I25=\"\",\"\",'[1]５月'!I25)","v":"○"},{"$f":"IF('[1]５月'!J25=\"\",\"\",'[1]５月'!J25)","v":"○"},"2014-05-19",26,27,27,27,27,27]
[null,null,"2014-05-20",20,{"$f":"IF($M56=\"\",\"\",VLOOKUP(WEEKDAY($M56),[1]Sheet1!$A$2:$B$8,2))","v":"火"},{"$f":"IF('[1]５月'!D26=\"\",\"\",'[1]５月'!D26)","v":0},{"$f":"IF('[1]５月'!E26=\"\",\"\",'[1]５月'!E26)","v":"◎"},{"$f":"IF('[1]５月'!F26=\"\",\"\",'[1]５月'!F26)","v":"◎"},{"$f":"IF('[1]５月'!G26=\"\",\"\",'[1]５月'!G26)","v":"◎"},{"$f":"IF('[1]５月'!H26=\"\",\"\",'[1]５月'!H26)","v":"○"},{"$f":"IF('[1]５月'!I26=\"\",\"\",'[1]５月'!I26)","v":"○"},{"$f":"IF('[1]５月'!J26=\"\",\"\",'[1]５月'!J26)","v":"○"},"2014-05-20",27,28,28,28,28,28]
[null,null,"2014-05-21",21,{"$f":"IF($M57=\"\",\"\",VLOOKUP(WEEKDAY($M57),[1]Sheet1!$A$2:$B$8,2))","v":"水"},{"$f":"IF('[1]５月'!D27=\"\",\"\",'[1]５月'!D27)","v":"運営委員会，内科検診，歯科検診"},{"$f":"IF('[1]５月'!E27=\"\",\"\",'[1]５月'!E27)","v":"◎"},{"$f":"IF('[1]５月'!F27=\"\",\"\",'[1]５月'!F27)","v":"◎"},{"$f":"IF('[1]５月'!G27=\"\",\"\",'[1]５月'!G27)","v":"◎"},{"$f":"IF('[1]５月'!H27=\"\",\"\",'[1]５月'!H27)","v":"○"},{"$f":"IF('[1]５月'!I27=\"\",\"\",'[1]５月'!I27)","v":"○"},{"$f":"IF('[1]５月'!J27=\"\",\"\",'[1]５月'!J27)","v":"○"},"2014-05-21",28,29,29,29,29,29]
[null,null,"2014-05-22",22,{"$f":"IF($M58=\"\",\"\",VLOOKUP(WEEKDAY($M58),[1]Sheet1!$A$2:$B$8,2))","v":"木"},{"$f":"IF('[1]５月'!D28=\"\",\"\",'[1]５月'!D28)","v":"内科検診"},{"$f":"IF('[1]５月'!E28=\"\",\"\",'[1]５月'!E28)","v":"◎"},{"$f":"IF('[1]５月'!F28=\"\",\"\",'[1]５月'!F28)","v":"◎"},{"$f":"IF('[1]５月'!G28=\"\",\"\",'[1]５月'!G28)","v":"◎"},{"$f":"IF('[1]５月'!H28=\"\",\"\",'[1]５月'!H28)","v":"○"},{"$f":"IF('[1]５月'!I28=\"\",\"\",'[1]５月'!I28)","v":"○"},{"$f":"IF('[1]５月'!J28=\"\",\"\",'[1]５月'!J28)","v":"○"},"2014-05-22",29,30,30,30,30,30]
[null,null,"2014-05-23",23,{"$f":"IF($M59=\"\",\"\",VLOOKUP(WEEKDAY($M59),[1]Sheet1!$A$2:$B$8,2))","v":"金"},{"$f":"IF('[1]５月'!D29=\"\",\"\",'[1]５月'!D29)","v":"生徒総会，壮行式"},{"$f":"IF('[1]５月'!E29=\"\",\"\",'[1]５月'!E29)","v":"◎"},{"$f":"IF('[1]５月'!F29=\"\",\"\",'[1]５月'!F29)","v":"◎"},{"$f":"IF('[1]５月'!G29=\"\",\"\",'[1]５月'!G29)","v":"◎"},{"$f":"IF('[1]５月'!H29=\"\",\"\",'[1]５月'!H29)","v":"○"},{"$f":"IF('[1]５月'!I29=\"\",\"\",'[1]５月'!I29)","v":"○"},{"$f":"IF('[1]５月'!J29=\"\",\"\",'[1]５月'!J29)","v":"○"},"2014-05-23",30,31,31,31,31,31]
[null,null,"2014-05-24",24,{"$f":"IF($M60=\"\",\"\",VLOOKUP(WEEKDAY($M60),[1]Sheet1!$A$2:$B$8,2))","v":"土"},{"$f":"IF('[1]５月'!D30=\"\",\"\",'[1]５月'!D30)","v":"土曜学習会"},{"$f":"IF('[1]５月'!E30=\"\",\"\",'[1]５月'!E30)","v":0},{"$f":"IF('[1]５月'!F30=\"\",\"\",'[1]５月'!F30)","v":0},{"$f":"IF('[1]５月'!G30=\"\",\"\",'[1]５月'!G30)","v":0},{"$f":"IF('[1]５月'!H30=\"\",\"\",'[1]５月'!H30)","v":0},{"$f":"IF('[1]５月'!I30=\"\",\"\",'[1]５月'!I30)","v":0},{"$f":"IF('[1]５月'!J30=\"\",\"\",'[1]５月'!J30)","v":0},"2014-05-24",30,31,31,31,31,31]
[null,null,"2014-05-25",25,{"$f":"IF($M61=\"\",\"\",VLOOKUP(WEEKDAY($M61),[1]Sheet1!$A$2:$B$8,2))","v":"日"},{"$f":"IF('[1]５月'!D31=\"\",\"\",'[1]５月'!D31)","v":0},{"$f":"IF('[1]５月'!E31=\"\",\"\",'[1]５月'!E31)","v":0},{"$f":"IF('[1]５月'!F31=\"\",\"\",'[1]５月'!F31)","v":0},{"$f":"IF('[1]５月'!G31=\"\",\"\",'[1]５月'!G31)","v":0},{"$f":"IF('[1]５月'!H31=\"\",\"\",'[1]５月'!H31)","v":0},{"$f":"IF('[1]５月'!I31=\"\",\"\",'[1]５月'!I31)","v":0},{"$f":"IF('[1]５月'!J31=\"\",\"\",'[1]５月'!J31)","v":0},"2014-05-25",30,31,31,31,31,31]
[null,null,"2014-05-26",26,{"$f":"IF($M62=\"\",\"\",VLOOKUP(WEEKDAY($M62),[1]Sheet1!$A$2:$B$8,2))","v":"月"},{"$f":"IF('[1]５月'!D32=\"\",\"\",'[1]５月'!D32)","v":0},{"$f":"IF('[1]５月'!E32=\"\",\"\",'[1]５月'!E32)","v":"◎"},{"$f":"IF('[1]５月'!F32=\"\",\"\",'[1]５月'!F32)","v":"◎"},{"$f":"IF('[1]５月'!G32=\"\",\"\",'[1]５月'!G32)","v":"◎"},{"$f":"IF('[1]５月'!H32=\"\",\"\",'[1]５月'!H32)","v":"○"},{"$f":"IF('[1]５月'!I32=\"\",\"\",'[1]５月'!I32)","v":"○"},{"$f":"IF('[1]５月'!J32=\"\",\"\",'[1]５月'!J32)","v":"○"},"2014-05-26",31,32,32,32,32,32]
[null,null,"2014-05-27",27,{"$f":"IF($M63=\"\",\"\",VLOOKUP(WEEKDAY($M63),[1]Sheet1!$A$2:$B$8,2))","v":"火"},{"$f":"IF('[1]５月'!D33=\"\",\"\",'[1]５月'!D33)","v":"職員会議"},{"$f":"IF('[1]５月'!E33=\"\",\"\",'[1]５月'!E33)","v":"◎"},{"$f":"IF('[1]５月'!F33=\"\",\"\",'[1]５月'!F33)","v":"◎"},{"$f":"IF('[1]５月'!G33=\"\",\"\",'[1]５月'!G33)","v":"◎"},{"$f":"IF('[1]５月'!H33=\"\",\"\",'[1]５月'!H33)","v":"○"},{"$f":"IF('[1]５月'!I33=\"\",\"\",'[1]５月'!I33)","v":"○"},{"$f":"IF('[1]５月'!J33=\"\",\"\",'[1]５月'!J33)","v":"○"},"2014-05-27",32,33,33,33,33,33]
[null,null,"2014-05-28",28,{"$f":"IF($M64=\"\",\"\",VLOOKUP(WEEKDAY($M64),[1]Sheet1!$A$2:$B$8,2))","v":"水"},{"$f":"IF('[1]５月'!D34=\"\",\"\",'[1]５月'!D34)","v":"学年会，内科検診"},{"$f":"IF('[1]５月'!E34=\"\",\"\",'[1]５月'!E34)","v":"◎"},{"$f":"IF('[1]５月'!F34=\"\",\"\",'[1]５月'!F34)","v":"◎"},{"$f":"IF('[1]５月'!G34=\"\",\"\",'[1]５月'!G34)","v":"◎"},{"$f":"IF('[1]５月'!H34=\"\",\"\",'[1]５月'!H34)","v":"○"},{"$f":"IF('[1]５月'!I34=\"\",\"\",'[1]５月'!I34)","v":"○"},{"$f":"IF('[1]５月'!J34=\"\",\"\",'[1]５月'!J34)","v":"○"},"2014-05-28",33,34,34,34,34,34]
[null,null,"2014-05-29",29,{"$f":"IF($M65=\"\",\"\",VLOOKUP(WEEKDAY($M65),[1]Sheet1!$A$2:$B$8,2))","v":"木"},{"$f":"IF('[1]５月'!D35=\"\",\"\",'[1]５月'!D35)","v":"眼科検診"},{"$f":"IF('[1]５月'!E35=\"\",\"\",'[1]５月'!E35)","v":"◎"},{"$f":"IF('[1]５月'!F35=\"\",\"\",'[1]５月'!F35)","v":"◎"},{"$f":"IF('[1]５月'!G35=\"\",\"\",'[1]５月'!G35)","v":"◎"},{"$f":"IF('[1]５月'!H35=\"\",\"\",'[1]５月'!H35)","v":"○"},{"$f":"IF('[1]５月'!I35=\"\",\"\",'[1]５月'!I35)","v":"○"},{"$f":"IF('[1]５月'!J35=\"\",\"\",'[1]５月'!J35)","v":"○"},"2014-05-29",34,35,35,35,35,35]
[null,null,"2014-05-30",30,{"$f":"IF($M66=\"\",\"\",VLOOKUP(WEEKDAY($M66),[1]Sheet1!$A$2:$B$8,2))","v":"金"},{"$f":"IF('[1]５月'!D36=\"\",\"\",'[1]５月'!D36)","v":"各種委員会"},{"$f":"IF('[1]５月'!E36=\"\",\"\",'[1]５月'!E36)","v":"◎"},{"$f":"IF('[1]５月'!F36=\"\",\"\",'[1]５月'!F36)","v":"◎"},{"$f":"IF('[1]５月'!G36=\"\",\"\",'[1]５月'!G36)","v":"◎"},{"$f":"IF('[1]５月'!H36=\"\",\"\",'[1]５月'!H36)","v":"○"},{"$f":"IF('[1]５月'!I36=\"\",\"\",'[1]５月'!I36)","v":"○"},{"$f":"IF('[1]５月'!J36=\"\",\"\",'[1]５月'!J36)","v":"○"},"2014-05-30",35,36,36,36,36,36]
[null,null,"2014-05-31",31,{"$f":"IF($M67=\"\",\"\",VLOOKUP(WEEKDAY($M67),[1]Sheet1!$A$2:$B$8,2))","v":"土"},{"$f":"IF('[1]５月'!D37=\"\",\"\",'[1]５月'!D37)","v":0},{"$f":"IF('[1]５月'!E37=\"\",\"\",'[1]５月'!E37)","v":0},{"$f":"IF('[1]５月'!F37=\"\",\"\",'[1]５月'!F37)","v":0},{"$f":"IF('[1]５月'!G37=\"\",\"\",'[1]５月'!G37)","v":0},{"$f":"IF('[1]５月'!H37=\"\",\"\",'[1]５月'!H37)","v":0},{"$f":"IF('[1]５月'!I37=\"\",\"\",'[1]５月'!I37)","v":0},{"$f":"IF('[1]５月'!J37=\"\",\"\",'[1]５月'!J37)","v":0},"2014-05-31",35,36,36,36,36,36]
[null,null,"2014-06-01",1,{"$f":"IF($M68=\"\",\"\",VLOOKUP(WEEKDAY($M68),[1]Sheet1!$A$2:$B$8,2))","v":"日"},{"$f":"IF('[1]６月'!D7=\"\",\"\",'[1]６月'!D7)","v":0},{"$f":"IF('[1]６月'!E7=\"\",\"\",'[1]６月'!E7)","v":0},{"$f":"IF('[1]６月'!F7=\"\",\"\",'[1]６月'!F7)","v":0},{"$f":"IF('[1]６月'!G7=\"\",\"\",'[1]６月'!G7)","v":0},{"$f":"IF('[1]６月'!H7=\"\",\"\",'[1]６月'!H7)","v":0},{"$f":"IF('[1]６月'!I7=\"\",\"\",'[1]６月'!I7)","v":0},{"$f":"IF('[1]６月'!J7=\"\",\"\",'[1]６月'!J7)","v":0},"2014-06-01",35,36,36,36,36,36]
[null,null,"2014-06-02",2,{"$f":"IF($M69=\"\",\"\",VLOOKUP(WEEKDAY($M69),[1]Sheet1!$A$2:$B$8,2))","v":"月"},{"$f":"IF('[1]６月'!D8=\"\",\"\",'[1]６月'!D8)","v":0},{"$f":"IF('[1]６月'!E8=\"\",\"\",'[1]６月'!E8)","v":"◎"},{"$f":"IF('[1]６月'!F8=\"\",\"\",'[1]６月'!F8)","v":"◎"},{"$f":"IF('[1]６月'!G8=\"\",\"\",'[1]６月'!G8)","v":"◎"},{"$f":"IF('[1]６月'!H8=\"\",\"\",'[1]６月'!H8)","v":"○"},{"$f":"IF('[1]６月'!I8=\"\",\"\",'[1]６月'!I8)","v":"○"},{"$f":"IF('[1]６月'!J8=\"\",\"\",'[1]６月'!J8)","v":"○"},"2014-06-02",36,37,37,37,37,37]
[null,null,"2014-06-03",3,{"$f":"IF($M70=\"\",\"\",VLOOKUP(WEEKDAY($M70),[1]Sheet1!$A$2:$B$8,2))","v":"火"},{"$f":"IF('[1]６月'!D9=\"\",\"\",'[1]６月'!D9)","v":0},{"$f":"IF('[1]６月'!E9=\"\",\"\",'[1]６月'!E9)","v":"◎"},{"$f":"IF('[1]６月'!F9=\"\",\"\",'[1]６月'!F9)","v":"◎"},{"$f":"IF('[1]６月'!G9=\"\",\"\",'[1]６月'!G9)","v":"◎"},{"$f":"IF('[1]６月'!H9=\"\",\"\",'[1]６月'!H9)","v":"○"},{"$f":"IF('[1]６月'!I9=\"\",\"\",'[1]６月'!I9)","v":"○"},{"$f":"IF('[1]６月'!J9=\"\",\"\",'[1]６月'!J9)","v":"○"},"2014-06-03",37,38,38,38,38,38]
[null,null,"2014-06-04",4,{"$f":"IF($M71=\"\",\"\",VLOOKUP(WEEKDAY($M71),[1]Sheet1!$A$2:$B$8,2))","v":"水"},{"$f":"IF('[1]６月'!D10=\"\",\"\",'[1]６月'!D10)","v":0},{"$f":"IF('[1]６月'!E10=\"\",\"\",'[1]６月'!E10)","v":"◎"},{"$f":"IF('[1]６月'!F10=\"\",\"\",'[1]６月'!F10)","v":"◎"},{"$f":"IF('[1]６月'!G10=\"\",\"\",'[1]６月'!G10)","v":"◎"},{"$f":"IF('[1]６月'!H10=\"\",\"\",'[1]６月'!H10)","v":"○"},{"$f":"IF('[1]６月'!I10=\"\",\"\",'[1]６月'!I10)","v":"○"},{"$f":"IF('[1]６月'!J10=\"\",\"\",'[1]６月'!J10)","v":"○"},"2014-06-04",38,39,39,39,39,39]
[null,null,"2014-06-05",5,{"$f":"IF($M72=\"\",\"\",VLOOKUP(WEEKDAY($M72),[1]Sheet1!$A$2:$B$8,2))","v":"木"},{"$f":"IF('[1]６月'!D11=\"\",\"\",'[1]６月'!D11)","v":0},{"$f":"IF('[1]６月'!E11=\"\",\"\",'[1]６月'!E11)","v":"◎"},{"$f":"IF('[1]６月'!F11=\"\",\"\",'[1]６月'!F11)","v":"◎"},{"$f":"IF('[1]６月'!G11=\"\",\"\",'[1]６月'!G11)","v":"◎"},{"$f":"IF('[1]６月'!H11=\"\",\"\",'[1]６月'!H11)","v":"○"},{"$f":"IF('[1]６月'!I11=\"\",\"\",'[1]６月'!I11)","v":"○"},{"$f":"IF('[1]６月'!J11=\"\",\"\",'[1]６月'!J11)","v":"○"},"2014-06-05",39,40,40,40,40,40]
[null,null,"2014-06-06",6,{"$f":"IF($M73=\"\",\"\",VLOOKUP(WEEKDAY($M73),[1]Sheet1!$A$2:$B$8,2))","v":"金"},{"$f":"IF('[1]６月'!D12=\"\",\"\",'[1]６月'!D12)","v":"英検"},{"$f":"IF('[1]６月'!E12=\"\",\"\",'[1]６月'!E12)","v":"◎"},{"$f":"IF('[1]６月'!F12=\"\",\"\",'[1]６月'!F12)","v":"◎"},{"$f":"IF('[1]６月'!G12=\"\",\"\",'[1]６月'!G12)","v":"◎"},{"$f":"IF('[1]６月'!H12=\"\",\"\",'[1]６月'!H12)","v":"○"},{"$f":"IF('[1]６月'!I12=\"\",\"\",'[1]６月'!I12)","v":"○"},{"$f":"IF('[1]６月'!J12=\"\",\"\",'[1]６月'!J12)","v":"○"},"2014-06-06",40,41,41,41,41,41]
[null,null,"2014-06-07",7,{"$f":"IF($M74=\"\",\"\",VLOOKUP(WEEKDAY($M74),[1]Sheet1!$A$2:$B$8,2))","v":"土"},{"$f":"IF('[1]６月'!D13=\"\",\"\",'[1]６月'!D13)","v":"県高総体"},{"$f":"IF('[1]６月'!E13=\"\",\"\",'[1]６月'!E13)","v":0},{"$f":"IF('[1]６月'!F13=\"\",\"\",'[1]６月'!F13)","v":0},{"$f":"IF('[1]６月'!G13=\"\",\"\",'[1]６月'!G13)","v":0},{"$f":"IF('[1]６月'!H13=\"\",\"\",'[1]６月'!H13)","v":"○"},{"$f":"IF('[1]６月'!I13=\"\",\"\",'[1]６月'!I13)","v":"○"},{"$f":"IF('[1]６月'!J13=\"\",\"\",'[1]６月'!J13)","v":"○"},"2014-06-07",40,41,41,42,42,42]
[null,null,"2014-06-08",8,{"$f":"IF($M75=\"\",\"\",VLOOKUP(WEEKDAY($M75),[1]Sheet1!$A$2:$B$8,2))","v":"日"},{"$f":"IF('[1]６月'!D14=\"\",\"\",'[1]６月'!D14)","v":0},{"$f":"IF('[1]６月'!E14=\"\",\"\",'[1]６月'!E14)","v":0},{"$f":"IF('[1]６月'!F14=\"\",\"\",'[1]６月'!F14)","v":0},{"$f":"IF('[1]６月'!G14=\"\",\"\",'[1]６月'!G14)","v":0},{"$f":"IF('[1]６月'!H14=\"\",\"\",'[1]６月'!H14)","v":0},{"$f":"IF('[1]６月'!I14=\"\",\"\",'[1]６月'!I14)","v":0},{"$f":"IF('[1]６月'!J14=\"\",\"\",'[1]６月'!J14)","v":0},"2014-06-08",40,41,41,42,42,42]
[null,null,"2014-06-09",9,{"$f":"IF($M76=\"\",\"\",VLOOKUP(WEEKDAY($M76),[1]Sheet1!$A$2:$B$8,2))","v":"月"},{"$f":"IF('[1]６月'!D15=\"\",\"\",'[1]６月'!D15)","v":0},{"$f":"IF('[1]６月'!E15=\"\",\"\",'[1]６月'!E15)","v":"◎"},{"$f":"IF('[1]６月'!F15=\"\",\"\",'[1]６月'!F15)","v":"◎"},{"$f":"IF('[1]６月'!G15=\"\",\"\",'[1]６月'!G15)","v":"◎"},{"$f":"IF('[1]６月'!H15=\"\",\"\",'[1]６月'!H15)","v":"○"},{"$f":"IF('[1]６月'!I15=\"\",\"\",'[1]６月'!I15)","v":"○"},{"$f":"IF('[1]６月'!J15=\"\",\"\",'[1]６月'!J15)","v":"○"},"2014-06-09",41,42,42,43,43,43]
[null,null,"2014-06-10",10,{"$f":"IF($M77=\"\",\"\",VLOOKUP(WEEKDAY($M77),[1]Sheet1!$A$2:$B$8,2))","v":"火"},{"$f":"IF('[1]６月'!D16=\"\",\"\",'[1]６月'!D16)","v":"振替休業日（前期6/14，後期6/7分）"},{"$f":"IF('[1]６月'!E16=\"\",\"\",'[1]６月'!E16)","v":0},{"$f":"IF('[1]６月'!F16=\"\",\"\",'[1]６月'!F16)","v":0},{"$f":"IF('[1]６月'!G16=\"\",\"\",'[1]６月'!G16)","v":0},{"$f":"IF('[1]６月'!H16=\"\",\"\",'[1]６月'!H16)","v":0},{"$f":"IF('[1]６月'!I16=\"\",\"\",'[1]６月'!I16)","v":0},{"$f":"IF('[1]６月'!J16=\"\",\"\",'[1]６月'!J16)","v":0},"2014-06-10",41,42,42,43,43,43]
[null,null,"2014-06-11",11,{"$f":"IF($M78=\"\",\"\",VLOOKUP(WEEKDAY($M78),[1]Sheet1!$A$2:$B$8,2))","v":"水"},{"$f":"IF('[1]６月'!D17=\"\",\"\",'[1]６月'!D17)","v":"中央委員会，耳鼻科検診"},{"$f":"IF('[1]６月'!E17=\"\",\"\",'[1]６月'!E17)","v":"◎"},{"$f":"IF('[1]６月'!F17=\"\",\"\",'[1]６月'!F17)","v":"◎"},{"$f":"IF('[1]６月'!G17=\"\",\"\",'[1]６月'!G17)","v":"◎"},{"$f":"IF('[1]６月'!H17=\"\",\"\",'[1]６月'!H17)","v":"○"},{"$f":"IF('[1]６月'!I17=\"\",\"\",'[1]６月'!I17)","v":"○"},{"$f":"IF('[1]６月'!J17=\"\",\"\",'[1]６月'!J17)","v":"○"},"2014-06-11",42,43,43,44,44,44]
[null,null,"2014-06-12",12,{"$f":"IF($M79=\"\",\"\",VLOOKUP(WEEKDAY($M79),[1]Sheet1!$A$2:$B$8,2))","v":"木"},{"$f":"IF('[1]６月'!D18=\"\",\"\",'[1]６月'!D18)","v":0},{"$f":"IF('[1]６月'!E18=\"\",\"\",'[1]６月'!E18)","v":"◎"},{"$f":"IF('[1]６月'!F18=\"\",\"\",'[1]６月'!F18)","v":"◎"},{"$f":"IF('[1]６月'!G18=\"\",\"\",'[1]６月'!G18)","v":"◎"},{"$f":"IF('[1]６月'!H18=\"\",\"\",'[1]６月'!H18)","v":"○"},{"$f":"IF('[1]６月'!I18=\"\",\"\",'[1]６月'!I18)","v":"○"},{"$f":"IF('[1]６月'!J18=\"\",\"\",'[1]６月'!J18)","v":"○"},"2014-06-12",43,44,44,45,45,45]
[null,null,"2014-06-13",13,{"$f":"IF($M80=\"\",\"\",VLOOKUP(WEEKDAY($M80),[1]Sheet1!$A$2:$B$8,2))","v":"金"},{"$f":"IF('[1]６月'!D19=\"\",\"\",'[1]６月'!D19)","v":"防災避難訓練，6年進研模試"},{"$f":"IF('[1]６月'!E19=\"\",\"\",'[1]６月'!E19)","v":"◎"},{"$f":"IF('[1]６月'!F19=\"\",\"\",'[1]６月'!F19)","v":"◎"},{"$f":"IF('[1]６月'!G19=\"\",\"\",'[1]６月'!G19)","v":"◎"},{"$f":"IF('[1]６月'!H19=\"\",\"\",'[1]６月'!H19)","v":"○"},{"$f":"IF('[1]６月'!I19=\"\",\"\",'[1]６月'!I19)","v":"○"},{"$f":"IF('[1]６月'!J19=\"\",\"\",'[1]６月'!J19)","v":"○"},"2014-06-13",44,45,45,46,46,46]
[null,null,"2014-06-14",14,{"$f":"IF($M81=\"\",\"\",VLOOKUP(WEEKDAY($M81),[1]Sheet1!$A$2:$B$8,2))","v":"土"},{"$f":"IF('[1]６月'!D20=\"\",\"\",'[1]６月'!D20)","v":"市中総体"},{"$f":"IF('[1]６月'!E20=\"\",\"\",'[1]６月'!E20)","v":"○"},{"$f":"IF('[1]６月'!F20=\"\",\"\",'[1]６月'!F20)","v":"○"},{"$f":"IF('[1]６月'!G20=\"\",\"\",'[1]６月'!G20)","v":"○"},{"$f":"IF('[1]６月'!H20=\"\",\"\",'[1]６月'!H20)","v":0},{"$f":"IF('[1]６月'!I20=\"\",\"\",'[1]６月'!I20)","v":0},{"$f":"IF('[1]６月'!J20=\"\",\"\",'[1]６月'!J20)","v":0},"2014-06-14",45,46,46,46,46,46]
[null,null,"2014-06-15",15,{"$f":"IF($M82=\"\",\"\",VLOOKUP(WEEKDAY($M82),[1]Sheet1!$A$2:$B$8,2))","v":"日"},{"$f":"IF('[1]６月'!D21=\"\",\"\",'[1]６月'!D21)","v":0},{"$f":"IF('[1]６月'!E21=\"\",\"\",'[1]６月'!E21)","v":"○"},{"$f":"IF('[1]６月'!F21=\"\",\"\",'[1]６月'!F21)","v":"○"},{"$f":"IF('[1]６月'!G21=\"\",\"\",'[1]６月'!G21)","v":"○"},{"$f":"IF('[1]６月'!H21=\"\",\"\",'[1]６月'!H21)","v":0},{"$f":"IF('[1]６月'!I21=\"\",\"\",'[1]６月'!I21)","v":0},{"$f":"IF('[1]６月'!J21=\"\",\"\",'[1]６月'!J21)","v":0},"2014-06-15",46,47,47,46,46,46]
[null,null,"2014-06-16",16,{"$f":"IF($M83=\"\",\"\",VLOOKUP(WEEKDAY($M83),[1]Sheet1!$A$2:$B$8,2))","v":"月"},{"$f":"IF('[1]６月'!D22=\"\",\"\",'[1]６月'!D22)","v":"　　試合がない場合前期課程午前授業"},{"$f":"IF('[1]６月'!E22=\"\",\"\",'[1]６月'!E22)","v":"○"},{"$f":"IF('[1]６月'!F22=\"\",\"\",'[1]６月'!F22)","v":"○"},{"$f":"IF('[1]６月'!G22=\"\",\"\",'[1]６月'!G22)","v":"○"},{"$f":"IF('[1]６月'!H22=\"\",\"\",'[1]６月'!H22)","v":"○"},{"$f":"IF('[1]６月'!I22=\"\",\"\",'[1]６月'!I22)","v":"○"},{"$f":"IF('[1]６月'!J22=\"\",\"\",'[1]６月'!J22)","v":"○"},"2014-06-16",47,48,48,47,47,47]
[null,null,"2014-06-17",17,{"$f":"IF($M84=\"\",\"\",VLOOKUP(WEEKDAY($M84),[1]Sheet1!$A$2:$B$8,2))","v":"火"},{"$f":"IF('[1]６月'!D23=\"\",\"\",'[1]６月'!D23)","v":"各種委員会"},{"$f":"IF('[1]６月'!E23=\"\",\"\",'[1]６月'!E23)","v":"○"},{"$f":"IF('[1]６月'!F23=\"\",\"\",'[1]６月'!F23)","v":"○"},{"$f":"IF('[1]６月'!G23=\"\",\"\",'[1]６月'!G23)","v":"○"},{"$f":"IF('[1]６月'!H23=\"\",\"\",'[1]６月'!H23)","v":"○"},{"$f":"IF('[1]６月'!I23=\"\",\"\",'[1]６月'!I23)","v":"○"},{"$f":"IF('[1]６月'!J23=\"\",\"\",'[1]６月'!J23)","v":"○"},"2014-06-17",48,49,49,48,48,48]
[null,null,"2014-06-18",18,{"$f":"IF($M85=\"\",\"\",VLOOKUP(WEEKDAY($M85),[1]Sheet1!$A$2:$B$8,2))","v":"水"},{"$f":"IF('[1]６月'!D24=\"\",\"\",'[1]６月'!D24)","v":"運営委員会"},{"$f":"IF('[1]６月'!E24=\"\",\"\",'[1]６月'!E24)","v":"◎"},{"$f":"IF('[1]６月'!F24=\"\",\"\",'[1]６月'!F24)","v":"◎"},{"$f":"IF('[1]６月'!G24=\"\",\"\",'[1]６月'!G24)","v":"◎"},{"$f":"IF('[1]６月'!H24=\"\",\"\",'[1]６月'!H24)","v":"○"},{"$f":"IF('[1]６月'!I24=\"\",\"\",'[1]６月'!I24)","v":"○"},{"$f":"IF('[1]６月'!J24=\"\",\"\",'[1]６月'!J24)","v":"○"},"2014-06-18",{"$f":"COUNTIF(G85,\"○\")+COUNTIF(G85,\"◎\")+N84","v":49},{"$f":"COUNTIF(H85,\"○\")+COUNTIF(H85,\"◎\")+O84","v":50},{"$f":"COUNTIF(I85,\"○\")+COUNTIF(I85,\"◎\")+P84","v":50},{"$f":"COUNTIF(J85,\"○\")+COUNTIF(J85,\"◎\")+Q84","v":49},{"$f":"COUNTIF(K85,\"○\")+COUNTIF(K85,\"◎\")+R84","v":49},{"$f":"COUNTIF(L85,\"○\")+COUNTIF(L85,\"◎\")+S84","v":49}]
[null,null,"2014-06-19",19,{"$f":"IF($M86=\"\",\"\",VLOOKUP(WEEKDAY($M86),[1]Sheet1!$A$2:$B$8,2))","v":"木"},{"$f":"IF('[1]６月'!D25=\"\",\"\",'[1]６月'!D25)","v":"教科書選定委員会"},{"$f":"IF('[1]６月'!E25=\"\",\"\",'[1]６月'!E25)","v":"◎"},{"$f":"IF('[1]６月'!F25=\"\",\"\",'[1]６月'!F25)","v":"◎"},{"$f":"IF('[1]６月'!G25=\"\",\"\",'[1]６月'!G25)","v":"◎"},{"$f":"IF('[1]６月'!H25=\"\",\"\",'[1]６月'!H25)","v":"○"},{"$f":"IF('[1]６月'!I25=\"\",\"\",'[1]６月'!I25)","v":"○"},{"$f":"IF('[1]６月'!J25=\"\",\"\",'[1]６月'!J25)","v":"○"},"2014-06-19",50,51,51,50,50,50]
[null,null,"2014-06-20",20,{"$f":"IF($M87=\"\",\"\",VLOOKUP(WEEKDAY($M87),[1]Sheet1!$A$2:$B$8,2))","v":"金"},{"$f":"IF('[1]６月'!D26=\"\",\"\",'[1]６月'!D26)","v":"前期振替休業日（6/15分）"},{"$f":"IF('[1]６月'!E26=\"\",\"\",'[1]６月'!E26)","v":0},{"$f":"IF('[1]６月'!F26=\"\",\"\",'[1]６月'!F26)","v":0},{"$f":"IF('[1]６月'!G26=\"\",\"\",'[1]６月'!G26)","v":0},{"$f":"IF('[1]６月'!H26=\"\",\"\",'[1]６月'!H26)","v":"○"},{"$f":"IF('[1]６月'!I26=\"\",\"\",'[1]６月'!I26)","v":"○"},{"$f":"IF('[1]６月'!J26=\"\",\"\",'[1]６月'!J26)","v":"○"},"2014-06-20",50,51,51,51,51,51]
[null,null,"2014-06-21",21,{"$f":"IF($M88=\"\",\"\",VLOOKUP(WEEKDAY($M88),[1]Sheet1!$A$2:$B$8,2))","v":"土"},{"$f":"IF('[1]６月'!D27=\"\",\"\",'[1]６月'!D27)","v":"土曜学習会"},{"$f":"IF('[1]６月'!E27=\"\",\"\",'[1]６月'!E27)","v":0},{"$f":"IF('[1]６月'!F27=\"\",\"\",'[1]６月'!F27)","v":0},{"$f":"IF('[1]６月'!G27=\"\",\"\",'[1]６月'!G27)","v":0},{"$f":"IF('[1]６月'!H27=\"\",\"\",'[1]６月'!H27)","v":0},{"$f":"IF('[1]６月'!I27=\"\",\"\",'[1]６月'!I27)","v":0},{"$f":"IF('[1]６月'!J27=\"\",\"\",'[1]６月'!J27)","v":0},"2014-06-21",50,51,51,51,51,51]
[null,null,"2014-06-22",22,{"$f":"IF($M89=\"\",\"\",VLOOKUP(WEEKDAY($M89),[1]Sheet1!$A$2:$B$8,2))","v":"日"},{"$f":"IF('[1]６月'!D28=\"\",\"\",'[1]６月'!D28)","v":0},{"$f":"IF('[1]６月'!E28=\"\",\"\",'[1]６月'!E28)","v":0},{"$f":"IF('[1]６月'!F28=\"\",\"\",'[1]６月'!F28)","v":0},{"$f":"IF('[1]６月'!G28=\"\",\"\",'[1]６月'!G28)","v":0},{"$f":"IF('[1]６月'!H28=\"\",\"\",'[1]６月'!H28)","v":0},{"$f":"IF('[1]６月'!I28=\"\",\"\",'[1]６月'!I28)","v":0},{"$f":"IF('[1]６月'!J28=\"\",\"\",'[1]６月'!J28)","v":0},"2014-06-22",50,51,51,51,51,51]
[null,null,"2014-06-23",23,{"$f":"IF($M90=\"\",\"\",VLOOKUP(WEEKDAY($M90),[1]Sheet1!$A$2:$B$8,2))","v":"月"},{"$f":"IF('[1]６月'!D29=\"\",\"\",'[1]６月'!D29)","v":0},{"$f":"IF('[1]６月'!E29=\"\",\"\",'[1]６月'!E29)","v":"◎"},{"$f":"IF('[1]６月'!F29=\"\",\"\",'[1]６月'!F29)","v":"◎"},{"$f":"IF('[1]６月'!G29=\"\",\"\",'[1]６月'!G29)","v":"◎"},{"$f":"IF('[1]６月'!H29=\"\",\"\",'[1]６月'!H29)","v":"○"},{"$f":"IF('[1]６月'!I29=\"\",\"\",'[1]６月'!I29)","v":"○"},{"$f":"IF('[1]６月'!J29=\"\",\"\",'[1]６月'!J29)","v":"○"},"2014-06-23",51,52,52,52,52,52]
[null,null,"2014-06-24",24,{"$f":"IF($M91=\"\",\"\",VLOOKUP(WEEKDAY($M91),[1]Sheet1!$A$2:$B$8,2))","v":"火"},{"$f":"IF('[1]６月'!D30=\"\",\"\",'[1]６月'!D30)","v":"1学期中間考査（後期），職員会議"},{"$f":"IF('[1]６月'!E30=\"\",\"\",'[1]６月'!E30)","v":"◎"},{"$f":"IF('[1]６月'!F30=\"\",\"\",'[1]６月'!F30)","v":"◎"},{"$f":"IF('[1]６月'!G30=\"\",\"\",'[1]６月'!G30)","v":"◎"},{"$f":"IF('[1]６月'!H30=\"\",\"\",'[1]６月'!H30)","v":"○"},{"$f":"IF('[1]６月'!I30=\"\",\"\",'[1]６月'!I30)","v":"○"},{"$f":"IF('[1]６月'!J30=\"\",\"\",'[1]６月'!J30)","v":"○"},"2014-06-24",52,53,53,53,53,53]
[null,null,"2014-06-25",25,{"$f":"IF($M92=\"\",\"\",VLOOKUP(WEEKDAY($M92),[1]Sheet1!$A$2:$B$8,2))","v":"水"},{"$f":"IF('[1]６月'!D31=\"\",\"\",'[1]６月'!D31)","v":"1学期中間考査（後期），学年会"},{"$f":"IF('[1]６月'!E31=\"\",\"\",'[1]６月'!E31)","v":"◎"},{"$f":"IF('[1]６月'!F31=\"\",\"\",'[1]６月'!F31)","v":"◎"},{"$f":"IF('[1]６月'!G31=\"\",\"\",'[1]６月'!G31)","v":"◎"},{"$f":"IF('[1]６月'!H31=\"\",\"\",'[1]６月'!H31)","v":"○"},{"$f":"IF('[1]６月'!I31=\"\",\"\",'[1]６月'!I31)","v":"○"},{"$f":"IF('[1]６月'!J31=\"\",\"\",'[1]６月'!J31)","v":"○"},"2014-06-25",53,54,54,54,54,54]
[null,null,"2014-06-26",26,{"$f":"IF($M93=\"\",\"\",VLOOKUP(WEEKDAY($M93),[1]Sheet1!$A$2:$B$8,2))","v":"木"},{"$f":"IF('[1]６月'!D32=\"\",\"\",'[1]６月'!D32)","v":"1学期中間考査，職場安全衛生委員会"},{"$f":"IF('[1]６月'!E32=\"\",\"\",'[1]６月'!E32)","v":"◎"},{"$f":"IF('[1]６月'!F32=\"\",\"\",'[1]６月'!F32)","v":"◎"},{"$f":"IF('[1]６月'!G32=\"\",\"\",'[1]６月'!G32)","v":"◎"},{"$f":"IF('[1]６月'!H32=\"\",\"\",'[1]６月'!H32)","v":"○"},{"$f":"IF('[1]６月'!I32=\"\",\"\",'[1]６月'!I32)","v":"○"},{"$f":"IF('[1]６月'!J32=\"\",\"\",'[1]６月'!J32)","v":"○"},"2014-06-26",54,55,55,55,55,55]
[null,null,"2014-06-27",27,{"$f":"IF($M94=\"\",\"\",VLOOKUP(WEEKDAY($M94),[1]Sheet1!$A$2:$B$8,2))","v":"金"},{"$f":"IF('[1]６月'!D33=\"\",\"\",'[1]６月'!D33)","v":"1学期中間考査，6学年保護者会，指導案検討会"},{"$f":"IF('[1]６月'!E33=\"\",\"\",'[1]６月'!E33)","v":"◎"},{"$f":"IF('[1]６月'!F33=\"\",\"\",'[1]６月'!F33)","v":"◎"},{"$f":"IF('[1]６月'!G33=\"\",\"\",'[1]６月'!G33)","v":"◎"},{"$f":"IF('[1]６月'!H33=\"\",\"\",'[1]６月'!H33)","v":"○"},{"$f":"IF('[1]６月'!I33=\"\",\"\",'[1]６月'!I33)","v":"○"},{"$f":"IF('[1]６月'!J33=\"\",\"\",'[1]６月'!J33)","v":"○"},"2014-06-27",55,56,56,56,56,56]
[null,null,"2014-06-28",28,{"$f":"IF($M95=\"\",\"\",VLOOKUP(WEEKDAY($M95),[1]Sheet1!$A$2:$B$8,2))","v":"土"},{"$f":"IF('[1]６月'!D34=\"\",\"\",'[1]６月'!D34)","v":"理科講座"},{"$f":"IF('[1]６月'!E34=\"\",\"\",'[1]６月'!E34)","v":0},{"$f":"IF('[1]６月'!F34=\"\",\"\",'[1]６月'!F34)","v":0},{"$f":"IF('[1]６月'!G34=\"\",\"\",'[1]６月'!G34)","v":0},{"$f":"IF('[1]６月'!H34=\"\",\"\",'[1]６月'!H34)","v":0},{"$f":"IF('[1]６月'!I34=\"\",\"\",'[1]６月'!I34)","v":0},{"$f":"IF('[1]６月'!J34=\"\",\"\",'[1]６月'!J34)","v":0},"2014-06-28",55,56,56,56,56,56]
[null,null,"2014-06-29",29,{"$f":"IF($M96=\"\",\"\",VLOOKUP(WEEKDAY($M96),[1]Sheet1!$A$2:$B$8,2))","v":"日"},{"$f":"IF('[1]６月'!D35=\"\",\"\",'[1]６月'!D35)","v":0},{"$f":"IF('[1]６月'!E35=\"\",\"\",'[1]６月'!E35)","v":0},{"$f":"IF('[1]６月'!F35=\"\",\"\",'[1]６月'!F35)","v":0},{"$f":"IF('[1]６月'!G35=\"\",\"\",'[1]６月'!G35)","v":0},{"$f":"IF('[1]６月'!H35=\"\",\"\",'[1]６月'!H35)","v":0},{"$f":"IF('[1]６月'!I35=\"\",\"\",'[1]６月'!I35)","v":0},{"$f":"IF('[1]６月'!J35=\"\",\"\",'[1]６月'!J35)","v":0},"2014-06-29",55,56,56,56,56,56]
[null,null,"2014-06-30",30,{"$f":"IF($M97=\"\",\"\",VLOOKUP(WEEKDAY($M97),[1]Sheet1!$A$2:$B$8,2))","v":"月"},{"$f":"IF('[1]６月'!D36=\"\",\"\",'[1]６月'!D36)","v":"6年課外開始"},{"$f":"IF('[1]６月'!E36=\"\",\"\",'[1]６月'!E36)","v":"◎"},{"$f":"IF('[1]６月'!F36=\"\",\"\",'[1]６月'!F36)","v":"◎"},{"$f":"IF('[1]６月'!G36=\"\",\"\",'[1]６月'!G36)","v":"◎"},{"$f":"IF('[1]６月'!H36=\"\",\"\",'[1]６月'!H36)","v":"○"},{"$f":"IF('[1]６月'!I36=\"\",\"\",'[1]６月'!I36)","v":"○"},{"$f":"IF('[1]６月'!J36=\"\",\"\",'[1]６月'!J36)","v":"○"},"2014-06-30",56,57,57,57,57,57]
[null,null,null,null,{"$f":"IF($M98=\"\",\"\",VLOOKUP(WEEKDAY($M98),[1]Sheet1!$A$2:$B$8,2))","v":""},{"$f":"IF('[1]６月'!D37=\"\",\"\",'[1]６月'!D37)","v":0},{"$f":"IF('[1]６月'!E37=\"\",\"\",'[1]６月'!E37)","v":0},{"$f":"IF('[1]６月'!F37=\"\",\"\",'[1]６月'!F37)","v":0},{"$f":"IF('[1]６月'!G37=\"\",\"\",'[1]６月'!G37)","v":0},{"$f":"IF('[1]６月'!H37=\"\",\"\",'[1]６月'!H37)","v":0},{"$f":"IF('[1]６月'!I37=\"\",\"\",'[1]６月'!I37)","v":0},{"$f":"IF('[1]６月'!J37=\"\",\"\",'[1]６月'!J37)","v":0},null,56,57,57,57,57,57]
[null,null,"2014-07-01",1,{"$f":"IF($M99=\"\",\"\",VLOOKUP(WEEKDAY($M99),[1]Sheet1!$A$2:$B$8,2))","v":"火"},{"$f":"IF('[1]７月'!D7=\"\",\"\",'[1]７月'!D7)","v":0},{"$f":"IF('[1]７月'!E7=\"\",\"\",'[1]７月'!E7)","v":"◎"},{"$f":"IF('[1]７月'!F7=\"\",\"\",'[1]７月'!F7)","v":"◎"},{"$f":"IF('[1]７月'!G7=\"\",\"\",'[1]７月'!G7)","v":"◎"},{"$f":"IF('[1]７月'!H7=\"\",\"\",'[1]７月'!H7)","v":"○"},{"$f":"IF('[1]７月'!I7=\"\",\"\",'[1]７月'!I7)","v":"○"},{"$f":"IF('[1]７月'!J7=\"\",\"\",'[1]７月'!J7)","v":"○"},"2014-07-01",57,58,58,58,58,58]
[null,null,"2014-07-02",2,{"$f":"IF($M100=\"\",\"\",VLOOKUP(WEEKDAY($M100),[1]Sheet1!$A$2:$B$8,2))","v":"水"},{"$f":"IF('[1]７月'!D8=\"\",\"\",'[1]７月'!D8)","v":0},{"$f":"IF('[1]７月'!E8=\"\",\"\",'[1]７月'!E8)","v":"◎"},{"$f":"IF('[1]７月'!F8=\"\",\"\",'[1]７月'!F8)","v":"◎"},{"$f":"IF('[1]７月'!G8=\"\",\"\",'[1]７月'!G8)","v":"◎"},{"$f":"IF('[1]７月'!H8=\"\",\"\",'[1]７月'!H8)","v":"○"},{"$f":"IF('[1]７月'!I8=\"\",\"\",'[1]７月'!I8)","v":"○"},{"$f":"IF('[1]７月'!J8=\"\",\"\",'[1]７月'!J8)","v":"○"},"2014-07-02",58,59,59,59,59,59]
[null,null,"2014-07-03",3,{"$f":"IF($M101=\"\",\"\",VLOOKUP(WEEKDAY($M101),[1]Sheet1!$A$2:$B$8,2))","v":"木"},{"$f":"IF('[1]７月'!D9=\"\",\"\",'[1]７月'!D9)","v":"4年首都圏研修旅行"},{"$f":"IF('[1]７月'!E9=\"\",\"\",'[1]７月'!E9)","v":"◎"},{"$f":"IF('[1]７月'!F9=\"\",\"\",'[1]７月'!F9)","v":"◎"},{"$f":"IF('[1]７月'!G9=\"\",\"\",'[1]７月'!G9)","v":"◎"},{"$f":"IF('[1]７月'!H9=\"\",\"\",'[1]７月'!H9)","v":"○"},{"$f":"IF('[1]７月'!I9=\"\",\"\",'[1]７月'!I9)","v":"○"},{"$f":"IF('[1]７月'!J9=\"\",\"\",'[1]７月'!J9)","v":"○"},"2014-07-03",59,60,60,60,60,60]
[null,null,"2014-07-04",4,{"$f":"IF($M102=\"\",\"\",VLOOKUP(WEEKDAY($M102),[1]Sheet1!$A$2:$B$8,2))","v":"金"},{"$f":"IF('[1]７月'!D10=\"\",\"\",'[1]７月'!D10)","v":0},{"$f":"IF('[1]７月'!E10=\"\",\"\",'[1]７月'!E10)","v":"◎"},{"$f":"IF('[1]７月'!F10=\"\",\"\",'[1]７月'!F10)","v":"◎"},{"$f":"IF('[1]７月'!G10=\"\",\"\",'[1]７月'!G10)","v":"◎"},{"$f":"IF('[1]７月'!H10=\"\",\"\",'[1]７月'!H10)","v":"○"},{"$f":"IF('[1]７月'!I10=\"\",\"\",'[1]７月'!I10)","v":"○"},{"$f":"IF('[1]７月'!J10=\"\",\"\",'[1]７月'!J10)","v":"○"},"2014-07-04",60,61,61,61,61,61]
[null,null,"2014-07-05",5,{"$f":"IF($M103=\"\",\"\",VLOOKUP(WEEKDAY($M103),[1]Sheet1!$A$2:$B$8,2))","v":"土"},{"$f":"IF('[1]７月'!D11=\"\",\"\",'[1]７月'!D11)","v":0},{"$f":"IF('[1]７月'!E11=\"\",\"\",'[1]７月'!E11)","v":0},{"$f":"IF('[1]７月'!F11=\"\",\"\",'[1]７月'!F11)","v":0},{"$f":"IF('[1]７月'!G11=\"\",\"\",'[1]７月'!G11)","v":0},{"$f":"IF('[1]７月'!H11=\"\",\"\",'[1]７月'!H11)","v":0},{"$f":"IF('[1]７月'!I11=\"\",\"\",'[1]７月'!I11)","v":0},{"$f":"IF('[1]７月'!J11=\"\",\"\",'[1]７月'!J11)","v":0},"2014-07-05",60,61,61,61,61,61]
[null,null,"2014-07-06",6,{"$f":"IF($M104=\"\",\"\",VLOOKUP(WEEKDAY($M104),[1]Sheet1!$A$2:$B$8,2))","v":"日"},{"$f":"IF('[1]７月'!D12=\"\",\"\",'[1]７月'!D12)","v":0},{"$f":"IF('[1]７月'!E12=\"\",\"\",'[1]７月'!E12)","v":0},{"$f":"IF('[1]７月'!F12=\"\",\"\",'[1]７月'!F12)","v":0},{"$f":"IF('[1]７月'!G12=\"\",\"\",'[1]７月'!G12)","v":0},{"$f":"IF('[1]７月'!H12=\"\",\"\",'[1]７月'!H12)","v":0},{"$f":"IF('[1]７月'!I12=\"\",\"\",'[1]７月'!I12)","v":0},{"$f":"IF('[1]７月'!J12=\"\",\"\",'[1]７月'!J12)","v":0},"2014-07-06",60,61,61,61,61,61]
[null,null,"2014-07-07",7,{"$f":"IF($M105=\"\",\"\",VLOOKUP(WEEKDAY($M105),[1]Sheet1!$A$2:$B$8,2))","v":"月"},{"$f":"IF('[1]７月'!D13=\"\",\"\",'[1]７月'!D13)","v":"小票"},{"$f":"IF('[1]７月'!E13=\"\",\"\",'[1]７月'!E13)","v":"◎"},{"$f":"IF('[1]７月'!F13=\"\",\"\",'[1]７月'!F13)","v":"◎"},{"$f":"IF('[1]７月'!G13=\"\",\"\",'[1]７月'!G13)","v":"◎"},{"$f":"IF('[1]７月'!H13=\"\",\"\",'[1]７月'!H13)","v":"○"},{"$f":"IF('[1]７月'!I13=\"\",\"\",'[1]７月'!I13)","v":"○"},{"$f":"IF('[1]７月'!J13=\"\",\"\",'[1]７月'!J13)","v":"○"},"2014-07-07",61,62,62,62,62,62]
[null,null,"2014-07-08",8,{"$f":"IF($M106=\"\",\"\",VLOOKUP(WEEKDAY($M106),[1]Sheet1!$A$2:$B$8,2))","v":"火"},{"$f":"IF('[1]７月'!D14=\"\",\"\",'[1]７月'!D14)","v":"4・5年みやぎ学力状況調査，運営委員会"},{"$f":"IF('[1]７月'!E14=\"\",\"\",'[1]７月'!E14)","v":"◎"},{"$f":"IF('[1]７月'!F14=\"\",\"\",'[1]７月'!F14)","v":"◎"},{"$f":"IF('[1]７月'!G14=\"\",\"\",'[1]７月'!G14)","v":"◎"},{"$f":"IF('[1]７月'!H14=\"\",\"\",'[1]７月'!H14)","v":"○"},{"$f":"IF('[1]７月'!I14=\"\",\"\",'[1]７月'!I14)","v":"○"},{"$f":"IF('[1]７月'!J14=\"\",\"\",'[1]７月'!J14)","v":"○"},"2014-07-08",62,63,63,63,63,63]
[null,null,"2014-07-09",9,{"$f":"IF($M107=\"\",\"\",VLOOKUP(WEEKDAY($M107),[1]Sheet1!$A$2:$B$8,2))","v":"水"},{"$f":"IF('[1]７月'!D15=\"\",\"\",'[1]７月'!D15)","v":"大表"},{"$f":"IF('[1]７月'!E15=\"\",\"\",'[1]７月'!E15)","v":"◎"},{"$f":"IF('[1]７月'!F15=\"\",\"\",'[1]７月'!F15)","v":"◎"},{"$f":"IF('[1]７月'!G15=\"\",\"\",'[1]７月'!G15)","v":"◎"},{"$f":"IF('[1]７月'!H15=\"\",\"\",'[1]７月'!H15)","v":"○"},{"$f":"IF('[1]７月'!I15=\"\",\"\",'[1]７月'!I15)","v":"○"},{"$f":"IF('[1]７月'!J15=\"\",\"\",'[1]７月'!J15)","v":"○"},"2014-07-09",63,64,64,64,64,64]
[null,null,"2014-07-10",10,{"$f":"IF($M108=\"\",\"\",VLOOKUP(WEEKDAY($M108),[1]Sheet1!$A$2:$B$8,2))","v":"木"},{"$f":"IF('[1]７月'!D16=\"\",\"\",'[1]７月'!D16)","v":"合唱祭，芸術鑑賞会"},{"$f":"IF('[1]７月'!E16=\"\",\"\",'[1]７月'!E16)","v":"○"},{"$f":"IF('[1]７月'!F16=\"\",\"\",'[1]７月'!F16)","v":"○"},{"$f":"IF('[1]７月'!G16=\"\",\"\",'[1]７月'!G16)","v":"○"},{"$f":"IF('[1]７月'!H16=\"\",\"\",'[1]７月'!H16)","v":"○"},{"$f":"IF('[1]７月'!I16=\"\",\"\",'[1]７月'!I16)","v":"○"},{"$f":"IF('[1]７月'!J16=\"\",\"\",'[1]７月'!J16)","v":"○"},"2014-07-10",64,65,65,65,65,65]
[null,null,"2014-07-11",11,{"$f":"IF($M109=\"\",\"\",VLOOKUP(WEEKDAY($M109),[1]Sheet1!$A$2:$B$8,2))","v":"金"},{"$f":"IF('[1]７月'!D17=\"\",\"\",'[1]７月'!D17)","v":"生徒会役員選挙，学年成績会議，6年進研模試"},{"$f":"IF('[1]７月'!E17=\"\",\"\",'[1]７月'!E17)","v":"◎"},{"$f":"IF('[1]７月'!F17=\"\",\"\",'[1]７月'!F17)","v":"◎"},{"$f":"IF('[1]７月'!G17=\"\",\"\",'[1]７月'!G17)","v":"◎"},{"$f":"IF('[1]７月'!H17=\"\",\"\",'[1]７月'!H17)","v":"○"},{"$f":"IF('[1]７月'!I17=\"\",\"\",'[1]７月'!I17)","v":"○"},{"$f":"IF('[1]７月'!J17=\"\",\"\",'[1]７月'!J17)","v":"○"},"2014-07-11",65,66,66,66,66,66]
[null,null,"2014-07-12",12,{"$f":"IF($M110=\"\",\"\",VLOOKUP(WEEKDAY($M110),[1]Sheet1!$A$2:$B$8,2))","v":"土"},{"$f":"IF('[1]７月'!D18=\"\",\"\",'[1]７月'!D18)","v":"4～6年進研模試，土曜学習会"},{"$f":"IF('[1]７月'!E18=\"\",\"\",'[1]７月'!E18)","v":0},{"$f":"IF('[1]７月'!F18=\"\",\"\",'[1]７月'!F18)","v":0},{"$f":"IF('[1]７月'!G18=\"\",\"\",'[1]７月'!G18)","v":0},{"$f":"IF('[1]７月'!H18=\"\",\"\",'[1]７月'!H18)","v":0},{"$f":"IF('[1]７月'!I18=\"\",\"\",'[1]７月'!I18)","v":0},{"$f":"IF('[1]７月'!J18=\"\",\"\",'[1]７月'!J18)","v":0},"2014-07-12",65,66,66,66,66,66]
[null,null,"2014-07-13",13,{"$f":"IF($M111=\"\",\"\",VLOOKUP(WEEKDAY($M111),[1]Sheet1!$A$2:$B$8,2))","v":"日"},{"$f":"IF('[1]７月'!D19=\"\",\"\",'[1]７月'!D19)","v":0},{"$f":"IF('[1]７月'!E19=\"\",\"\",'[1]７月'!E19)","v":0},{"$f":"IF('[1]７月'!F19=\"\",\"\",'[1]７月'!F19)","v":0},{"$f":"IF('[1]７月'!G19=\"\",\"\",'[1]７月'!G19)","v":0},{"$f":"IF('[1]７月'!H19=\"\",\"\",'[1]７月'!H19)","v":0},{"$f":"IF('[1]７月'!I19=\"\",\"\",'[1]７月'!I19)","v":0},{"$f":"IF('[1]７月'!J19=\"\",\"\",'[1]７月'!J19)","v":0},"2014-07-13",65,66,66,66,66,66]
[null,null,"2014-07-14",14,{"$f":"IF($M112=\"\",\"\",VLOOKUP(WEEKDAY($M112),[1]Sheet1!$A$2:$B$8,2))","v":"月"},{"$f":"IF('[1]７月'!D20=\"\",\"\",'[1]７月'!D20)","v":"成績会議"},{"$f":"IF('[1]７月'!E20=\"\",\"\",'[1]７月'!E20)","v":"◎"},{"$f":"IF('[1]７月'!F20=\"\",\"\",'[1]７月'!F20)","v":"◎"},{"$f":"IF('[1]７月'!G20=\"\",\"\",'[1]７月'!G20)","v":"◎"},{"$f":"IF('[1]７月'!H20=\"\",\"\",'[1]７月'!H20)","v":"○"},{"$f":"IF('[1]７月'!I20=\"\",\"\",'[1]７月'!I20)","v":"○"},{"$f":"IF('[1]７月'!J20=\"\",\"\",'[1]７月'!J20)","v":"○"},"2014-07-14",66,67,67,67,67,67]
[null,null,"2014-07-15",15,{"$f":"IF($M113=\"\",\"\",VLOOKUP(WEEKDAY($M113),[1]Sheet1!$A$2:$B$8,2))","v":"火"},{"$f":"IF('[1]７月'!D21=\"\",\"\",'[1]７月'!D21)","v":"職員会議，2年保健講話，転入考査"},{"$f":"IF('[1]７月'!E21=\"\",\"\",'[1]７月'!E21)","v":"◎"},{"$f":"IF('[1]７月'!F21=\"\",\"\",'[1]７月'!F21)","v":"◎"},{"$f":"IF('[1]７月'!G21=\"\",\"\",'[1]７月'!G21)","v":"◎"},{"$f":"IF('[1]７月'!H21=\"\",\"\",'[1]７月'!H21)","v":"○"},{"$f":"IF('[1]７月'!I21=\"\",\"\",'[1]７月'!I21)","v":"○"},{"$f":"IF('[1]７月'!J21=\"\",\"\",'[1]７月'!J21)","v":"○"},"2014-07-15",67,68,68,68,68,68]
[null,null,"2014-07-16",16,{"$f":"IF($M114=\"\",\"\",VLOOKUP(WEEKDAY($M114),[1]Sheet1!$A$2:$B$8,2))","v":"水"},{"$f":"IF('[1]７月'!D22=\"\",\"\",'[1]７月'!D22)","v":"研究授業"},{"$f":"IF('[1]７月'!E22=\"\",\"\",'[1]７月'!E22)","v":"◎"},{"$f":"IF('[1]７月'!F22=\"\",\"\",'[1]７月'!F22)","v":"◎"},{"$f":"IF('[1]７月'!G22=\"\",\"\",'[1]７月'!G22)","v":"◎"},{"$f":"IF('[1]７月'!H22=\"\",\"\",'[1]７月'!H22)","v":"○"},{"$f":"IF('[1]７月'!I22=\"\",\"\",'[1]７月'!I22)","v":"○"},{"$f":"IF('[1]７月'!J22=\"\",\"\",'[1]７月'!J22)","v":"○"},"2014-07-16",68,69,69,69,69,69]
[null,null,"2014-07-17",17,{"$f":"IF($M115=\"\",\"\",VLOOKUP(WEEKDAY($M115),[1]Sheet1!$A$2:$B$8,2))","v":"木"},{"$f":"IF('[1]７月'!D23=\"\",\"\",'[1]７月'!D23)","v":"調査書作成委員会，各種委員会"},{"$f":"IF('[1]７月'!E23=\"\",\"\",'[1]７月'!E23)","v":"◎"},{"$f":"IF('[1]７月'!F23=\"\",\"\",'[1]７月'!F23)","v":"◎"},{"$f":"IF('[1]７月'!G23=\"\",\"\",'[1]７月'!G23)","v":"◎"},{"$f":"IF('[1]７月'!H23=\"\",\"\",'[1]７月'!H23)","v":"○"},{"$f":"IF('[1]７月'!I23=\"\",\"\",'[1]７月'!I23)","v":"○"},{"$f":"IF('[1]７月'!J23=\"\",\"\",'[1]７月'!J23)","v":"○"},"2014-07-17",69,70,70,70,70,70]
[null,null,"2014-07-18",18,{"$f":"IF($M116=\"\",\"\",VLOOKUP(WEEKDAY($M116),[1]Sheet1!$A$2:$B$8,2))","v":"金"},{"$f":"IF('[1]７月'!D24=\"\",\"\",'[1]７月'!D24)","v":"全校集会，大掃除，学校説明会準備"},{"$f":"IF('[1]７月'!E24=\"\",\"\",'[1]７月'!E24)","v":"○"},{"$f":"IF('[1]７月'!F24=\"\",\"\",'[1]７月'!F24)","v":"○"},{"$f":"IF('[1]７月'!G24=\"\",\"\",'[1]７月'!G24)","v":"○"},{"$f":"IF('[1]７月'!H24=\"\",\"\",'[1]７月'!H24)","v":"○"},{"$f":"IF('[1]７月'!I24=\"\",\"\",'[1]７月'!I24)","v":"○"},{"$f":"IF('[1]７月'!J24=\"\",\"\",'[1]７月'!J24)","v":"○"},"2014-07-18",70,71,71,71,71,71]
[null,null,"2014-07-19",19,{"$f":"IF($M117=\"\",\"\",VLOOKUP(WEEKDAY($M117),[1]Sheet1!$A$2:$B$8,2))","v":"土"},{"$f":"IF('[1]７月'!D25=\"\",\"\",'[1]７月'!D25)","v":"学校説明会（小6対象）"},{"$f":"IF('[1]７月'!E25=\"\",\"\",'[1]７月'!E25)","v":0},{"$f":"IF('[1]７月'!F25=\"\",\"\",'[1]７月'!F25)","v":0},{"$f":"IF('[1]７月'!G25=\"\",\"\",'[1]７月'!G25)","v":0},{"$f":"IF('[1]７月'!H25=\"\",\"\",'[1]７月'!H25)","v":0},{"$f":"IF('[1]７月'!I25=\"\",\"\",'[1]７月'!I25)","v":0},{"$f":"IF('[1]７月'!J25=\"\",\"\",'[1]７月'!J25)","v":0},"2014-07-19",70,71,71,71,71,71]
[null,null,"2014-07-20",20,{"$f":"IF($M118=\"\",\"\",VLOOKUP(WEEKDAY($M118),[1]Sheet1!$A$2:$B$8,2))","v":"日"},{"$f":"IF('[1]７月'!D26=\"\",\"\",'[1]７月'!D26)","v":"県中総体"},{"$f":"IF('[1]７月'!E26=\"\",\"\",'[1]７月'!E26)","v":0},{"$f":"IF('[1]７月'!F26=\"\",\"\",'[1]７月'!F26)","v":0},{"$f":"IF('[1]７月'!G26=\"\",\"\",'[1]７月'!G26)","v":0},{"$f":"IF('[1]７月'!H26=\"\",\"\",'[1]７月'!H26)","v":0},{"$f":"IF('[1]７月'!I26=\"\",\"\",'[1]７月'!I26)","v":0},{"$f":"IF('[1]７月'!J26=\"\",\"\",'[1]７月'!J26)","v":0},"2014-07-20",70,71,71,71,71,71]
[null,null,"2014-07-21",21,{"$f":"IF($M119=\"\",\"\",VLOOKUP(WEEKDAY($M119),[1]Sheet1!$A$2:$B$8,2))","v":"月"},{"$f":"IF('[1]７月'!D27=\"\",\"\",'[1]７月'!D27)","v":"海の日"},{"$f":"IF('[1]７月'!E27=\"\",\"\",'[1]７月'!E27)","v":0},{"$f":"IF('[1]７月'!F27=\"\",\"\",'[1]７月'!F27)","v":0},{"$f":"IF('[1]７月'!G27=\"\",\"\",'[1]７月'!G27)","v":0},{"$f":"IF('[1]７月'!H27=\"\",\"\",'[1]７月'!H27)","v":0},{"$f":"IF('[1]７月'!I27=\"\",\"\",'[1]７月'!I27)","v":0},{"$f":"IF('[1]７月'!J27=\"\",\"\",'[1]７月'!J27)","v":0},"2014-07-21",70,71,71,71,71,71]
[null,null,"2014-07-22",22,{"$f":"IF($M120=\"\",\"\",VLOOKUP(WEEKDAY($M120),[1]Sheet1!$A$2:$B$8,2))","v":"火"},{"$f":"IF('[1]７月'!D28=\"\",\"\",'[1]７月'!D28)","v":"夏季休業，6年課外，4・5年課外，三者面談"},{"$f":"IF('[1]７月'!E28=\"\",\"\",'[1]７月'!E28)","v":0},{"$f":"IF('[1]７月'!F28=\"\",\"\",'[1]７月'!F28)","v":0},{"$f":"IF('[1]７月'!G28=\"\",\"\",'[1]７月'!G28)","v":0},{"$f":"IF('[1]７月'!H28=\"\",\"\",'[1]７月'!H28)","v":0},{"$f":"IF('[1]７月'!I28=\"\",\"\",'[1]７月'!I28)","v":0},{"$f":"IF('[1]７月'!J28=\"\",\"\",'[1]７月'!J28)","v":"○"},"2014-07-22",70,71,71,71,71,72]
[null,null,"2014-07-23",23,{"$f":"IF($M121=\"\",\"\",VLOOKUP(WEEKDAY($M121),[1]Sheet1!$A$2:$B$8,2))","v":"水"},{"$f":"IF('[1]７月'!D29=\"\",\"\",'[1]７月'!D29)","v":0},{"$f":"IF('[1]７月'!E29=\"\",\"\",'[1]７月'!E29)","v":0},{"$f":"IF('[1]７月'!F29=\"\",\"\",'[1]７月'!F29)","v":0},{"$f":"IF('[1]７月'!G29=\"\",\"\",'[1]７月'!G29)","v":0},{"$f":"IF('[1]７月'!H29=\"\",\"\",'[1]７月'!H29)","v":0},{"$f":"IF('[1]７月'!I29=\"\",\"\",'[1]７月'!I29)","v":0},{"$f":"IF('[1]７月'!J29=\"\",\"\",'[1]７月'!J29)","v":"○"},"2014-07-23",70,71,71,71,71,73]
[null,null,"2014-07-24",24,{"$f":"IF($M122=\"\",\"\",VLOOKUP(WEEKDAY($M122),[1]Sheet1!$A$2:$B$8,2))","v":"木"},{"$f":"IF('[1]７月'!D30=\"\",\"\",'[1]７月'!D30)","v":0},{"$f":"IF('[1]７月'!E30=\"\",\"\",'[1]７月'!E30)","v":0},{"$f":"IF('[1]７月'!F30=\"\",\"\",'[1]７月'!F30)","v":0},{"$f":"IF('[1]７月'!G30=\"\",\"\",'[1]７月'!G30)","v":0},{"$f":"IF('[1]７月'!H30=\"\",\"\",'[1]７月'!H30)","v":0},{"$f":"IF('[1]７月'!I30=\"\",\"\",'[1]７月'!I30)","v":0},{"$f":"IF('[1]７月'!J30=\"\",\"\",'[1]７月'!J30)","v":"○"},"2014-07-24",70,71,71,71,71,74]
[null,null,"2014-07-25",25,{"$f":"IF($M123=\"\",\"\",VLOOKUP(WEEKDAY($M123),[1]Sheet1!$A$2:$B$8,2))","v":"金"},{"$f":"IF('[1]７月'!D31=\"\",\"\",'[1]７月'!D31)","v":0},{"$f":"IF('[1]７月'!E31=\"\",\"\",'[1]７月'!E31)","v":0},{"$f":"IF('[1]７月'!F31=\"\",\"\",'[1]７月'!F31)","v":0},{"$f":"IF('[1]７月'!G31=\"\",\"\",'[1]７月'!G31)","v":0},{"$f":"IF('[1]７月'!H31=\"\",\"\",'[1]７月'!H31)","v":0},{"$f":"IF('[1]７月'!I31=\"\",\"\",'[1]７月'!I31)","v":0},{"$f":"IF('[1]７月'!J31=\"\",\"\",'[1]７月'!J31)","v":"○"},"2014-07-25",70,71,71,71,71,75]
[null,null,"2014-07-26",26,{"$f":"IF($M124=\"\",\"\",VLOOKUP(WEEKDAY($M124),[1]Sheet1!$A$2:$B$8,2))","v":"土"},{"$f":"IF('[1]７月'!D32=\"\",\"\",'[1]７月'!D32)","v":0},{"$f":"IF('[1]７月'!E32=\"\",\"\",'[1]７月'!E32)","v":0},{"$f":"IF('[1]７月'!F32=\"\",\"\",'[1]７月'!F32)","v":0},{"$f":"IF('[1]７月'!G32=\"\",\"\",'[1]７月'!G32)","v":0},{"$f":"IF('[1]７月'!H32=\"\",\"\",'[1]７月'!H32)","v":0},{"$f":"IF('[1]７月'!I32=\"\",\"\",'[1]７月'!I32)","v":0},{"$f":"IF('[1]７月'!J32=\"\",\"\",'[1]７月'!J32)","v":0},"2014-07-26",70,71,71,71,71,75]
[null,null,"2014-07-27",27,{"$f":"IF($M125=\"\",\"\",VLOOKUP(WEEKDAY($M125),[1]Sheet1!$A$2:$B$8,2))","v":"日"},{"$f":"IF('[1]７月'!D33=\"\",\"\",'[1]７月'!D33)","v":0},{"$f":"IF('[1]７月'!E33=\"\",\"\",'[1]７月'!E33)","v":0},{"$f":"IF('[1]７月'!F33=\"\",\"\",'[1]７月'!F33)","v":0},{"$f":"IF('[1]７月'!G33=\"\",\"\",'[1]７月'!G33)","v":0},{"$f":"IF('[1]７月'!H33=\"\",\"\",'[1]７月'!H33)","v":0},{"$f":"IF('[1]７月'!I33=\"\",\"\",'[1]７月'!I33)","v":0},{"$f":"IF('[1]７月'!J33=\"\",\"\",'[1]７月'!J33)","v":0},"2014-07-27",70,71,71,71,71,75]
[null,null,"2014-07-28",28,{"$f":"IF($M126=\"\",\"\",VLOOKUP(WEEKDAY($M126),[1]Sheet1!$A$2:$B$8,2))","v":"月"},{"$f":"IF('[1]７月'!D34=\"\",\"\",'[1]７月'!D34)","v":0},{"$f":"IF('[1]７月'!E34=\"\",\"\",'[1]７月'!E34)","v":0},{"$f":"IF('[1]７月'!F34=\"\",\"\",'[1]７月'!F34)","v":0},{"$f":"IF('[1]７月'!G34=\"\",\"\",'[1]７月'!G34)","v":0},{"$f":"IF('[1]７月'!H34=\"\",\"\",'[1]７月'!H34)","v":0},{"$f":"IF('[1]７月'!I34=\"\",\"\",'[1]７月'!I34)","v":0},{"$f":"IF('[1]７月'!J34=\"\",\"\",'[1]７月'!J34)","v":0},"2014-07-28",70,71,71,71,71,75]
[null,null,"2014-07-29",29,{"$f":"IF($M127=\"\",\"\",VLOOKUP(WEEKDAY($M127),[1]Sheet1!$A$2:$B$8,2))","v":"火"},{"$f":"IF('[1]７月'!D35=\"\",\"\",'[1]７月'!D35)","v":0},{"$f":"IF('[1]７月'!E35=\"\",\"\",'[1]７月'!E35)","v":0},{"$f":"IF('[1]７月'!F35=\"\",\"\",'[1]７月'!F35)","v":0},{"$f":"IF('[1]７月'!G35=\"\",\"\",'[1]７月'!G35)","v":0},{"$f":"IF('[1]７月'!H35=\"\",\"\",'[1]７月'!H35)","v":0},{"$f":"IF('[1]７月'!I35=\"\",\"\",'[1]７月'!I35)","v":0},{"$f":"IF('[1]７月'!J35=\"\",\"\",'[1]７月'!J35)","v":0},"2014-07-29",70,71,71,71,71,75]
[null,null,"2014-07-30",30,{"$f":"IF($M128=\"\",\"\",VLOOKUP(WEEKDAY($M128),[1]Sheet1!$A$2:$B$8,2))","v":"水"},{"$f":"IF('[1]７月'!D36=\"\",\"\",'[1]７月'!D36)","v":0},{"$f":"IF('[1]７月'!E36=\"\",\"\",'[1]７月'!E36)","v":0},{"$f":"IF('[1]７月'!F36=\"\",\"\",'[1]７月'!F36)","v":0},{"$f":"IF('[1]７月'!G36=\"\",\"\",'[1]７月'!G36)","v":0},{"$f":"IF('[1]７月'!H36=\"\",\"\",'[1]７月'!H36)","v":0},{"$f":"IF('[1]７月'!I36=\"\",\"\",'[1]７月'!I36)","v":0},{"$f":"IF('[1]７月'!J36=\"\",\"\",'[1]７月'!J36)","v":0},"2014-07-30",70,71,71,71,71,75]
[null,null,"2014-07-31",31,{"$f":"IF($M129=\"\",\"\",VLOOKUP(WEEKDAY($M129),[1]Sheet1!$A$2:$B$8,2))","v":"木"},{"$f":"IF('[1]７月'!D37=\"\",\"\",'[1]７月'!D37)","v":0},{"$f":"IF('[1]７月'!E37=\"\",\"\",'[1]７月'!E37)","v":0},{"$f":"IF('[1]７月'!F37=\"\",\"\",'[1]７月'!F37)","v":0},{"$f":"IF('[1]７月'!G37=\"\",\"\",'[1]７月'!G37)","v":0},{"$f":"IF('[1]７月'!H37=\"\",\"\",'[1]７月'!H37)","v":0},{"$f":"IF('[1]７月'!I37=\"\",\"\",'[1]７月'!I37)","v":0},{"$f":"IF('[1]７月'!J37=\"\",\"\",'[1]７月'!J37)","v":0},"2014-07-31",70,71,71,71,71,75]
[null,null,"2014-08-01",1,{"$f":"IF($M130=\"\",\"\",VLOOKUP(WEEKDAY($M130),[1]Sheet1!$A$2:$B$8,2))","v":"金"},{"$f":"IF('[1]８月'!D7=\"\",\"\",'[1]８月'!D7)","v":"6年課外"},{"$f":"IF('[1]８月'!E7=\"\",\"\",'[1]８月'!E7)","v":0},{"$f":"IF('[1]８月'!F7=\"\",\"\",'[1]８月'!F7)","v":0},{"$f":"IF('[1]８月'!G7=\"\",\"\",'[1]８月'!G7)","v":0},{"$f":"IF('[1]８月'!H7=\"\",\"\",'[1]８月'!H7)","v":0},{"$f":"IF('[1]８月'!I7=\"\",\"\",'[1]８月'!I7)","v":0},{"$f":"IF('[1]８月'!J7=\"\",\"\",'[1]８月'!J7)","v":0},"2014-08-01",70,71,71,71,71,75]
[null,null,"2014-08-02",2,{"$f":"IF($M131=\"\",\"\",VLOOKUP(WEEKDAY($M131),[1]Sheet1!$A$2:$B$8,2))","v":"土"},{"$f":"IF('[1]８月'!D8=\"\",\"\",'[1]８月'!D8)","v":0},{"$f":"IF('[1]８月'!E8=\"\",\"\",'[1]８月'!E8)","v":0},{"$f":"IF('[1]８月'!F8=\"\",\"\",'[1]８月'!F8)","v":0},{"$f":"IF('[1]８月'!G8=\"\",\"\",'[1]８月'!G8)","v":0},{"$f":"IF('[1]８月'!H8=\"\",\"\",'[1]８月'!H8)","v":0},{"$f":"IF('[1]８月'!I8=\"\",\"\",'[1]８月'!I8)","v":0},{"$f":"IF('[1]８月'!J8=\"\",\"\",'[1]８月'!J8)","v":0},"2014-08-02",70,71,71,71,71,75]
[null,null,"2014-08-03",3,{"$f":"IF($M132=\"\",\"\",VLOOKUP(WEEKDAY($M132),[1]Sheet1!$A$2:$B$8,2))","v":"日"},{"$f":"IF('[1]８月'!D9=\"\",\"\",'[1]８月'!D9)","v":0},{"$f":"IF('[1]８月'!E9=\"\",\"\",'[1]８月'!E9)","v":0},{"$f":"IF('[1]８月'!F9=\"\",\"\",'[1]８月'!F9)","v":0},{"$f":"IF('[1]８月'!G9=\"\",\"\",'[1]８月'!G9)","v":0},{"$f":"IF('[1]８月'!H9=\"\",\"\",'[1]８月'!H9)","v":0},{"$f":"IF('[1]８月'!I9=\"\",\"\",'[1]８月'!I9)","v":0},{"$f":"IF('[1]８月'!J9=\"\",\"\",'[1]８月'!J9)","v":0},"2014-08-03",70,71,71,71,71,75]
[null,null,"2014-08-04",4,{"$f":"IF($M133=\"\",\"\",VLOOKUP(WEEKDAY($M133),[1]Sheet1!$A$2:$B$8,2))","v":"月"},{"$f":"IF('[1]８月'!D10=\"\",\"\",'[1]８月'!D10)","v":"職員進路研修会"},{"$f":"IF('[1]８月'!E10=\"\",\"\",'[1]８月'!E10)","v":0},{"$f":"IF('[1]８月'!F10=\"\",\"\",'[1]８月'!F10)","v":0},{"$f":"IF('[1]８月'!G10=\"\",\"\",'[1]８月'!G10)","v":0},{"$f":"IF('[1]８月'!H10=\"\",\"\",'[1]８月'!H10)","v":0},{"$f":"IF('[1]８月'!I10=\"\",\"\",'[1]８月'!I10)","v":0},{"$f":"IF('[1]８月'!J10=\"\",\"\",'[1]８月'!J10)","v":0},"2014-08-04",70,71,71,71,71,75]
[null,null,"2014-08-05",5,{"$f":"IF($M134=\"\",\"\",VLOOKUP(WEEKDAY($M134),[1]Sheet1!$A$2:$B$8,2))","v":"火"},{"$f":"IF('[1]８月'!D11=\"\",\"\",'[1]８月'!D11)","v":0},{"$f":"IF('[1]８月'!E11=\"\",\"\",'[1]８月'!E11)","v":0},{"$f":"IF('[1]８月'!F11=\"\",\"\",'[1]８月'!F11)","v":0},{"$f":"IF('[1]８月'!G11=\"\",\"\",'[1]８月'!G11)","v":0},{"$f":"IF('[1]８月'!H11=\"\",\"\",'[1]８月'!H11)","v":0},{"$f":"IF('[1]８月'!I11=\"\",\"\",'[1]８月'!I11)","v":0},{"$f":"IF('[1]８月'!J11=\"\",\"\",'[1]８月'!J11)","v":0},"2014-08-05",70,71,71,71,71,75]
[null,null,"2014-08-06",6,{"$f":"IF($M135=\"\",\"\",VLOOKUP(WEEKDAY($M135),[1]Sheet1!$A$2:$B$8,2))","v":"水"},{"$f":"IF('[1]８月'!D12=\"\",\"\",'[1]８月'!D12)","v":0},{"$f":"IF('[1]８月'!E12=\"\",\"\",'[1]８月'!E12)","v":0},{"$f":"IF('[1]８月'!F12=\"\",\"\",'[1]８月'!F12)","v":0},{"$f":"IF('[1]８月'!G12=\"\",\"\",'[1]８月'!G12)","v":0},{"$f":"IF('[1]８月'!H12=\"\",\"\",'[1]８月'!H12)","v":0},{"$f":"IF('[1]８月'!I12=\"\",\"\",'[1]８月'!I12)","v":0},{"$f":"IF('[1]８月'!J12=\"\",\"\",'[1]８月'!J12)","v":0},"2014-08-06",70,71,71,71,71,75]
[null,null,"2014-08-07",7,{"$f":"IF($M136=\"\",\"\",VLOOKUP(WEEKDAY($M136),[1]Sheet1!$A$2:$B$8,2))","v":"木"},{"$f":"IF('[1]８月'!D13=\"\",\"\",'[1]８月'!D13)","v":0},{"$f":"IF('[1]８月'!E13=\"\",\"\",'[1]８月'!E13)","v":0},{"$f":"IF('[1]８月'!F13=\"\",\"\",'[1]８月'!F13)","v":0},{"$f":"IF('[1]８月'!G13=\"\",\"\",'[1]８月'!G13)","v":0},{"$f":"IF('[1]８月'!H13=\"\",\"\",'[1]８月'!H13)","v":0},{"$f":"IF('[1]８月'!I13=\"\",\"\",'[1]８月'!I13)","v":0},{"$f":"IF('[1]８月'!J13=\"\",\"\",'[1]８月'!J13)","v":0},"2014-08-07",70,71,71,71,71,75]
[null,null,"2014-08-08",8,{"$f":"IF($M137=\"\",\"\",VLOOKUP(WEEKDAY($M137),[1]Sheet1!$A$2:$B$8,2))","v":"金"},{"$f":"IF('[1]８月'!D14=\"\",\"\",'[1]８月'!D14)","v":0},{"$f":"IF('[1]８月'!E14=\"\",\"\",'[1]８月'!E14)","v":0},{"$f":"IF('[1]８月'!F14=\"\",\"\",'[1]８月'!F14)","v":0},{"$f":"IF('[1]８月'!G14=\"\",\"\",'[1]８月'!G14)","v":0},{"$f":"IF('[1]８月'!H14=\"\",\"\",'[1]８月'!H14)","v":0},{"$f":"IF('[1]８月'!I14=\"\",\"\",'[1]８月'!I14)","v":0},{"$f":"IF('[1]８月'!J14=\"\",\"\",'[1]８月'!J14)","v":0},"2014-08-08",70,71,71,71,71,75]
[null,null,"2014-08-09",9,{"$f":"IF($M138=\"\",\"\",VLOOKUP(WEEKDAY($M138),[1]Sheet1!$A$2:$B$8,2))","v":"土"},{"$f":"IF('[1]８月'!D15=\"\",\"\",'[1]８月'!D15)","v":0},{"$f":"IF('[1]８月'!E15=\"\",\"\",'[1]８月'!E15)","v":0},{"$f":"IF('[1]８月'!F15=\"\",\"\",'[1]８月'!F15)","v":0},{"$f":"IF('[1]８月'!G15=\"\",\"\",'[1]８月'!G15)","v":0},{"$f":"IF('[1]８月'!H15=\"\",\"\",'[1]８月'!H15)","v":0},{"$f":"IF('[1]８月'!I15=\"\",\"\",'[1]８月'!I15)","v":0},{"$f":"IF('[1]８月'!J15=\"\",\"\",'[1]８月'!J15)","v":0},"2014-08-09",70,71,71,71,71,75]
[null,null,"2014-08-10",10,{"$f":"IF($M139=\"\",\"\",VLOOKUP(WEEKDAY($M139),[1]Sheet1!$A$2:$B$8,2))","v":"日"},{"$f":"IF('[1]８月'!D16=\"\",\"\",'[1]８月'!D16)","v":0},{"$f":"IF('[1]８月'!E16=\"\",\"\",'[1]８月'!E16)","v":0},{"$f":"IF('[1]８月'!F16=\"\",\"\",'[1]８月'!F16)","v":0},{"$f":"IF('[1]８月'!G16=\"\",\"\",'[1]８月'!G16)","v":0},{"$f":"IF('[1]８月'!H16=\"\",\"\",'[1]８月'!H16)","v":0},{"$f":"IF('[1]８月'!I16=\"\",\"\",'[1]８月'!I16)","v":0},{"$f":"IF('[1]８月'!J16=\"\",\"\",'[1]８月'!J16)","v":0},"2014-08-10",70,71,71,71,71,75]
[null,null,"2014-08-11",11,{"$f":"IF($M140=\"\",\"\",VLOOKUP(WEEKDAY($M140),[1]Sheet1!$A$2:$B$8,2))","v":"月"},{"$f":"IF('[1]８月'!D17=\"\",\"\",'[1]８月'!D17)","v":0},{"$f":"IF('[1]８月'!E17=\"\",\"\",'[1]８月'!E17)","v":0},{"$f":"IF('[1]８月'!F17=\"\",\"\",'[1]８月'!F17)","v":0},{"$f":"IF('[1]８月'!G17=\"\",\"\",'[1]８月'!G17)","v":0},{"$f":"IF('[1]８月'!H17=\"\",\"\",'[1]８月'!H17)","v":0},{"$f":"IF('[1]８月'!I17=\"\",\"\",'[1]８月'!I17)","v":0},{"$f":"IF('[1]８月'!J17=\"\",\"\",'[1]８月'!J17)","v":0},"2014-08-11",70,71,71,71,71,75]
[null,null,"2014-08-12",12,{"$f":"IF($M141=\"\",\"\",VLOOKUP(WEEKDAY($M141),[1]Sheet1!$A$2:$B$8,2))","v":"火"},{"$f":"IF('[1]８月'!D18=\"\",\"\",'[1]８月'!D18)","v":0},{"$f":"IF('[1]８月'!E18=\"\",\"\",'[1]８月'!E18)","v":0},{"$f":"IF('[1]８月'!F18=\"\",\"\",'[1]８月'!F18)","v":0},{"$f":"IF('[1]８月'!G18=\"\",\"\",'[1]８月'!G18)","v":0},{"$f":"IF('[1]８月'!H18=\"\",\"\",'[1]８月'!H18)","v":0},{"$f":"IF('[1]８月'!I18=\"\",\"\",'[1]８月'!I18)","v":0},{"$f":"IF('[1]８月'!J18=\"\",\"\",'[1]８月'!J18)","v":0},"2014-08-12",70,71,71,71,71,75]
[null,null,"2014-08-13",13,{"$f":"IF($M142=\"\",\"\",VLOOKUP(WEEKDAY($M142),[1]Sheet1!$A$2:$B$8,2))","v":"水"},{"$f":"IF('[1]８月'!D19=\"\",\"\",'[1]８月'!D19)","v":0},{"$f":"IF('[1]８月'!E19=\"\",\"\",'[1]８月'!E19)","v":0},{"$f":"IF('[1]８月'!F19=\"\",\"\",'[1]８月'!F19)","v":0},{"$f":"IF('[1]８月'!G19=\"\",\"\",'[1]８月'!G19)","v":0},{"$f":"IF('[1]８月'!H19=\"\",\"\",'[1]８月'!H19)","v":0},{"$f":"IF('[1]８月'!I19=\"\",\"\",'[1]８月'!I19)","v":0},{"$f":"IF('[1]８月'!J19=\"\",\"\",'[1]８月'!J19)","v":0},"2014-08-13",70,71,71,71,71,75]
[null,null,"2014-08-14",14,{"$f":"IF($M143=\"\",\"\",VLOOKUP(WEEKDAY($M143),[1]Sheet1!$A$2:$B$8,2))","v":"木"},{"$f":"IF('[1]８月'!D20=\"\",\"\",'[1]８月'!D20)","v":0},{"$f":"IF('[1]８月'!E20=\"\",\"\",'[1]８月'!E20)","v":0},{"$f":"IF('[1]８月'!F20=\"\",\"\",'[1]８月'!F20)","v":0},{"$f":"IF('[1]８月'!G20=\"\",\"\",'[1]８月'!G20)","v":0},{"$f":"IF('[1]８月'!H20=\"\",\"\",'[1]８月'!H20)","v":0},{"$f":"IF('[1]８月'!I20=\"\",\"\",'[1]８月'!I20)","v":0},{"$f":"IF('[1]８月'!J20=\"\",\"\",'[1]８月'!J20)","v":0},"2014-08-14",70,71,71,71,71,75]
[null,null,"2014-08-15",15,{"$f":"IF($M144=\"\",\"\",VLOOKUP(WEEKDAY($M144),[1]Sheet1!$A$2:$B$8,2))","v":"金"},{"$f":"IF('[1]８月'!D21=\"\",\"\",'[1]８月'!D21)","v":0},{"$f":"IF('[1]８月'!E21=\"\",\"\",'[1]８月'!E21)","v":0},{"$f":"IF('[1]８月'!F21=\"\",\"\",'[1]８月'!F21)","v":0},{"$f":"IF('[1]８月'!G21=\"\",\"\",'[1]８月'!G21)","v":0},{"$f":"IF('[1]８月'!H21=\"\",\"\",'[1]８月'!H21)","v":0},{"$f":"IF('[1]８月'!I21=\"\",\"\",'[1]８月'!I21)","v":0},{"$f":"IF('[1]８月'!J21=\"\",\"\",'[1]８月'!J21)","v":0},"2014-08-15",70,71,71,71,71,75]
[null,null,"2014-08-16",16,{"$f":"IF($M145=\"\",\"\",VLOOKUP(WEEKDAY($M145),[1]Sheet1!$A$2:$B$8,2))","v":"土"},{"$f":"IF('[1]８月'!D22=\"\",\"\",'[1]８月'!D22)","v":0},{"$f":"IF('[1]８月'!E22=\"\",\"\",'[1]８月'!E22)","v":0},{"$f":"IF('[1]８月'!F22=\"\",\"\",'[1]８月'!F22)","v":0},{"$f":"IF('[1]８月'!G22=\"\",\"\",'[1]８月'!G22)","v":0},{"$f":"IF('[1]８月'!H22=\"\",\"\",'[1]８月'!H22)","v":0},{"$f":"IF('[1]８月'!I22=\"\",\"\",'[1]８月'!I22)","v":0},{"$f":"IF('[1]８月'!J22=\"\",\"\",'[1]８月'!J22)","v":0},"2014-08-16",70,71,71,71,71,75]
[null,null,"2014-08-17",17,{"$f":"IF($M146=\"\",\"\",VLOOKUP(WEEKDAY($M146),[1]Sheet1!$A$2:$B$8,2))","v":"日"},{"$f":"IF('[1]８月'!D23=\"\",\"\",'[1]８月'!D23)","v":0},{"$f":"IF('[1]８月'!E23=\"\",\"\",'[1]８月'!E23)","v":0},{"$f":"IF('[1]８月'!F23=\"\",\"\",'[1]８月'!F23)","v":0},{"$f":"IF('[1]８月'!G23=\"\",\"\",'[1]８月'!G23)","v":0},{"$f":"IF('[1]８月'!H23=\"\",\"\",'[1]８月'!H23)","v":0},{"$f":"IF('[1]８月'!I23=\"\",\"\",'[1]８月'!I23)","v":0},{"$f":"IF('[1]８月'!J23=\"\",\"\",'[1]８月'!J23)","v":0},"2014-08-17",70,71,71,71,71,75]
[null,null,"2014-08-18",18,{"$f":"IF($M147=\"\",\"\",VLOOKUP(WEEKDAY($M147),[1]Sheet1!$A$2:$B$8,2))","v":"月"},{"$f":"IF('[1]８月'!D24=\"\",\"\",'[1]８月'!D24)","v":"6年課外"},{"$f":"IF('[1]８月'!E24=\"\",\"\",'[1]８月'!E24)","v":0},{"$f":"IF('[1]８月'!F24=\"\",\"\",'[1]８月'!F24)","v":0},{"$f":"IF('[1]８月'!G24=\"\",\"\",'[1]８月'!G24)","v":0},{"$f":"IF('[1]８月'!H24=\"\",\"\",'[1]８月'!H24)","v":0},{"$f":"IF('[1]８月'!I24=\"\",\"\",'[1]８月'!I24)","v":0},{"$f":"IF('[1]８月'!J24=\"\",\"\",'[1]８月'!J24)","v":0},"2014-08-18",70,71,71,71,71,75]
[null,null,"2014-08-19",19,{"$f":"IF($M148=\"\",\"\",VLOOKUP(WEEKDAY($M148),[1]Sheet1!$A$2:$B$8,2))","v":"火"},{"$f":"IF('[1]８月'!D25=\"\",\"\",'[1]８月'!D25)","v":"運営委員会，職員会議，学年会"},{"$f":"IF('[1]８月'!E25=\"\",\"\",'[1]８月'!E25)","v":0},{"$f":"IF('[1]８月'!F25=\"\",\"\",'[1]８月'!F25)","v":0},{"$f":"IF('[1]８月'!G25=\"\",\"\",'[1]８月'!G25)","v":0},{"$f":"IF('[1]８月'!H25=\"\",\"\",'[1]８月'!H25)","v":0},{"$f":"IF('[1]８月'!I25=\"\",\"\",'[1]８月'!I25)","v":0},{"$f":"IF('[1]８月'!J25=\"\",\"\",'[1]８月'!J25)","v":0},"2014-08-19",70,71,71,71,71,75]
[null,null,"2014-08-20",20,{"$f":"IF($M149=\"\",\"\",VLOOKUP(WEEKDAY($M149),[1]Sheet1!$A$2:$B$8,2))","v":"水"},{"$f":"IF('[1]８月'!D26=\"\",\"\",'[1]８月'!D26)","v":"全校集会，1～5年課題テスト，6年実力テスト"},{"$f":"IF('[1]８月'!E26=\"\",\"\",'[1]８月'!E26)","v":"○"},{"$f":"IF('[1]８月'!F26=\"\",\"\",'[1]８月'!F26)","v":"○"},{"$f":"IF('[1]８月'!G26=\"\",\"\",'[1]８月'!G26)","v":"○"},{"$f":"IF('[1]８月'!H26=\"\",\"\",'[1]８月'!H26)","v":"○"},{"$f":"IF('[1]８月'!I26=\"\",\"\",'[1]８月'!I26)","v":"○"},{"$f":"IF('[1]８月'!J26=\"\",\"\",'[1]８月'!J26)","v":"○"},"2014-08-20",{"$f":"COUNTIF(G149,\"○\")+COUNTIF(G149,\"◎\")+N148","v":71},{"$f":"COUNTIF(H149,\"○\")+COUNTIF(H149,\"◎\")+O148","v":72},{"$f":"COUNTIF(I149,\"○\")+COUNTIF(I149,\"◎\")+P148","v":72},{"$f":"COUNTIF(J149,\"○\")+COUNTIF(J149,\"◎\")+Q148","v":72},{"$f":"COUNTIF(K149,\"○\")+COUNTIF(K149,\"◎\")+R148","v":72},{"$f":"COUNTIF(L149,\"○\")+COUNTIF(L149,\"◎\")+S148","v":76}]
[null,null,"2014-08-21",21,{"$f":"IF($M150=\"\",\"\",VLOOKUP(WEEKDAY($M150),[1]Sheet1!$A$2:$B$8,2))","v":"木"},{"$f":"IF('[1]８月'!D27=\"\",\"\",'[1]８月'!D27)","v":"6年実力テスト"},{"$f":"IF('[1]８月'!E27=\"\",\"\",'[1]８月'!E27)","v":"○"},{"$f":"IF('[1]８月'!F27=\"\",\"\",'[1]８月'!F27)","v":"○"},{"$f":"IF('[1]８月'!G27=\"\",\"\",'[1]８月'!G27)","v":"○"},{"$f":"IF('[1]８月'!H27=\"\",\"\",'[1]８月'!H27)","v":"○"},{"$f":"IF('[1]８月'!I27=\"\",\"\",'[1]８月'!I27)","v":"○"},{"$f":"IF('[1]８月'!J27=\"\",\"\",'[1]８月'!J27)","v":"○"},"2014-08-21",72,73,73,73,73,77]
[null,null,"2014-08-22",22,{"$f":"IF($M151=\"\",\"\",VLOOKUP(WEEKDAY($M151),[1]Sheet1!$A$2:$B$8,2))","v":"金"},{"$f":"IF('[1]８月'!D28=\"\",\"\",'[1]８月'!D28)","v":"学校説明会準備（1年）"},{"$f":"IF('[1]８月'!E28=\"\",\"\",'[1]８月'!E28)","v":"○"},{"$f":"IF('[1]８月'!F28=\"\",\"\",'[1]８月'!F28)","v":"○"},{"$f":"IF('[1]８月'!G28=\"\",\"\",'[1]８月'!G28)","v":"○"},{"$f":"IF('[1]８月'!H28=\"\",\"\",'[1]８月'!H28)","v":"○"},{"$f":"IF('[1]８月'!I28=\"\",\"\",'[1]８月'!I28)","v":"○"},{"$f":"IF('[1]８月'!J28=\"\",\"\",'[1]８月'!J28)","v":"○"},"2014-08-22",73,74,74,74,74,78]
[null,null,"2014-08-23",23,{"$f":"IF($M152=\"\",\"\",VLOOKUP(WEEKDAY($M152),[1]Sheet1!$A$2:$B$8,2))","v":"土"},{"$f":"IF('[1]８月'!D29=\"\",\"\",'[1]８月'!D29)","v":"学校説明会（小5対象）"},{"$f":"IF('[1]８月'!E29=\"\",\"\",'[1]８月'!E29)","v":0},{"$f":"IF('[1]８月'!F29=\"\",\"\",'[1]８月'!F29)","v":0},{"$f":"IF('[1]８月'!G29=\"\",\"\",'[1]８月'!G29)","v":0},{"$f":"IF('[1]８月'!H29=\"\",\"\",'[1]８月'!H29)","v":0},{"$f":"IF('[1]８月'!I29=\"\",\"\",'[1]８月'!I29)","v":0},{"$f":"IF('[1]８月'!J29=\"\",\"\",'[1]８月'!J29)","v":0},"2014-08-23",73,74,74,74,74,78]
[null,null,"2014-08-24",24,{"$f":"IF($M153=\"\",\"\",VLOOKUP(WEEKDAY($M153),[1]Sheet1!$A$2:$B$8,2))","v":"日"},{"$f":"IF('[1]８月'!D30=\"\",\"\",'[1]８月'!D30)","v":0},{"$f":"IF('[1]８月'!E30=\"\",\"\",'[1]８月'!E30)","v":0},{"$f":"IF('[1]８月'!F30=\"\",\"\",'[1]８月'!F30)","v":0},{"$f":"IF('[1]８月'!G30=\"\",\"\",'[1]８月'!G30)","v":0},{"$f":"IF('[1]８月'!H30=\"\",\"\",'[1]８月'!H30)","v":0},{"$f":"IF('[1]８月'!I30=\"\",\"\",'[1]８月'!I30)","v":0},{"$f":"IF('[1]８月'!J30=\"\",\"\",'[1]８月'!J30)","v":0},"2014-08-24",73,74,74,74,74,78]
[null,null,"2014-08-25",25,{"$f":"IF($M154=\"\",\"\",VLOOKUP(WEEKDAY($M154),[1]Sheet1!$A$2:$B$8,2))","v":"月"},{"$f":"IF('[1]８月'!D31=\"\",\"\",'[1]８月'!D31)","v":"各種委員会"},{"$f":"IF('[1]８月'!E31=\"\",\"\",'[1]８月'!E31)","v":"○"},{"$f":"IF('[1]８月'!F31=\"\",\"\",'[1]８月'!F31)","v":"○"},{"$f":"IF('[1]８月'!G31=\"\",\"\",'[1]８月'!G31)","v":"○"},{"$f":"IF('[1]８月'!H31=\"\",\"\",'[1]８月'!H31)","v":"○"},{"$f":"IF('[1]８月'!I31=\"\",\"\",'[1]８月'!I31)","v":"○"},{"$f":"IF('[1]８月'!J31=\"\",\"\",'[1]８月'!J31)","v":"○"},"2014-08-25",74,75,75,75,75,79]
[null,null,"2014-08-26",26,{"$f":"IF($M155=\"\",\"\",VLOOKUP(WEEKDAY($M155),[1]Sheet1!$A$2:$B$8,2))","v":"火"},{"$f":"IF('[1]８月'!D32=\"\",\"\",'[1]８月'!D32)","v":"中央委員会"},{"$f":"IF('[1]８月'!E32=\"\",\"\",'[1]８月'!E32)","v":"◎"},{"$f":"IF('[1]８月'!F32=\"\",\"\",'[1]８月'!F32)","v":"◎"},{"$f":"IF('[1]８月'!G32=\"\",\"\",'[1]８月'!G32)","v":"◎"},{"$f":"IF('[1]８月'!H32=\"\",\"\",'[1]８月'!H32)","v":"○"},{"$f":"IF('[1]８月'!I32=\"\",\"\",'[1]８月'!I32)","v":"○"},{"$f":"IF('[1]８月'!J32=\"\",\"\",'[1]８月'!J32)","v":"○"},"2014-08-26",75,76,76,76,76,80]
[null,null,"2014-08-27",27,{"$f":"IF($M156=\"\",\"\",VLOOKUP(WEEKDAY($M156),[1]Sheet1!$A$2:$B$8,2))","v":"水"},{"$f":"IF('[1]８月'!D33=\"\",\"\",'[1]８月'!D33)","v":"推薦会議"},{"$f":"IF('[1]８月'!E33=\"\",\"\",'[1]８月'!E33)","v":"◎"},{"$f":"IF('[1]８月'!F33=\"\",\"\",'[1]８月'!F33)","v":"◎"},{"$f":"IF('[1]８月'!G33=\"\",\"\",'[1]８月'!G33)","v":"◎"},{"$f":"IF('[1]８月'!H33=\"\",\"\",'[1]８月'!H33)","v":"○"},{"$f":"IF('[1]８月'!I33=\"\",\"\",'[1]８月'!I33)","v":"○"},{"$f":"IF('[1]８月'!J33=\"\",\"\",'[1]８月'!J33)","v":"○"},"2014-08-27",76,77,77,77,77,81]
[null,null,"2014-08-28",28,{"$f":"IF($M157=\"\",\"\",VLOOKUP(WEEKDAY($M157),[1]Sheet1!$A$2:$B$8,2))","v":"木"},{"$f":"IF('[1]８月'!D34=\"\",\"\",'[1]８月'!D34)","v":"青陵祭準備"},{"$f":"IF('[1]８月'!E34=\"\",\"\",'[1]８月'!E34)","v":"◎"},{"$f":"IF('[1]８月'!F34=\"\",\"\",'[1]８月'!F34)","v":"◎"},{"$f":"IF('[1]８月'!G34=\"\",\"\",'[1]８月'!G34)","v":"◎"},{"$f":"IF('[1]８月'!H34=\"\",\"\",'[1]８月'!H34)","v":"○"},{"$f":"IF('[1]８月'!I34=\"\",\"\",'[1]８月'!I34)","v":"○"},{"$f":"IF('[1]８月'!J34=\"\",\"\",'[1]８月'!J34)","v":"○"},"2014-08-28",77,78,78,78,78,82]
[null,null,"2014-08-29",29,{"$f":"IF($M158=\"\",\"\",VLOOKUP(WEEKDAY($M158),[1]Sheet1!$A$2:$B$8,2))","v":"金"},{"$f":"IF('[1]８月'!D35=\"\",\"\",'[1]８月'!D35)","v":"青陵祭"},{"$f":"IF('[1]８月'!E35=\"\",\"\",'[1]８月'!E35)","v":"○"},{"$f":"IF('[1]８月'!F35=\"\",\"\",'[1]８月'!F35)","v":"○"},{"$f":"IF('[1]８月'!G35=\"\",\"\",'[1]８月'!G35)","v":"○"},{"$f":"IF('[1]８月'!H35=\"\",\"\",'[1]８月'!H35)","v":"○"},{"$f":"IF('[1]８月'!I35=\"\",\"\",'[1]８月'!I35)","v":"○"},{"$f":"IF('[1]８月'!J35=\"\",\"\",'[1]８月'!J35)","v":"○"},"2014-08-29",78,79,79,79,79,83]
[null,null,"2014-08-30",30,{"$f":"IF($M159=\"\",\"\",VLOOKUP(WEEKDAY($M159),[1]Sheet1!$A$2:$B$8,2))","v":"土"},{"$f":"IF('[1]８月'!D36=\"\",\"\",'[1]８月'!D36)","v":"青陵祭"},{"$f":"IF('[1]８月'!E36=\"\",\"\",'[1]８月'!E36)","v":"○"},{"$f":"IF('[1]８月'!F36=\"\",\"\",'[1]８月'!F36)","v":"○"},{"$f":"IF('[1]８月'!G36=\"\",\"\",'[1]８月'!G36)","v":"○"},{"$f":"IF('[1]８月'!H36=\"\",\"\",'[1]８月'!H36)","v":"○"},{"$f":"IF('[1]８月'!I36=\"\",\"\",'[1]８月'!I36)","v":"○"},{"$f":"IF('[1]８月'!J36=\"\",\"\",'[1]８月'!J36)","v":"○"},"2014-08-30",79,80,80,80,80,84]
[null,null,"2014-08-31",31,{"$f":"IF($M160=\"\",\"\",VLOOKUP(WEEKDAY($M160),[1]Sheet1!$A$2:$B$8,2))","v":"日"},{"$f":"IF('[1]８月'!D37=\"\",\"\",'[1]８月'!D37)","v":0},{"$f":"IF('[1]８月'!E37=\"\",\"\",'[1]８月'!E37)","v":0},{"$f":"IF('[1]８月'!F37=\"\",\"\",'[1]８月'!F37)","v":0},{"$f":"IF('[1]８月'!G37=\"\",\"\",'[1]８月'!G37)","v":0},{"$f":"IF('[1]８月'!H37=\"\",\"\",'[1]８月'!H37)","v":0},{"$f":"IF('[1]８月'!I37=\"\",\"\",'[1]８月'!I37)","v":0},{"$f":"IF('[1]８月'!J37=\"\",\"\",'[1]８月'!J37)","v":0},"2014-08-31",79,80,80,80,80,84]
[null,null,"2014-09-01",1,{"$f":"IF($M161=\"\",\"\",VLOOKUP(WEEKDAY($M161),[1]Sheet1!$A$2:$B$8,2))","v":"月"},{"$f":"IF('[1]９月'!D7=\"\",\"\",'[1]９月'!D7)","v":"振替休業日"},{"$f":"IF('[1]９月'!E7=\"\",\"\",'[1]９月'!E7)","v":0},{"$f":"IF('[1]９月'!F7=\"\",\"\",'[1]９月'!F7)","v":0},{"$f":"IF('[1]９月'!G7=\"\",\"\",'[1]９月'!G7)","v":0},{"$f":"IF('[1]９月'!H7=\"\",\"\",'[1]９月'!H7)","v":0},{"$f":"IF('[1]９月'!I7=\"\",\"\",'[1]９月'!I7)","v":0},{"$f":"IF('[1]９月'!J7=\"\",\"\",'[1]９月'!J7)","v":0},"2014-09-01",79,80,80,80,80,84]
[null,null,"2014-09-02",2,{"$f":"IF($M162=\"\",\"\",VLOOKUP(WEEKDAY($M162),[1]Sheet1!$A$2:$B$8,2))","v":"火"},{"$f":"IF('[1]９月'!D8=\"\",\"\",'[1]９月'!D8)","v":0},{"$f":"IF('[1]９月'!E8=\"\",\"\",'[1]９月'!E8)","v":"◎"},{"$f":"IF('[1]９月'!F8=\"\",\"\",'[1]９月'!F8)","v":"◎"},{"$f":"IF('[1]９月'!G8=\"\",\"\",'[1]９月'!G8)","v":"◎"},{"$f":"IF('[1]９月'!H8=\"\",\"\",'[1]９月'!H8)","v":"○"},{"$f":"IF('[1]９月'!I8=\"\",\"\",'[1]９月'!I8)","v":"○"},{"$f":"IF('[1]９月'!J8=\"\",\"\",'[1]９月'!J8)","v":"○"},"2014-09-02",80,81,81,81,81,85]
[null,null,"2014-09-03",3,{"$f":"IF($M163=\"\",\"\",VLOOKUP(WEEKDAY($M163),[1]Sheet1!$A$2:$B$8,2))","v":"水"},{"$f":"IF('[1]９月'!D9=\"\",\"\",'[1]９月'!D9)","v":0},{"$f":"IF('[1]９月'!E9=\"\",\"\",'[1]９月'!E9)","v":"◎"},{"$f":"IF('[1]９月'!F9=\"\",\"\",'[1]９月'!F9)","v":"◎"},{"$f":"IF('[1]９月'!G9=\"\",\"\",'[1]９月'!G9)","v":"◎"},{"$f":"IF('[1]９月'!H9=\"\",\"\",'[1]９月'!H9)","v":"○"},{"$f":"IF('[1]９月'!I9=\"\",\"\",'[1]９月'!I9)","v":"○"},{"$f":"IF('[1]９月'!J9=\"\",\"\",'[1]９月'!J9)","v":"○"},"2014-09-03",81,82,82,82,82,86]
[null,null,"2014-09-04",4,{"$f":"IF($M164=\"\",\"\",VLOOKUP(WEEKDAY($M164),[1]Sheet1!$A$2:$B$8,2))","v":"木"},{"$f":"IF('[1]９月'!D10=\"\",\"\",'[1]９月'!D10)","v":0},{"$f":"IF('[1]９月'!E10=\"\",\"\",'[1]９月'!E10)","v":"◎"},{"$f":"IF('[1]９月'!F10=\"\",\"\",'[1]９月'!F10)","v":"◎"},{"$f":"IF('[1]９月'!G10=\"\",\"\",'[1]９月'!G10)","v":"◎"},{"$f":"IF('[1]９月'!H10=\"\",\"\",'[1]９月'!H10)","v":"○"},{"$f":"IF('[1]９月'!I10=\"\",\"\",'[1]９月'!I10)","v":"○"},{"$f":"IF('[1]９月'!J10=\"\",\"\",'[1]９月'!J10)","v":"○"},"2014-09-04",82,83,83,83,83,87]
[null,null,"2014-09-05",5,{"$f":"IF($M165=\"\",\"\",VLOOKUP(WEEKDAY($M165),[1]Sheet1!$A$2:$B$8,2))","v":"金"},{"$f":"IF('[1]９月'!D11=\"\",\"\",'[1]９月'!D11)","v":0},{"$f":"IF('[1]９月'!E11=\"\",\"\",'[1]９月'!E11)","v":"◎"},{"$f":"IF('[1]９月'!F11=\"\",\"\",'[1]９月'!F11)","v":"◎"},{"$f":"IF('[1]９月'!G11=\"\",\"\",'[1]９月'!G11)","v":"◎"},{"$f":"IF('[1]９月'!H11=\"\",\"\",'[1]９月'!H11)","v":"○"},{"$f":"IF('[1]９月'!I11=\"\",\"\",'[1]９月'!I11)","v":"○"},{"$f":"IF('[1]９月'!J11=\"\",\"\",'[1]９月'!J11)","v":"○"},"2014-09-05",83,84,84,84,84,88]
[null,null,"2014-09-06",6,{"$f":"IF($M166=\"\",\"\",VLOOKUP(WEEKDAY($M166),[1]Sheet1!$A$2:$B$8,2))","v":"土"},{"$f":"IF('[1]９月'!D12=\"\",\"\",'[1]９月'!D12)","v":0},{"$f":"IF('[1]９月'!E12=\"\",\"\",'[1]９月'!E12)","v":0},{"$f":"IF('[1]９月'!F12=\"\",\"\",'[1]９月'!F12)","v":0},{"$f":"IF('[1]９月'!G12=\"\",\"\",'[1]９月'!G12)","v":0},{"$f":"IF('[1]９月'!H12=\"\",\"\",'[1]９月'!H12)","v":0},{"$f":"IF('[1]９月'!I12=\"\",\"\",'[1]９月'!I12)","v":0},{"$f":"IF('[1]９月'!J12=\"\",\"\",'[1]９月'!J12)","v":0},"2014-09-06",83,84,84,84,84,88]
[null,null,"2014-09-07",7,{"$f":"IF($M167=\"\",\"\",VLOOKUP(WEEKDAY($M167),[1]Sheet1!$A$2:$B$8,2))","v":"日"},{"$f":"IF('[1]９月'!D13=\"\",\"\",'[1]９月'!D13)","v":0},{"$f":"IF('[1]９月'!E13=\"\",\"\",'[1]９月'!E13)","v":0},{"$f":"IF('[1]９月'!F13=\"\",\"\",'[1]９月'!F13)","v":0},{"$f":"IF('[1]９月'!G13=\"\",\"\",'[1]９月'!G13)","v":0},{"$f":"IF('[1]９月'!H13=\"\",\"\",'[1]９月'!H13)","v":0},{"$f":"IF('[1]９月'!I13=\"\",\"\",'[1]９月'!I13)","v":0},{"$f":"IF('[1]９月'!J13=\"\",\"\",'[1]９月'!J13)","v":0},"2014-09-07",83,84,84,84,84,88]
[null,null,"2014-09-08",8,{"$f":"IF($M168=\"\",\"\",VLOOKUP(WEEKDAY($M168),[1]Sheet1!$A$2:$B$8,2))","v":"月"},{"$f":"IF('[1]９月'!D14=\"\",\"\",'[1]９月'!D14)","v":"1年天文台実習"},{"$f":"IF('[1]９月'!E14=\"\",\"\",'[1]９月'!E14)","v":"○"},{"$f":"IF('[1]９月'!F14=\"\",\"\",'[1]９月'!F14)","v":"◎"},{"$f":"IF('[1]９月'!G14=\"\",\"\",'[1]９月'!G14)","v":"◎"},{"$f":"IF('[1]９月'!H14=\"\",\"\",'[1]９月'!H14)","v":"○"},{"$f":"IF('[1]９月'!I14=\"\",\"\",'[1]９月'!I14)","v":"○"},{"$f":"IF('[1]９月'!J14=\"\",\"\",'[1]９月'!J14)","v":"○"},"2014-09-08",84,85,85,85,85,89]
[null,null,"2014-09-09",9,{"$f":"IF($M169=\"\",\"\",VLOOKUP(WEEKDAY($M169),[1]Sheet1!$A$2:$B$8,2))","v":"火"},{"$f":"IF('[1]９月'!D15=\"\",\"\",'[1]９月'!D15)","v":0},{"$f":"IF('[1]９月'!E15=\"\",\"\",'[1]９月'!E15)","v":"◎"},{"$f":"IF('[1]９月'!F15=\"\",\"\",'[1]９月'!F15)","v":"◎"},{"$f":"IF('[1]９月'!G15=\"\",\"\",'[1]９月'!G15)","v":"◎"},{"$f":"IF('[1]９月'!H15=\"\",\"\",'[1]９月'!H15)","v":"○"},{"$f":"IF('[1]９月'!I15=\"\",\"\",'[1]９月'!I15)","v":"○"},{"$f":"IF('[1]９月'!J15=\"\",\"\",'[1]９月'!J15)","v":"○"},"2014-09-09",85,86,86,86,86,90]
[null,null,"2014-09-10",10,{"$f":"IF($M170=\"\",\"\",VLOOKUP(WEEKDAY($M170),[1]Sheet1!$A$2:$B$8,2))","v":"水"},{"$f":"IF('[1]９月'!D16=\"\",\"\",'[1]９月'!D16)","v":"市新人大会抽選会"},{"$f":"IF('[1]９月'!E16=\"\",\"\",'[1]９月'!E16)","v":"◎"},{"$f":"IF('[1]９月'!F16=\"\",\"\",'[1]９月'!F16)","v":"◎"},{"$f":"IF('[1]９月'!G16=\"\",\"\",'[1]９月'!G16)","v":"◎"},{"$f":"IF('[1]９月'!H16=\"\",\"\",'[1]９月'!H16)","v":"○"},{"$f":"IF('[1]９月'!I16=\"\",\"\",'[1]９月'!I16)","v":"○"},{"$f":"IF('[1]９月'!J16=\"\",\"\",'[1]９月'!J16)","v":"○"},"2014-09-10",86,87,87,87,87,91]
[null,null,"2014-09-11",11,{"$f":"IF($M171=\"\",\"\",VLOOKUP(WEEKDAY($M171),[1]Sheet1!$A$2:$B$8,2))","v":"木"},{"$f":"IF('[1]９月'!D17=\"\",\"\",'[1]９月'!D17)","v":0},{"$f":"IF('[1]９月'!E17=\"\",\"\",'[1]９月'!E17)","v":"◎"},{"$f":"IF('[1]９月'!F17=\"\",\"\",'[1]９月'!F17)","v":"◎"},{"$f":"IF('[1]９月'!G17=\"\",\"\",'[1]９月'!G17)","v":"◎"},{"$f":"IF('[1]９月'!H17=\"\",\"\",'[1]９月'!H17)","v":"○"},{"$f":"IF('[1]９月'!I17=\"\",\"\",'[1]９月'!I17)","v":"○"},{"$f":"IF('[1]９月'!J17=\"\",\"\",'[1]９月'!J17)","v":"○"},"2014-09-11",87,88,88,88,88,92]
[null,null,"2014-09-12",12,{"$f":"IF($M172=\"\",\"\",VLOOKUP(WEEKDAY($M172),[1]Sheet1!$A$2:$B$8,2))","v":"金"},{"$f":"IF('[1]９月'!D18=\"\",\"\",'[1]９月'!D18)","v":0},{"$f":"IF('[1]９月'!E18=\"\",\"\",'[1]９月'!E18)","v":"◎"},{"$f":"IF('[1]９月'!F18=\"\",\"\",'[1]９月'!F18)","v":"◎"},{"$f":"IF('[1]９月'!G18=\"\",\"\",'[1]９月'!G18)","v":"◎"},{"$f":"IF('[1]９月'!H18=\"\",\"\",'[1]９月'!H18)","v":"○"},{"$f":"IF('[1]９月'!I18=\"\",\"\",'[1]９月'!I18)","v":"○"},{"$f":"IF('[1]９月'!J18=\"\",\"\",'[1]９月'!J18)","v":"○"},"2014-09-12",88,89,89,89,89,93]
[null,null,"2014-09-13",13,{"$f":"IF($M173=\"\",\"\",VLOOKUP(WEEKDAY($M173),[1]Sheet1!$A$2:$B$8,2))","v":"土"},{"$f":"IF('[1]９月'!D19=\"\",\"\",'[1]９月'!D19)","v":"土曜学習会"},{"$f":"IF('[1]９月'!E19=\"\",\"\",'[1]９月'!E19)","v":0},{"$f":"IF('[1]９月'!F19=\"\",\"\",'[1]９月'!F19)","v":0},{"$f":"IF('[1]９月'!G19=\"\",\"\",'[1]９月'!G19)","v":0},{"$f":"IF('[1]９月'!H19=\"\",\"\",'[1]９月'!H19)","v":0},{"$f":"IF('[1]９月'!I19=\"\",\"\",'[1]９月'!I19)","v":0},{"$f":"IF('[1]９月'!J19=\"\",\"\",'[1]９月'!J19)","v":0},"2014-09-13",88,89,89,89,89,93]
[null,null,"2014-09-14",14,{"$f":"IF($M174=\"\",\"\",VLOOKUP(WEEKDAY($M174),[1]Sheet1!$A$2:$B$8,2))","v":"日"},{"$f":"IF('[1]９月'!D20=\"\",\"\",'[1]９月'!D20)","v":0},{"$f":"IF('[1]９月'!E20=\"\",\"\",'[1]９月'!E20)","v":0},{"$f":"IF('[1]９月'!F20=\"\",\"\",'[1]９月'!F20)","v":0},{"$f":"IF('[1]９月'!G20=\"\",\"\",'[1]９月'!G20)","v":0},{"$f":"IF('[1]９月'!H20=\"\",\"\",'[1]９月'!H20)","v":0},{"$f":"IF('[1]９月'!I20=\"\",\"\",'[1]９月'!I20)","v":0},{"$f":"IF('[1]９月'!J20=\"\",\"\",'[1]９月'!J20)","v":0},"2014-09-14",88,89,89,89,89,93]
[null,null,"2014-09-15",15,{"$f":"IF($M175=\"\",\"\",VLOOKUP(WEEKDAY($M175),[1]Sheet1!$A$2:$B$8,2))","v":"月"},{"$f":"IF('[1]９月'!D21=\"\",\"\",'[1]９月'!D21)","v":"敬老の日"},{"$f":"IF('[1]９月'!E21=\"\",\"\",'[1]９月'!E21)","v":0},{"$f":"IF('[1]９月'!F21=\"\",\"\",'[1]９月'!F21)","v":0},{"$f":"IF('[1]９月'!G21=\"\",\"\",'[1]９月'!G21)","v":0},{"$f":"IF('[1]９月'!H21=\"\",\"\",'[1]９月'!H21)","v":0},{"$f":"IF('[1]９月'!I21=\"\",\"\",'[1]９月'!I21)","v":0},{"$f":"IF('[1]９月'!J21=\"\",\"\",'[1]９月'!J21)","v":0},"2014-09-15",88,89,89,89,89,93]
[null,null,"2014-09-16",16,{"$f":"IF($M176=\"\",\"\",VLOOKUP(WEEKDAY($M176),[1]Sheet1!$A$2:$B$8,2))","v":"火"},{"$f":"IF('[1]９月'!D22=\"\",\"\",'[1]９月'!D22)","v":"6年保健講話"},{"$f":"IF('[1]９月'!E22=\"\",\"\",'[1]９月'!E22)","v":"◎"},{"$f":"IF('[1]９月'!F22=\"\",\"\",'[1]９月'!F22)","v":"◎"},{"$f":"IF('[1]９月'!G22=\"\",\"\",'[1]９月'!G22)","v":"◎"},{"$f":"IF('[1]９月'!H22=\"\",\"\",'[1]９月'!H22)","v":"○"},{"$f":"IF('[1]９月'!I22=\"\",\"\",'[1]９月'!I22)","v":"○"},{"$f":"IF('[1]９月'!J22=\"\",\"\",'[1]９月'!J22)","v":"○"},"2014-09-16",89,90,90,90,90,94]
[null,null,"2014-09-17",17,{"$f":"IF($M177=\"\",\"\",VLOOKUP(WEEKDAY($M177),[1]Sheet1!$A$2:$B$8,2))","v":"水"},{"$f":"IF('[1]９月'!D23=\"\",\"\",'[1]９月'!D23)","v":"運営委員会"},{"$f":"IF('[1]９月'!E23=\"\",\"\",'[1]９月'!E23)","v":"◎"},{"$f":"IF('[1]９月'!F23=\"\",\"\",'[1]９月'!F23)","v":"◎"},{"$f":"IF('[1]９月'!G23=\"\",\"\",'[1]９月'!G23)","v":"◎"},{"$f":"IF('[1]９月'!H23=\"\",\"\",'[1]９月'!H23)","v":"○"},{"$f":"IF('[1]９月'!I23=\"\",\"\",'[1]９月'!I23)","v":"○"},{"$f":"IF('[1]９月'!J23=\"\",\"\",'[1]９月'!J23)","v":"○"},"2014-09-17",90,91,91,91,91,95]
[null,null,"2014-09-18",18,{"$f":"IF($M178=\"\",\"\",VLOOKUP(WEEKDAY($M178),[1]Sheet1!$A$2:$B$8,2))","v":"木"},{"$f":"IF('[1]９月'!D24=\"\",\"\",'[1]９月'!D24)","v":"1学期末考査（前後期）前期教科研究会②，学校安全点検"},{"$f":"IF('[1]９月'!E24=\"\",\"\",'[1]９月'!E24)","v":"◎"},{"$f":"IF('[1]９月'!F24=\"\",\"\",'[1]９月'!F24)","v":"◎"},{"$f":"IF('[1]９月'!G24=\"\",\"\",'[1]９月'!G24)","v":"◎"},{"$f":"IF('[1]９月'!H24=\"\",\"\",'[1]９月'!H24)","v":"○"},{"$f":"IF('[1]９月'!I24=\"\",\"\",'[1]９月'!I24)","v":"○"},{"$f":"IF('[1]９月'!J24=\"\",\"\",'[1]９月'!J24)","v":"○"},"2014-09-18",91,92,92,92,92,96]
[null,null,"2014-09-19",19,{"$f":"IF($M179=\"\",\"\",VLOOKUP(WEEKDAY($M179),[1]Sheet1!$A$2:$B$8,2))","v":"金"},{"$f":"IF('[1]９月'!D25=\"\",\"\",'[1]９月'!D25)","v":"1学期末考査（前後期），指導案検討会"},{"$f":"IF('[1]９月'!E25=\"\",\"\",'[1]９月'!E25)","v":"◎"},{"$f":"IF('[1]９月'!F25=\"\",\"\",'[1]９月'!F25)","v":"◎"},{"$f":"IF('[1]９月'!G25=\"\",\"\",'[1]９月'!G25)","v":"◎"},{"$f":"IF('[1]９月'!H25=\"\",\"\",'[1]９月'!H25)","v":"○"},{"$f":"IF('[1]９月'!I25=\"\",\"\",'[1]９月'!I25)","v":"○"},{"$f":"IF('[1]９月'!J25=\"\",\"\",'[1]９月'!J25)","v":"○"},"2014-09-19",92,93,93,93,93,97]
[null,null,"2014-09-20",20,{"$f":"IF($M180=\"\",\"\",VLOOKUP(WEEKDAY($M180),[1]Sheet1!$A$2:$B$8,2))","v":"土"},{"$f":"IF('[1]９月'!D26=\"\",\"\",'[1]９月'!D26)","v":0},{"$f":"IF('[1]９月'!E26=\"\",\"\",'[1]９月'!E26)","v":0},{"$f":"IF('[1]９月'!F26=\"\",\"\",'[1]９月'!F26)","v":0},{"$f":"IF('[1]９月'!G26=\"\",\"\",'[1]９月'!G26)","v":0},{"$f":"IF('[1]９月'!H26=\"\",\"\",'[1]９月'!H26)","v":0},{"$f":"IF('[1]９月'!I26=\"\",\"\",'[1]９月'!I26)","v":0},{"$f":"IF('[1]９月'!J26=\"\",\"\",'[1]９月'!J26)","v":0},"2014-09-20",92,93,93,93,93,97]
[null,null,"2014-09-21",21,{"$f":"IF($M181=\"\",\"\",VLOOKUP(WEEKDAY($M181),[1]Sheet1!$A$2:$B$8,2))","v":"日"},{"$f":"IF('[1]９月'!D27=\"\",\"\",'[1]９月'!D27)","v":0},{"$f":"IF('[1]９月'!E27=\"\",\"\",'[1]９月'!E27)","v":0},{"$f":"IF('[1]９月'!F27=\"\",\"\",'[1]９月'!F27)","v":0},{"$f":"IF('[1]９月'!G27=\"\",\"\",'[1]９月'!G27)","v":0},{"$f":"IF('[1]９月'!H27=\"\",\"\",'[1]９月'!H27)","v":0},{"$f":"IF('[1]９月'!I27=\"\",\"\",'[1]９月'!I27)","v":0},{"$f":"IF('[1]９月'!J27=\"\",\"\",'[1]９月'!J27)","v":0},"2014-09-21",92,93,93,93,93,97]
[null,null,"2014-09-22",22,{"$f":"IF($M182=\"\",\"\",VLOOKUP(WEEKDAY($M182),[1]Sheet1!$A$2:$B$8,2))","v":"月"},{"$f":"IF('[1]９月'!D28=\"\",\"\",'[1]９月'!D28)","v":"1学期末考査（後期）"},{"$f":"IF('[1]９月'!E28=\"\",\"\",'[1]９月'!E28)","v":"◎"},{"$f":"IF('[1]９月'!F28=\"\",\"\",'[1]９月'!F28)","v":"◎"},{"$f":"IF('[1]９月'!G28=\"\",\"\",'[1]９月'!G28)","v":"◎"},{"$f":"IF('[1]９月'!H28=\"\",\"\",'[1]９月'!H28)","v":"○"},{"$f":"IF('[1]９月'!I28=\"\",\"\",'[1]９月'!I28)","v":"○"},{"$f":"IF('[1]９月'!J28=\"\",\"\",'[1]９月'!J28)","v":"○"},"2014-09-22",93,94,94,94,94,98]
[null,null,"2014-09-23",23,{"$f":"IF($M183=\"\",\"\",VLOOKUP(WEEKDAY($M183),[1]Sheet1!$A$2:$B$8,2))","v":"火"},{"$f":"IF('[1]９月'!D29=\"\",\"\",'[1]９月'!D29)","v":"秋分の日"},{"$f":"IF('[1]９月'!E29=\"\",\"\",'[1]９月'!E29)","v":0},{"$f":"IF('[1]９月'!F29=\"\",\"\",'[1]９月'!F29)","v":0},{"$f":"IF('[1]９月'!G29=\"\",\"\",'[1]９月'!G29)","v":0},{"$f":"IF('[1]９月'!H29=\"\",\"\",'[1]９月'!H29)","v":0},{"$f":"IF('[1]９月'!I29=\"\",\"\",'[1]９月'!I29)","v":0},{"$f":"IF('[1]９月'!J29=\"\",\"\",'[1]９月'!J29)","v":0},"2014-09-23",93,94,94,94,94,98]
[null,null,"2014-09-24",24,{"$f":"IF($M184=\"\",\"\",VLOOKUP(WEEKDAY($M184),[1]Sheet1!$A$2:$B$8,2))","v":"水"},{"$f":"IF('[1]９月'!D30=\"\",\"\",'[1]９月'!D30)","v":"1学期末考査（後期），職員会議"},{"$f":"IF('[1]９月'!E30=\"\",\"\",'[1]９月'!E30)","v":"◎"},{"$f":"IF('[1]９月'!F30=\"\",\"\",'[1]９月'!F30)","v":"◎"},{"$f":"IF('[1]９月'!G30=\"\",\"\",'[1]９月'!G30)","v":"◎"},{"$f":"IF('[1]９月'!H30=\"\",\"\",'[1]９月'!H30)","v":"○"},{"$f":"IF('[1]９月'!I30=\"\",\"\",'[1]９月'!I30)","v":"○"},{"$f":"IF('[1]９月'!J30=\"\",\"\",'[1]９月'!J30)","v":"○"},"2014-09-24",94,95,95,95,95,99]
[null,null,"2014-09-25",25,{"$f":"IF($M185=\"\",\"\",VLOOKUP(WEEKDAY($M185),[1]Sheet1!$A$2:$B$8,2))","v":"木"},{"$f":"IF('[1]９月'!D31=\"\",\"\",'[1]９月'!D31)","v":"前期教科外研究会②，学年会"},{"$f":"IF('[1]９月'!E31=\"\",\"\",'[1]９月'!E31)","v":"◎"},{"$f":"IF('[1]９月'!F31=\"\",\"\",'[1]９月'!F31)","v":"◎"},{"$f":"IF('[1]９月'!G31=\"\",\"\",'[1]９月'!G31)","v":"◎"},{"$f":"IF('[1]９月'!H31=\"\",\"\",'[1]９月'!H31)","v":"○"},{"$f":"IF('[1]９月'!I31=\"\",\"\",'[1]９月'!I31)","v":"○"},{"$f":"IF('[1]９月'!J31=\"\",\"\",'[1]９月'!J31)","v":"○"},"2014-09-25",95,96,96,96,96,100]
[null,null,"2014-09-26",26,{"$f":"IF($M186=\"\",\"\",VLOOKUP(WEEKDAY($M186),[1]Sheet1!$A$2:$B$8,2))","v":"金"},{"$f":"IF('[1]９月'!D32=\"\",\"\",'[1]９月'!D32)","v":"6年進研模試"},{"$f":"IF('[1]９月'!E32=\"\",\"\",'[1]９月'!E32)","v":"◎"},{"$f":"IF('[1]９月'!F32=\"\",\"\",'[1]９月'!F32)","v":"◎"},{"$f":"IF('[1]９月'!G32=\"\",\"\",'[1]９月'!G32)","v":"◎"},{"$f":"IF('[1]９月'!H32=\"\",\"\",'[1]９月'!H32)","v":"○"},{"$f":"IF('[1]９月'!I32=\"\",\"\",'[1]９月'!I32)","v":"○"},{"$f":"IF('[1]９月'!J32=\"\",\"\",'[1]９月'!J32)","v":"○"},"2014-09-26",96,97,97,97,97,101]
[null,null,"2014-09-27",27,{"$f":"IF($M187=\"\",\"\",VLOOKUP(WEEKDAY($M187),[1]Sheet1!$A$2:$B$8,2))","v":"土"},{"$f":"IF('[1]９月'!D33=\"\",\"\",'[1]９月'!D33)","v":"土曜学習会　　"},{"$f":"IF('[1]９月'!E33=\"\",\"\",'[1]９月'!E33)","v":0},{"$f":"IF('[1]９月'!F33=\"\",\"\",'[1]９月'!F33)","v":0},{"$f":"IF('[1]９月'!G33=\"\",\"\",'[1]９月'!G33)","v":0},{"$f":"IF('[1]９月'!H33=\"\",\"\",'[1]９月'!H33)","v":0},{"$f":"IF('[1]９月'!I33=\"\",\"\",'[1]９月'!I33)","v":0},{"$f":"IF('[1]９月'!J33=\"\",\"\",'[1]９月'!J33)","v":0},"2014-09-27",96,97,97,97,97,101]
[null,null,"2014-09-28",28,{"$f":"IF($M188=\"\",\"\",VLOOKUP(WEEKDAY($M188),[1]Sheet1!$A$2:$B$8,2))","v":"日"},{"$f":"IF('[1]９月'!D34=\"\",\"\",'[1]９月'!D34)","v":0},{"$f":"IF('[1]９月'!E34=\"\",\"\",'[1]９月'!E34)","v":0},{"$f":"IF('[1]９月'!F34=\"\",\"\",'[1]９月'!F34)","v":0},{"$f":"IF('[1]９月'!G34=\"\",\"\",'[1]９月'!G34)","v":0},{"$f":"IF('[1]９月'!H34=\"\",\"\",'[1]９月'!H34)","v":0},{"$f":"IF('[1]９月'!I34=\"\",\"\",'[1]９月'!I34)","v":0},{"$f":"IF('[1]９月'!J34=\"\",\"\",'[1]９月'!J34)","v":0},"2014-09-28",96,97,97,97,97,101]
[null,null,"2014-09-29",29,{"$f":"IF($M189=\"\",\"\",VLOOKUP(WEEKDAY($M189),[1]Sheet1!$A$2:$B$8,2))","v":"月"},{"$f":"IF('[1]９月'!D35=\"\",\"\",'[1]９月'!D35)","v":"中央委員会"},{"$f":"IF('[1]９月'!E35=\"\",\"\",'[1]９月'!E35)","v":"◎"},{"$f":"IF('[1]９月'!F35=\"\",\"\",'[1]９月'!F35)","v":"◎"},{"$f":"IF('[1]９月'!G35=\"\",\"\",'[1]９月'!G35)","v":"◎"},{"$f":"IF('[1]９月'!H35=\"\",\"\",'[1]９月'!H35)","v":"○"},{"$f":"IF('[1]９月'!I35=\"\",\"\",'[1]９月'!I35)","v":"○"},{"$f":"IF('[1]９月'!J35=\"\",\"\",'[1]９月'!J35)","v":"○"},"2014-09-29",97,98,98,98,98,102]
[null,null,"2014-09-30",30,{"$f":"IF($M190=\"\",\"\",VLOOKUP(WEEKDAY($M190),[1]Sheet1!$A$2:$B$8,2))","v":"火"},{"$f":"IF('[1]９月'!D36=\"\",\"\",'[1]９月'!D36)","v":"4年保健講話，各種委員会"},{"$f":"IF('[1]９月'!E36=\"\",\"\",'[1]９月'!E36)","v":"◎"},{"$f":"IF('[1]９月'!F36=\"\",\"\",'[1]９月'!F36)","v":"◎"},{"$f":"IF('[1]９月'!G36=\"\",\"\",'[1]９月'!G36)","v":"◎"},{"$f":"IF('[1]９月'!H36=\"\",\"\",'[1]９月'!H36)","v":"○"},{"$f":"IF('[1]９月'!I36=\"\",\"\",'[1]９月'!I36)","v":"○"},{"$f":"IF('[1]９月'!J36=\"\",\"\",'[1]９月'!J36)","v":"○"},"2014-09-30",98,99,99,99,99,103]
[null,null,null,null,{"$f":"IF($M191=\"\",\"\",VLOOKUP(WEEKDAY($M191),[1]Sheet1!$A$2:$B$8,2))","v":""},{"$f":"IF('[1]９月'!D37=\"\",\"\",'[1]９月'!D37)","v":0},{"$f":"IF('[1]９月'!E37=\"\",\"\",'[1]９月'!E37)","v":0},{"$f":"IF('[1]９月'!F37=\"\",\"\",'[1]９月'!F37)","v":0},{"$f":"IF('[1]９月'!G37=\"\",\"\",'[1]９月'!G37)","v":0},{"$f":"IF('[1]９月'!H37=\"\",\"\",'[1]９月'!H37)","v":0},{"$f":"IF('[1]９月'!I37=\"\",\"\",'[1]９月'!I37)","v":0},{"$f":"IF('[1]９月'!J37=\"\",\"\",'[1]９月'!J37)","v":0},null,98,99,99,99,99,103]
[null,null,"2014-10-01",1,{"$f":"IF($M192=\"\",\"\",VLOOKUP(WEEKDAY($M192),[1]Sheet1!$A$2:$B$8,2))","v":"水"},{"$f":"IF('[1]１０月'!D7=\"\",\"\",'[1]１０月'!D7)","v":"衣替え"},{"$f":"IF('[1]１０月'!E7=\"\",\"\",'[1]１０月'!E7)","v":"◎"},{"$f":"IF('[1]１０月'!F7=\"\",\"\",'[1]１０月'!F7)","v":"◎"},{"$f":"IF('[1]１０月'!G7=\"\",\"\",'[1]１０月'!G7)","v":"◎"},{"$f":"IF('[1]１０月'!H7=\"\",\"\",'[1]１０月'!H7)","v":"○"},{"$f":"IF('[1]１０月'!I7=\"\",\"\",'[1]１０月'!I7)","v":"○"},{"$f":"IF('[1]１０月'!J7=\"\",\"\",'[1]１０月'!J7)","v":"○"},"2014-10-01",99,100,100,100,100,104]
[null,null,"2014-10-02",2,{"$f":"IF($M193=\"\",\"\",VLOOKUP(WEEKDAY($M193),[1]Sheet1!$A$2:$B$8,2))","v":"木"},{"$f":"IF('[1]１０月'!D8=\"\",\"\",'[1]１０月'!D8)","v":"小票，小学校対象選抜事務説明会"},{"$f":"IF('[1]１０月'!E8=\"\",\"\",'[1]１０月'!E8)","v":"◎"},{"$f":"IF('[1]１０月'!F8=\"\",\"\",'[1]１０月'!F8)","v":"◎"},{"$f":"IF('[1]１０月'!G8=\"\",\"\",'[1]１０月'!G8)","v":"◎"},{"$f":"IF('[1]１０月'!H8=\"\",\"\",'[1]１０月'!H8)","v":"○"},{"$f":"IF('[1]１０月'!I8=\"\",\"\",'[1]１０月'!I8)","v":"○"},{"$f":"IF('[1]１０月'!J8=\"\",\"\",'[1]１０月'!J8)","v":"○"},"2014-10-02",100,101,101,101,101,105]
[null,null,"2014-10-03",3,{"$f":"IF($M194=\"\",\"\",VLOOKUP(WEEKDAY($M194),[1]Sheet1!$A$2:$B$8,2))","v":"金"},{"$f":"IF('[1]１０月'!D9=\"\",\"\",'[1]１０月'!D9)","v":0},{"$f":"IF('[1]１０月'!E9=\"\",\"\",'[1]１０月'!E9)","v":"◎"},{"$f":"IF('[1]１０月'!F9=\"\",\"\",'[1]１０月'!F9)","v":"◎"},{"$f":"IF('[1]１０月'!G9=\"\",\"\",'[1]１０月'!G9)","v":"◎"},{"$f":"IF('[1]１０月'!H9=\"\",\"\",'[1]１０月'!H9)","v":"○"},{"$f":"IF('[1]１０月'!I9=\"\",\"\",'[1]１０月'!I9)","v":"○"},{"$f":"IF('[1]１０月'!J9=\"\",\"\",'[1]１０月'!J9)","v":"○"},"2014-10-03",101,102,102,102,102,106]
[null,null,"2014-10-04",4,{"$f":"IF($M195=\"\",\"\",VLOOKUP(WEEKDAY($M195),[1]Sheet1!$A$2:$B$8,2))","v":"土"},{"$f":"IF('[1]１０月'!D10=\"\",\"\",'[1]１０月'!D10)","v":0},{"$f":"IF('[1]１０月'!E10=\"\",\"\",'[1]１０月'!E10)","v":0},{"$f":"IF('[1]１０月'!F10=\"\",\"\",'[1]１０月'!F10)","v":0},{"$f":"IF('[1]１０月'!G10=\"\",\"\",'[1]１０月'!G10)","v":0},{"$f":"IF('[1]１０月'!H10=\"\",\"\",'[1]１０月'!H10)","v":0},{"$f":"IF('[1]１０月'!I10=\"\",\"\",'[1]１０月'!I10)","v":0},{"$f":"IF('[1]１０月'!J10=\"\",\"\",'[1]１０月'!J10)","v":0},"2014-10-04",101,102,102,102,102,106]
[null,null,"2014-10-05",5,{"$f":"IF($M196=\"\",\"\",VLOOKUP(WEEKDAY($M196),[1]Sheet1!$A$2:$B$8,2))","v":"日"},{"$f":"IF('[1]１０月'!D11=\"\",\"\",'[1]１０月'!D11)","v":0},{"$f":"IF('[1]１０月'!E11=\"\",\"\",'[1]１０月'!E11)","v":0},{"$f":"IF('[1]１０月'!F11=\"\",\"\",'[1]１０月'!F11)","v":0},{"$f":"IF('[1]１０月'!G11=\"\",\"\",'[1]１０月'!G11)","v":0},{"$f":"IF('[1]１０月'!H11=\"\",\"\",'[1]１０月'!H11)","v":0},{"$f":"IF('[1]１０月'!I11=\"\",\"\",'[1]１０月'!I11)","v":0},{"$f":"IF('[1]１０月'!J11=\"\",\"\",'[1]１０月'!J11)","v":0},"2014-10-05",101,102,102,102,102,106]
[null,null,"2014-10-06",6,{"$f":"IF($M197=\"\",\"\",VLOOKUP(WEEKDAY($M197),[1]Sheet1!$A$2:$B$8,2))","v":"月"},{"$f":"IF('[1]１０月'!D12=\"\",\"\",'[1]１０月'!D12)","v":"大表"},{"$f":"IF('[1]１０月'!E12=\"\",\"\",'[1]１０月'!E12)","v":"◎"},{"$f":"IF('[1]１０月'!F12=\"\",\"\",'[1]１０月'!F12)","v":"◎"},{"$f":"IF('[1]１０月'!G12=\"\",\"\",'[1]１０月'!G12)","v":"◎"},{"$f":"IF('[1]１０月'!H12=\"\",\"\",'[1]１０月'!H12)","v":"○"},{"$f":"IF('[1]１０月'!I12=\"\",\"\",'[1]１０月'!I12)","v":"○"},{"$f":"IF('[1]１０月'!J12=\"\",\"\",'[1]１０月'!J12)","v":"○"},"2014-10-06",102,103,103,103,103,107]
[null,null,"2014-10-07",7,{"$f":"IF($M198=\"\",\"\",VLOOKUP(WEEKDAY($M198),[1]Sheet1!$A$2:$B$8,2))","v":"火"},{"$f":"IF('[1]１０月'!D13=\"\",\"\",'[1]１０月'!D13)","v":"学年成績会議，1年基礎進路講演会"},{"$f":"IF('[1]１０月'!E13=\"\",\"\",'[1]１０月'!E13)","v":"◎"},{"$f":"IF('[1]１０月'!F13=\"\",\"\",'[1]１０月'!F13)","v":"◎"},{"$f":"IF('[1]１０月'!G13=\"\",\"\",'[1]１０月'!G13)","v":"◎"},{"$f":"IF('[1]１０月'!H13=\"\",\"\",'[1]１０月'!H13)","v":"○"},{"$f":"IF('[1]１０月'!I13=\"\",\"\",'[1]１０月'!I13)","v":"○"},{"$f":"IF('[1]１０月'!J13=\"\",\"\",'[1]１０月'!J13)","v":"○"},"2014-10-07",103,104,104,104,104,108]
[null,null,"2014-10-08",8,{"$f":"IF($M199=\"\",\"\",VLOOKUP(WEEKDAY($M199),[1]Sheet1!$A$2:$B$8,2))","v":"水"},{"$f":"IF('[1]１０月'!D14=\"\",\"\",'[1]１０月'!D14)","v":"成績会議"},{"$f":"IF('[1]１０月'!E14=\"\",\"\",'[1]１０月'!E14)","v":"◎"},{"$f":"IF('[1]１０月'!F14=\"\",\"\",'[1]１０月'!F14)","v":"◎"},{"$f":"IF('[1]１０月'!G14=\"\",\"\",'[1]１０月'!G14)","v":"◎"},{"$f":"IF('[1]１０月'!H14=\"\",\"\",'[1]１０月'!H14)","v":"○"},{"$f":"IF('[1]１０月'!I14=\"\",\"\",'[1]１０月'!I14)","v":"○"},{"$f":"IF('[1]１０月'!J14=\"\",\"\",'[1]１０月'!J14)","v":"○"},"2014-10-08",104,105,105,105,105,109]
[null,null,"2014-10-09",9,{"$f":"IF($M200=\"\",\"\",VLOOKUP(WEEKDAY($M200),[1]Sheet1!$A$2:$B$8,2))","v":"木"},{"$f":"IF('[1]１０月'!D15=\"\",\"\",'[1]１０月'!D15)","v":"推薦会議,学校保健委員会,職場安全衛生委員会,前期学年PTA"},{"$f":"IF('[1]１０月'!E15=\"\",\"\",'[1]１０月'!E15)","v":"◎"},{"$f":"IF('[1]１０月'!F15=\"\",\"\",'[1]１０月'!F15)","v":"◎"},{"$f":"IF('[1]１０月'!G15=\"\",\"\",'[1]１０月'!G15)","v":"◎"},{"$f":"IF('[1]１０月'!H15=\"\",\"\",'[1]１０月'!H15)","v":"○"},{"$f":"IF('[1]１０月'!I15=\"\",\"\",'[1]１０月'!I15)","v":"○"},{"$f":"IF('[1]１０月'!J15=\"\",\"\",'[1]１０月'!J15)","v":"○"},"2014-10-09",105,106,106,106,106,110]
[null,null,"2014-10-10",10,{"$f":"IF($M201=\"\",\"\",VLOOKUP(WEEKDAY($M201),[1]Sheet1!$A$2:$B$8,2))","v":"金"},{"$f":"IF('[1]１０月'!D16=\"\",\"\",'[1]１０月'!D16)","v":"1学期修業式，壮行式，英検"},{"$f":"IF('[1]１０月'!E16=\"\",\"\",'[1]１０月'!E16)","v":"◎"},{"$f":"IF('[1]１０月'!F16=\"\",\"\",'[1]１０月'!F16)","v":"◎"},{"$f":"IF('[1]１０月'!G16=\"\",\"\",'[1]１０月'!G16)","v":"◎"},{"$f":"IF('[1]１０月'!H16=\"\",\"\",'[1]１０月'!H16)","v":"○"},{"$f":"IF('[1]１０月'!I16=\"\",\"\",'[1]１０月'!I16)","v":"○"},{"$f":"IF('[1]１０月'!J16=\"\",\"\",'[1]１０月'!J16)","v":"○"},"2014-10-10",106,107,107,107,107,111]
[null,null,"2014-10-11",11,{"$f":"IF($M202=\"\",\"\",VLOOKUP(WEEKDAY($M202),[1]Sheet1!$A$2:$B$8,2))","v":"土"},{"$f":"IF('[1]１０月'!D17=\"\",\"\",'[1]１０月'!D17)","v":"新人大会"},{"$f":"IF('[1]１０月'!E17=\"\",\"\",'[1]１０月'!E17)","v":0},{"$f":"IF('[1]１０月'!F17=\"\",\"\",'[1]１０月'!F17)","v":0},{"$f":"IF('[1]１０月'!G17=\"\",\"\",'[1]１０月'!G17)","v":0},{"$f":"IF('[1]１０月'!H17=\"\",\"\",'[1]１０月'!H17)","v":0},{"$f":"IF('[1]１０月'!I17=\"\",\"\",'[1]１０月'!I17)","v":0},{"$f":"IF('[1]１０月'!J17=\"\",\"\",'[1]１０月'!J17)","v":0},"2014-10-11",106,107,107,107,107,111]
[null,null,"2014-10-12",12,{"$f":"IF($M203=\"\",\"\",VLOOKUP(WEEKDAY($M203),[1]Sheet1!$A$2:$B$8,2))","v":"日"},{"$f":"IF('[1]１０月'!D18=\"\",\"\",'[1]１０月'!D18)","v":"新人大会"},{"$f":"IF('[1]１０月'!E18=\"\",\"\",'[1]１０月'!E18)","v":0},{"$f":"IF('[1]１０月'!F18=\"\",\"\",'[1]１０月'!F18)","v":0},{"$f":"IF('[1]１０月'!G18=\"\",\"\",'[1]１０月'!G18)","v":0},{"$f":"IF('[1]１０月'!H18=\"\",\"\",'[1]１０月'!H18)","v":0},{"$f":"IF('[1]１０月'!I18=\"\",\"\",'[1]１０月'!I18)","v":0},{"$f":"IF('[1]１０月'!J18=\"\",\"\",'[1]１０月'!J18)","v":0},"2014-10-12",106,107,107,107,107,111]
[null,null,"2014-10-13",13,{"$f":"IF($M204=\"\",\"\",VLOOKUP(WEEKDAY($M204),[1]Sheet1!$A$2:$B$8,2))","v":"月"},{"$f":"IF('[1]１０月'!D19=\"\",\"\",'[1]１０月'!D19)","v":"体育の日"},{"$f":"IF('[1]１０月'!E19=\"\",\"\",'[1]１０月'!E19)","v":0},{"$f":"IF('[1]１０月'!F19=\"\",\"\",'[1]１０月'!F19)","v":0},{"$f":"IF('[1]１０月'!G19=\"\",\"\",'[1]１０月'!G19)","v":0},{"$f":"IF('[1]１０月'!H19=\"\",\"\",'[1]１０月'!H19)","v":0},{"$f":"IF('[1]１０月'!I19=\"\",\"\",'[1]１０月'!I19)","v":0},{"$f":"IF('[1]１０月'!J19=\"\",\"\",'[1]１０月'!J19)","v":0},"2014-10-13",106,107,107,107,107,111]
[null,null,"2014-10-14",14,{"$f":"IF($M205=\"\",\"\",VLOOKUP(WEEKDAY($M205),[1]Sheet1!$A$2:$B$8,2))","v":"火"},{"$f":"IF('[1]１０月'!D20=\"\",\"\",'[1]１０月'!D20)","v":"秋季休業日，図書委員会選書会"},{"$f":"IF('[1]１０月'!E20=\"\",\"\",'[1]１０月'!E20)","v":0},{"$f":"IF('[1]１０月'!F20=\"\",\"\",'[1]１０月'!F20)","v":0},{"$f":"IF('[1]１０月'!G20=\"\",\"\",'[1]１０月'!G20)","v":0},{"$f":"IF('[1]１０月'!H20=\"\",\"\",'[1]１０月'!H20)","v":0},{"$f":"IF('[1]１０月'!I20=\"\",\"\",'[1]１０月'!I20)","v":0},{"$f":"IF('[1]１０月'!J20=\"\",\"\",'[1]１０月'!J20)","v":0},"2014-10-14",106,107,107,107,107,111]
[null,null,"2014-10-15",15,{"$f":"IF($M206=\"\",\"\",VLOOKUP(WEEKDAY($M206),[1]Sheet1!$A$2:$B$8,2))","v":"水"},{"$f":"IF('[1]１０月'!D21=\"\",\"\",'[1]１０月'!D21)","v":"秋季休業日"},{"$f":"IF('[1]１０月'!E21=\"\",\"\",'[1]１０月'!E21)","v":0},{"$f":"IF('[1]１０月'!F21=\"\",\"\",'[1]１０月'!F21)","v":0},{"$f":"IF('[1]１０月'!G21=\"\",\"\",'[1]１０月'!G21)","v":0},{"$f":"IF('[1]１０月'!H21=\"\",\"\",'[1]１０月'!H21)","v":0},{"$f":"IF('[1]１０月'!I21=\"\",\"\",'[1]１０月'!I21)","v":0},{"$f":"IF('[1]１０月'!J21=\"\",\"\",'[1]１０月'!J21)","v":0},"2014-10-15",106,107,107,107,107,111]
[null,null,"2014-10-16",16,{"$f":"IF($M207=\"\",\"\",VLOOKUP(WEEKDAY($M207),[1]Sheet1!$A$2:$B$8,2))","v":"木"},{"$f":"IF('[1]１０月'!D22=\"\",\"\",'[1]１０月'!D22)","v":"2学期始業式。前期認定テスト"},{"$f":"IF('[1]１０月'!E22=\"\",\"\",'[1]１０月'!E22)","v":"◎"},{"$f":"IF('[1]１０月'!F22=\"\",\"\",'[1]１０月'!F22)","v":"◎"},{"$f":"IF('[1]１０月'!G22=\"\",\"\",'[1]１０月'!G22)","v":"◎"},{"$f":"IF('[1]１０月'!H22=\"\",\"\",'[1]１０月'!H22)","v":"○"},{"$f":"IF('[1]１０月'!I22=\"\",\"\",'[1]１０月'!I22)","v":"○"},{"$f":"IF('[1]１０月'!J22=\"\",\"\",'[1]１０月'!J22)","v":"○"},"2014-10-16",107,108,108,108,108,112]
[null,null,"2014-10-17",17,{"$f":"IF($M208=\"\",\"\",VLOOKUP(WEEKDAY($M208),[1]Sheet1!$A$2:$B$8,2))","v":"金"},{"$f":"IF('[1]１０月'!D23=\"\",\"\",'[1]１０月'!D23)","v":"6年進研模試，前期認定テスト"},{"$f":"IF('[1]１０月'!E23=\"\",\"\",'[1]１０月'!E23)","v":"◎"},{"$f":"IF('[1]１０月'!F23=\"\",\"\",'[1]１０月'!F23)","v":"◎"},{"$f":"IF('[1]１０月'!G23=\"\",\"\",'[1]１０月'!G23)","v":"◎"},{"$f":"IF('[1]１０月'!H23=\"\",\"\",'[1]１０月'!H23)","v":"○"},{"$f":"IF('[1]１０月'!I23=\"\",\"\",'[1]１０月'!I23)","v":"○"},{"$f":"IF('[1]１０月'!J23=\"\",\"\",'[1]１０月'!J23)","v":"○"},"2014-10-17",108,109,109,109,109,113]
[null,null,"2014-10-18",18,{"$f":"IF($M209=\"\",\"\",VLOOKUP(WEEKDAY($M209),[1]Sheet1!$A$2:$B$8,2))","v":"土"},{"$f":"IF('[1]１０月'!D24=\"\",\"\",'[1]１０月'!D24)","v":"6年進研模試"},{"$f":"IF('[1]１０月'!E24=\"\",\"\",'[1]１０月'!E24)","v":0},{"$f":"IF('[1]１０月'!F24=\"\",\"\",'[1]１０月'!F24)","v":0},{"$f":"IF('[1]１０月'!G24=\"\",\"\",'[1]１０月'!G24)","v":0},{"$f":"IF('[1]１０月'!H24=\"\",\"\",'[1]１０月'!H24)","v":0},{"$f":"IF('[1]１０月'!I24=\"\",\"\",'[1]１０月'!I24)","v":0},{"$f":"IF('[1]１０月'!J24=\"\",\"\",'[1]１０月'!J24)","v":0},"2014-10-18",108,109,109,109,109,113]
[null,null,"2014-10-19",19,{"$f":"IF($M210=\"\",\"\",VLOOKUP(WEEKDAY($M210),[1]Sheet1!$A$2:$B$8,2))","v":"日"},{"$f":"IF('[1]１０月'!D25=\"\",\"\",'[1]１０月'!D25)","v":0},{"$f":"IF('[1]１０月'!E25=\"\",\"\",'[1]１０月'!E25)","v":0},{"$f":"IF('[1]１０月'!F25=\"\",\"\",'[1]１０月'!F25)","v":0},{"$f":"IF('[1]１０月'!G25=\"\",\"\",'[1]１０月'!G25)","v":0},{"$f":"IF('[1]１０月'!H25=\"\",\"\",'[1]１０月'!H25)","v":0},{"$f":"IF('[1]１０月'!I25=\"\",\"\",'[1]１０月'!I25)","v":0},{"$f":"IF('[1]１０月'!J25=\"\",\"\",'[1]１０月'!J25)","v":0},"2014-10-19",108,109,109,109,109,113]
[null,null,"2014-10-20",20,{"$f":"IF($M211=\"\",\"\",VLOOKUP(WEEKDAY($M211),[1]Sheet1!$A$2:$B$8,2))","v":"月"},{"$f":"IF('[1]１０月'!D26=\"\",\"\",'[1]１０月'!D26)","v":"各種委員会"},{"$f":"IF('[1]１０月'!E26=\"\",\"\",'[1]１０月'!E26)","v":"◎"},{"$f":"IF('[1]１０月'!F26=\"\",\"\",'[1]１０月'!F26)","v":"◎"},{"$f":"IF('[1]１０月'!G26=\"\",\"\",'[1]１０月'!G26)","v":"◎"},{"$f":"IF('[1]１０月'!H26=\"\",\"\",'[1]１０月'!H26)","v":"○"},{"$f":"IF('[1]１０月'!I26=\"\",\"\",'[1]１０月'!I26)","v":"○"},{"$f":"IF('[1]１０月'!J26=\"\",\"\",'[1]１０月'!J26)","v":"○"},"2014-10-20",109,110,110,110,110,114]
[null,null,"2014-10-21",21,{"$f":"IF($M212=\"\",\"\",VLOOKUP(WEEKDAY($M212),[1]Sheet1!$A$2:$B$8,2))","v":"火"},{"$f":"IF('[1]１０月'!D27=\"\",\"\",'[1]１０月'!D27)","v":"中央委員会"},{"$f":"IF('[1]１０月'!E27=\"\",\"\",'[1]１０月'!E27)","v":"◎"},{"$f":"IF('[1]１０月'!F27=\"\",\"\",'[1]１０月'!F27)","v":"◎"},{"$f":"IF('[1]１０月'!G27=\"\",\"\",'[1]１０月'!G27)","v":"◎"},{"$f":"IF('[1]１０月'!H27=\"\",\"\",'[1]１０月'!H27)","v":"○"},{"$f":"IF('[1]１０月'!I27=\"\",\"\",'[1]１０月'!I27)","v":"○"},{"$f":"IF('[1]１０月'!J27=\"\",\"\",'[1]１０月'!J27)","v":"○"},"2014-10-21",110,111,111,111,111,115]
[null,null,"2014-10-22",22,{"$f":"IF($M213=\"\",\"\",VLOOKUP(WEEKDAY($M213),[1]Sheet1!$A$2:$B$8,2))","v":"水"},{"$f":"IF('[1]１０月'!D28=\"\",\"\",'[1]１０月'!D28)","v":"運営委員会"},{"$f":"IF('[1]１０月'!E28=\"\",\"\",'[1]１０月'!E28)","v":"◎"},{"$f":"IF('[1]１０月'!F28=\"\",\"\",'[1]１０月'!F28)","v":"◎"},{"$f":"IF('[1]１０月'!G28=\"\",\"\",'[1]１０月'!G28)","v":"◎"},{"$f":"IF('[1]１０月'!H28=\"\",\"\",'[1]１０月'!H28)","v":"○"},{"$f":"IF('[1]１０月'!I28=\"\",\"\",'[1]１０月'!I28)","v":"○"},{"$f":"IF('[1]１０月'!J28=\"\",\"\",'[1]１０月'!J28)","v":"○"},"2014-10-22",{"$f":"COUNTIF(G213,\"○\")+COUNTIF(G213,\"◎\")+N212","v":111},{"$f":"COUNTIF(H213,\"○\")+COUNTIF(H213,\"◎\")+O212","v":112},{"$f":"COUNTIF(I213,\"○\")+COUNTIF(I213,\"◎\")+P212","v":112},{"$f":"COUNTIF(J213,\"○\")+COUNTIF(J213,\"◎\")+Q212","v":112},{"$f":"COUNTIF(K213,\"○\")+COUNTIF(K213,\"◎\")+R212","v":112},{"$f":"COUNTIF(L213,\"○\")+COUNTIF(L213,\"◎\")+S212","v":116}]
[null,null,"2014-10-23",23,{"$f":"IF($M214=\"\",\"\",VLOOKUP(WEEKDAY($M214),[1]Sheet1!$A$2:$B$8,2))","v":"木"},{"$f":"IF('[1]１０月'!D29=\"\",\"\",'[1]１０月'!D29)","v":"1～3年学力推移調査，後期学年PTA"},{"$f":"IF('[1]１０月'!E29=\"\",\"\",'[1]１０月'!E29)","v":"◎"},{"$f":"IF('[1]１０月'!F29=\"\",\"\",'[1]１０月'!F29)","v":"◎"},{"$f":"IF('[1]１０月'!G29=\"\",\"\",'[1]１０月'!G29)","v":"◎"},{"$f":"IF('[1]１０月'!H29=\"\",\"\",'[1]１０月'!H29)","v":"○"},{"$f":"IF('[1]１０月'!I29=\"\",\"\",'[1]１０月'!I29)","v":"○"},{"$f":"IF('[1]１０月'!J29=\"\",\"\",'[1]１０月'!J29)","v":"○"},"2014-10-23",112,113,113,113,113,117]
[null,null,"2014-10-24",24,{"$f":"IF($M215=\"\",\"\",VLOOKUP(WEEKDAY($M215),[1]Sheet1!$A$2:$B$8,2))","v":"金"},{"$f":"IF('[1]１０月'!D30=\"\",\"\",'[1]１０月'!D30)","v":"秋に鍛えよう"},{"$f":"IF('[1]１０月'!E30=\"\",\"\",'[1]１０月'!E30)","v":"○"},{"$f":"IF('[1]１０月'!F30=\"\",\"\",'[1]１０月'!F30)","v":"○"},{"$f":"IF('[1]１０月'!G30=\"\",\"\",'[1]１０月'!G30)","v":"○"},{"$f":"IF('[1]１０月'!H30=\"\",\"\",'[1]１０月'!H30)","v":"○"},{"$f":"IF('[1]１０月'!I30=\"\",\"\",'[1]１０月'!I30)","v":"○"},{"$f":"IF('[1]１０月'!J30=\"\",\"\",'[1]１０月'!J30)","v":"○"},"2014-10-24",113,114,114,114,114,118]
[null,null,"2014-10-25",25,{"$f":"IF($M216=\"\",\"\",VLOOKUP(WEEKDAY($M216),[1]Sheet1!$A$2:$B$8,2))","v":"土"},{"$f":"IF('[1]１０月'!D31=\"\",\"\",'[1]１０月'!D31)","v":"土曜学習会"},{"$f":"IF('[1]１０月'!E31=\"\",\"\",'[1]１０月'!E31)","v":0},{"$f":"IF('[1]１０月'!F31=\"\",\"\",'[1]１０月'!F31)","v":0},{"$f":"IF('[1]１０月'!G31=\"\",\"\",'[1]１０月'!G31)","v":0},{"$f":"IF('[1]１０月'!H31=\"\",\"\",'[1]１０月'!H31)","v":0},{"$f":"IF('[1]１０月'!I31=\"\",\"\",'[1]１０月'!I31)","v":0},{"$f":"IF('[1]１０月'!J31=\"\",\"\",'[1]１０月'!J31)","v":0},"2014-10-25",113,114,114,114,114,118]
[null,null,"2014-10-26",26,{"$f":"IF($M217=\"\",\"\",VLOOKUP(WEEKDAY($M217),[1]Sheet1!$A$2:$B$8,2))","v":"日"},{"$f":"IF('[1]１０月'!D32=\"\",\"\",'[1]１０月'!D32)","v":0},{"$f":"IF('[1]１０月'!E32=\"\",\"\",'[1]１０月'!E32)","v":0},{"$f":"IF('[1]１０月'!F32=\"\",\"\",'[1]１０月'!F32)","v":0},{"$f":"IF('[1]１０月'!G32=\"\",\"\",'[1]１０月'!G32)","v":0},{"$f":"IF('[1]１０月'!H32=\"\",\"\",'[1]１０月'!H32)","v":0},{"$f":"IF('[1]１０月'!I32=\"\",\"\",'[1]１０月'!I32)","v":0},{"$f":"IF('[1]１０月'!J32=\"\",\"\",'[1]１０月'!J32)","v":0},"2014-10-26",113,114,114,114,114,118]
[null,null,"2014-10-27",27,{"$f":"IF($M218=\"\",\"\",VLOOKUP(WEEKDAY($M218),[1]Sheet1!$A$2:$B$8,2))","v":"月"},{"$f":"IF('[1]１０月'!D33=\"\",\"\",'[1]１０月'!D33)","v":"2年職場体験"},{"$f":"IF('[1]１０月'!E33=\"\",\"\",'[1]１０月'!E33)","v":"◎"},{"$f":"IF('[1]１０月'!F33=\"\",\"\",'[1]１０月'!F33)","v":"○"},{"$f":"IF('[1]１０月'!G33=\"\",\"\",'[1]１０月'!G33)","v":"◎"},{"$f":"IF('[1]１０月'!H33=\"\",\"\",'[1]１０月'!H33)","v":"○"},{"$f":"IF('[1]１０月'!I33=\"\",\"\",'[1]１０月'!I33)","v":"○"},{"$f":"IF('[1]１０月'!J33=\"\",\"\",'[1]１０月'!J33)","v":"○"},"2014-10-27",114,115,115,115,115,119]
[null,null,"2014-10-28",28,{"$f":"IF($M219=\"\",\"\",VLOOKUP(WEEKDAY($M219),[1]Sheet1!$A$2:$B$8,2))","v":"火"},{"$f":"IF('[1]１０月'!D34=\"\",\"\",'[1]１０月'!D34)","v":"職員会議"},{"$f":"IF('[1]１０月'!E34=\"\",\"\",'[1]１０月'!E34)","v":"◎"},{"$f":"IF('[1]１０月'!F34=\"\",\"\",'[1]１０月'!F34)","v":"○"},{"$f":"IF('[1]１０月'!G34=\"\",\"\",'[1]１０月'!G34)","v":"◎"},{"$f":"IF('[1]１０月'!H34=\"\",\"\",'[1]１０月'!H34)","v":"○"},{"$f":"IF('[1]１０月'!I34=\"\",\"\",'[1]１０月'!I34)","v":"○"},{"$f":"IF('[1]１０月'!J34=\"\",\"\",'[1]１０月'!J34)","v":"○"},"2014-10-28",115,116,116,116,116,120]
[null,null,"2014-10-29",29,{"$f":"IF($M220=\"\",\"\",VLOOKUP(WEEKDAY($M220),[1]Sheet1!$A$2:$B$8,2))","v":"水"},{"$f":"IF('[1]１０月'!D35=\"\",\"\",'[1]１０月'!D35)","v":"学年会"},{"$f":"IF('[1]１０月'!E35=\"\",\"\",'[1]１０月'!E35)","v":"◎"},{"$f":"IF('[1]１０月'!F35=\"\",\"\",'[1]１０月'!F35)","v":"○"},{"$f":"IF('[1]１０月'!G35=\"\",\"\",'[1]１０月'!G35)","v":"◎"},{"$f":"IF('[1]１０月'!H35=\"\",\"\",'[1]１０月'!H35)","v":"○"},{"$f":"IF('[1]１０月'!I35=\"\",\"\",'[1]１０月'!I35)","v":"○"},{"$f":"IF('[1]１０月'!J35=\"\",\"\",'[1]１０月'!J35)","v":"○"},"2014-10-29",116,117,117,117,117,121]
[null,null,"2014-10-30",30,{"$f":"IF($M221=\"\",\"\",VLOOKUP(WEEKDAY($M221),[1]Sheet1!$A$2:$B$8,2))","v":"木"},{"$f":"IF('[1]１０月'!D36=\"\",\"\",'[1]１０月'!D36)","v":"前期教科外研究会③"},{"$f":"IF('[1]１０月'!E36=\"\",\"\",'[1]１０月'!E36)","v":"◎"},{"$f":"IF('[1]１０月'!F36=\"\",\"\",'[1]１０月'!F36)","v":"○"},{"$f":"IF('[1]１０月'!G36=\"\",\"\",'[1]１０月'!G36)","v":"◎"},{"$f":"IF('[1]１０月'!H36=\"\",\"\",'[1]１０月'!H36)","v":"○"},{"$f":"IF('[1]１０月'!I36=\"\",\"\",'[1]１０月'!I36)","v":"○"},{"$f":"IF('[1]１０月'!J36=\"\",\"\",'[1]１０月'!J36)","v":"○"},"2014-10-30",117,118,118,118,118,122]
[null,null,"2014-10-31",31,{"$f":"IF($M222=\"\",\"\",VLOOKUP(WEEKDAY($M222),[1]Sheet1!$A$2:$B$8,2))","v":"金"},{"$f":"IF('[1]１０月'!D37=\"\",\"\",'[1]１０月'!D37)","v":"5年進研模試"},{"$f":"IF('[1]１０月'!E37=\"\",\"\",'[1]１０月'!E37)","v":"◎"},{"$f":"IF('[1]１０月'!F37=\"\",\"\",'[1]１０月'!F37)","v":"○"},{"$f":"IF('[1]１０月'!G37=\"\",\"\",'[1]１０月'!G37)","v":"◎"},{"$f":"IF('[1]１０月'!H37=\"\",\"\",'[1]１０月'!H37)","v":"○"},{"$f":"IF('[1]１０月'!I37=\"\",\"\",'[1]１０月'!I37)","v":"○"},{"$f":"IF('[1]１０月'!J37=\"\",\"\",'[1]１０月'!J37)","v":"○"},"2014-10-31",118,119,119,119,119,123]
[null,null,"2014-11-01",1,{"$f":"IF($M223=\"\",\"\",VLOOKUP(WEEKDAY($M223),[1]Sheet1!$A$2:$B$8,2))","v":"土"},{"$f":"IF('[1]１１月'!D7=\"\",\"\",'[1]１１月'!D7)","v":"4・5年進研模試"},{"$f":"IF('[1]１１月'!E7=\"\",\"\",'[1]１１月'!E7)","v":0},{"$f":"IF('[1]１１月'!F7=\"\",\"\",'[1]１１月'!F7)","v":0},{"$f":"IF('[1]１１月'!G7=\"\",\"\",'[1]１１月'!G7)","v":0},{"$f":"IF('[1]１１月'!H7=\"\",\"\",'[1]１１月'!H7)","v":0},{"$f":"IF('[1]１１月'!I7=\"\",\"\",'[1]１１月'!I7)","v":0},{"$f":"IF('[1]１１月'!J7=\"\",\"\",'[1]１１月'!J7)","v":0},"2014-11-01",118,119,119,119,119,123]
[null,null,"2014-11-02",2,{"$f":"IF($M224=\"\",\"\",VLOOKUP(WEEKDAY($M224),[1]Sheet1!$A$2:$B$8,2))","v":"日"},{"$f":"IF('[1]１１月'!D8=\"\",\"\",'[1]１１月'!D8)","v":0},{"$f":"IF('[1]１１月'!E8=\"\",\"\",'[1]１１月'!E8)","v":0},{"$f":"IF('[1]１１月'!F8=\"\",\"\",'[1]１１月'!F8)","v":0},{"$f":"IF('[1]１１月'!G8=\"\",\"\",'[1]１１月'!G8)","v":0},{"$f":"IF('[1]１１月'!H8=\"\",\"\",'[1]１１月'!H8)","v":0},{"$f":"IF('[1]１１月'!I8=\"\",\"\",'[1]１１月'!I8)","v":0},{"$f":"IF('[1]１１月'!J8=\"\",\"\",'[1]１１月'!J8)","v":0},"2014-11-02",118,119,119,119,119,123]
[null,null,"2014-11-03",3,{"$f":"IF($M225=\"\",\"\",VLOOKUP(WEEKDAY($M225),[1]Sheet1!$A$2:$B$8,2))","v":"月"},{"$f":"IF('[1]１１月'!D9=\"\",\"\",'[1]１１月'!D9)","v":"文化の日"},{"$f":"IF('[1]１１月'!E9=\"\",\"\",'[1]１１月'!E9)","v":0},{"$f":"IF('[1]１１月'!F9=\"\",\"\",'[1]１１月'!F9)","v":0},{"$f":"IF('[1]１１月'!G9=\"\",\"\",'[1]１１月'!G9)","v":0},{"$f":"IF('[1]１１月'!H9=\"\",\"\",'[1]１１月'!H9)","v":0},{"$f":"IF('[1]１１月'!I9=\"\",\"\",'[1]１１月'!I9)","v":0},{"$f":"IF('[1]１１月'!J9=\"\",\"\",'[1]１１月'!J9)","v":0},"2014-11-03",118,119,119,119,119,123]
[null,null,"2014-11-04",4,{"$f":"IF($M226=\"\",\"\",VLOOKUP(WEEKDAY($M226),[1]Sheet1!$A$2:$B$8,2))","v":"火"},{"$f":"IF('[1]１１月'!D10=\"\",\"\",'[1]１１月'!D10)","v":"2年大学紹介，中央委員会"},{"$f":"IF('[1]１１月'!E10=\"\",\"\",'[1]１１月'!E10)","v":"◎"},{"$f":"IF('[1]１１月'!F10=\"\",\"\",'[1]１１月'!F10)","v":"◎"},{"$f":"IF('[1]１１月'!G10=\"\",\"\",'[1]１１月'!G10)","v":"◎"},{"$f":"IF('[1]１１月'!H10=\"\",\"\",'[1]１１月'!H10)","v":"○"},{"$f":"IF('[1]１１月'!I10=\"\",\"\",'[1]１１月'!I10)","v":"○"},{"$f":"IF('[1]１１月'!J10=\"\",\"\",'[1]１１月'!J10)","v":"○"},"2014-11-04",119,120,120,120,120,124]
[null,null,"2014-11-05",5,{"$f":"IF($M227=\"\",\"\",VLOOKUP(WEEKDAY($M227),[1]Sheet1!$A$2:$B$8,2))","v":"水"},{"$f":"IF('[1]１１月'!D11=\"\",\"\",'[1]１１月'!D11)","v":0},{"$f":"IF('[1]１１月'!E11=\"\",\"\",'[1]１１月'!E11)","v":"◎"},{"$f":"IF('[1]１１月'!F11=\"\",\"\",'[1]１１月'!F11)","v":"◎"},{"$f":"IF('[1]１１月'!G11=\"\",\"\",'[1]１１月'!G11)","v":"◎"},{"$f":"IF('[1]１１月'!H11=\"\",\"\",'[1]１１月'!H11)","v":"○"},{"$f":"IF('[1]１１月'!I11=\"\",\"\",'[1]１１月'!I11)","v":"○"},{"$f":"IF('[1]１１月'!J11=\"\",\"\",'[1]１１月'!J11)","v":"○"},"2014-11-05",120,121,121,121,121,125]
[null,null,"2014-11-06",6,{"$f":"IF($M228=\"\",\"\",VLOOKUP(WEEKDAY($M228),[1]Sheet1!$A$2:$B$8,2))","v":"木"},{"$f":"IF('[1]１１月'!D12=\"\",\"\",'[1]１１月'!D12)","v":"前期教科研究会③"},{"$f":"IF('[1]１１月'!E12=\"\",\"\",'[1]１１月'!E12)","v":"◎"},{"$f":"IF('[1]１１月'!F12=\"\",\"\",'[1]１１月'!F12)","v":"◎"},{"$f":"IF('[1]１１月'!G12=\"\",\"\",'[1]１１月'!G12)","v":"◎"},{"$f":"IF('[1]１１月'!H12=\"\",\"\",'[1]１１月'!H12)","v":"○"},{"$f":"IF('[1]１１月'!I12=\"\",\"\",'[1]１１月'!I12)","v":"○"},{"$f":"IF('[1]１１月'!J12=\"\",\"\",'[1]１１月'!J12)","v":"○"},"2014-11-06",121,122,122,122,122,126]
[null,null,"2014-11-07",7,{"$f":"IF($M229=\"\",\"\",VLOOKUP(WEEKDAY($M229),[1]Sheet1!$A$2:$B$8,2))","v":"金"},{"$f":"IF('[1]１１月'!D13=\"\",\"\",'[1]１１月'!D13)","v":"研究授業，6年進研模試"},{"$f":"IF('[1]１１月'!E13=\"\",\"\",'[1]１１月'!E13)","v":"◎"},{"$f":"IF('[1]１１月'!F13=\"\",\"\",'[1]１１月'!F13)","v":"◎"},{"$f":"IF('[1]１１月'!G13=\"\",\"\",'[1]１１月'!G13)","v":"◎"},{"$f":"IF('[1]１１月'!H13=\"\",\"\",'[1]１１月'!H13)","v":"○"},{"$f":"IF('[1]１１月'!I13=\"\",\"\",'[1]１１月'!I13)","v":"○"},{"$f":"IF('[1]１１月'!J13=\"\",\"\",'[1]１１月'!J13)","v":"○"},"2014-11-07",122,123,123,123,123,127]
[null,null,"2014-11-08",8,{"$f":"IF($M230=\"\",\"\",VLOOKUP(WEEKDAY($M230),[1]Sheet1!$A$2:$B$8,2))","v":"土"},{"$f":"IF('[1]１１月'!D14=\"\",\"\",'[1]１１月'!D14)","v":"6年進研模試，土曜学習会"},{"$f":"IF('[1]１１月'!E14=\"\",\"\",'[1]１１月'!E14)","v":0},{"$f":"IF('[1]１１月'!F14=\"\",\"\",'[1]１１月'!F14)","v":0},{"$f":"IF('[1]１１月'!G14=\"\",\"\",'[1]１１月'!G14)","v":0},{"$f":"IF('[1]１１月'!H14=\"\",\"\",'[1]１１月'!H14)","v":0},{"$f":"IF('[1]１１月'!I14=\"\",\"\",'[1]１１月'!I14)","v":0},{"$f":"IF('[1]１１月'!J14=\"\",\"\",'[1]１１月'!J14)","v":0},"2014-11-08",122,123,123,123,123,127]
[null,null,"2014-11-09",9,{"$f":"IF($M231=\"\",\"\",VLOOKUP(WEEKDAY($M231),[1]Sheet1!$A$2:$B$8,2))","v":"日"},{"$f":"IF('[1]１１月'!D15=\"\",\"\",'[1]１１月'!D15)","v":0},{"$f":"IF('[1]１１月'!E15=\"\",\"\",'[1]１１月'!E15)","v":0},{"$f":"IF('[1]１１月'!F15=\"\",\"\",'[1]１１月'!F15)","v":0},{"$f":"IF('[1]１１月'!G15=\"\",\"\",'[1]１１月'!G15)","v":0},{"$f":"IF('[1]１１月'!H15=\"\",\"\",'[1]１１月'!H15)","v":0},{"$f":"IF('[1]１１月'!I15=\"\",\"\",'[1]１１月'!I15)","v":0},{"$f":"IF('[1]１１月'!J15=\"\",\"\",'[1]１１月'!J15)","v":0},"2014-11-09",122,123,123,123,123,127]
[null,null,"2014-11-10",10,{"$f":"IF($M232=\"\",\"\",VLOOKUP(WEEKDAY($M232),[1]Sheet1!$A$2:$B$8,2))","v":"月"},{"$f":"IF('[1]１１月'!D16=\"\",\"\",'[1]１１月'!D16)","v":"各種委員会"},{"$f":"IF('[1]１１月'!E16=\"\",\"\",'[1]１１月'!E16)","v":"◎"},{"$f":"IF('[1]１１月'!F16=\"\",\"\",'[1]１１月'!F16)","v":"◎"},{"$f":"IF('[1]１１月'!G16=\"\",\"\",'[1]１１月'!G16)","v":"◎"},{"$f":"IF('[1]１１月'!H16=\"\",\"\",'[1]１１月'!H16)","v":"○"},{"$f":"IF('[1]１１月'!I16=\"\",\"\",'[1]１１月'!I16)","v":"○"},{"$f":"IF('[1]１１月'!J16=\"\",\"\",'[1]１１月'!J16)","v":"○"},"2014-11-10",123,124,124,124,124,128]
[null,null,"2014-11-11",11,{"$f":"IF($M233=\"\",\"\",VLOOKUP(WEEKDAY($M233),[1]Sheet1!$A$2:$B$8,2))","v":"火"},{"$f":"IF('[1]１１月'!D17=\"\",\"\",'[1]１１月'!D17)","v":"3・4年一日大学"},{"$f":"IF('[1]１１月'!E17=\"\",\"\",'[1]１１月'!E17)","v":"◎"},{"$f":"IF('[1]１１月'!F17=\"\",\"\",'[1]１１月'!F17)","v":"◎"},{"$f":"IF('[1]１１月'!G17=\"\",\"\",'[1]１１月'!G17)","v":"◎"},{"$f":"IF('[1]１１月'!H17=\"\",\"\",'[1]１１月'!H17)","v":"○"},{"$f":"IF('[1]１１月'!I17=\"\",\"\",'[1]１１月'!I17)","v":"○"},{"$f":"IF('[1]１１月'!J17=\"\",\"\",'[1]１１月'!J17)","v":"○"},"2014-11-11",124,125,125,125,125,129]
[null,null,"2014-11-12",12,{"$f":"IF($M234=\"\",\"\",VLOOKUP(WEEKDAY($M234),[1]Sheet1!$A$2:$B$8,2))","v":"水"},{"$f":"IF('[1]１１月'!D18=\"\",\"\",'[1]１１月'!D18)","v":"3年英語集中講座"},{"$f":"IF('[1]１１月'!E18=\"\",\"\",'[1]１１月'!E18)","v":"◎"},{"$f":"IF('[1]１１月'!F18=\"\",\"\",'[1]１１月'!F18)","v":"◎"},{"$f":"IF('[1]１１月'!G18=\"\",\"\",'[1]１１月'!G18)","v":"◎"},{"$f":"IF('[1]１１月'!H18=\"\",\"\",'[1]１１月'!H18)","v":"○"},{"$f":"IF('[1]１１月'!I18=\"\",\"\",'[1]１１月'!I18)","v":"○"},{"$f":"IF('[1]１１月'!J18=\"\",\"\",'[1]１１月'!J18)","v":"○"},"2014-11-12",125,126,126,126,126,130]
[null,null,"2014-11-13",13,{"$f":"IF($M235=\"\",\"\",VLOOKUP(WEEKDAY($M235),[1]Sheet1!$A$2:$B$8,2))","v":"木"},{"$f":"IF('[1]１１月'!D19=\"\",\"\",'[1]１１月'!D19)","v":"3年英語集中講座，1年保健講話"},{"$f":"IF('[1]１１月'!E19=\"\",\"\",'[1]１１月'!E19)","v":"◎"},{"$f":"IF('[1]１１月'!F19=\"\",\"\",'[1]１１月'!F19)","v":"◎"},{"$f":"IF('[1]１１月'!G19=\"\",\"\",'[1]１１月'!G19)","v":"◎"},{"$f":"IF('[1]１１月'!H19=\"\",\"\",'[1]１１月'!H19)","v":"○"},{"$f":"IF('[1]１１月'!I19=\"\",\"\",'[1]１１月'!I19)","v":"○"},{"$f":"IF('[1]１１月'!J19=\"\",\"\",'[1]１１月'!J19)","v":"○"},"2014-11-13",126,127,127,127,127,131]
[null,null,"2014-11-14",14,{"$f":"IF($M236=\"\",\"\",VLOOKUP(WEEKDAY($M236),[1]Sheet1!$A$2:$B$8,2))","v":"金"},{"$f":"IF('[1]１１月'!D20=\"\",\"\",'[1]１１月'!D20)","v":"生徒総会"},{"$f":"IF('[1]１１月'!E20=\"\",\"\",'[1]１１月'!E20)","v":"◎"},{"$f":"IF('[1]１１月'!F20=\"\",\"\",'[1]１１月'!F20)","v":"◎"},{"$f":"IF('[1]１１月'!G20=\"\",\"\",'[1]１１月'!G20)","v":"◎"},{"$f":"IF('[1]１１月'!H20=\"\",\"\",'[1]１１月'!H20)","v":"○"},{"$f":"IF('[1]１１月'!I20=\"\",\"\",'[1]１１月'!I20)","v":"○"},{"$f":"IF('[1]１１月'!J20=\"\",\"\",'[1]１１月'!J20)","v":"○"},"2014-11-14",127,128,128,128,128,132]
[null,null,"2014-11-15",15,{"$f":"IF($M237=\"\",\"\",VLOOKUP(WEEKDAY($M237),[1]Sheet1!$A$2:$B$8,2))","v":"土"},{"$f":"IF('[1]１１月'!D21=\"\",\"\",'[1]１１月'!D21)","v":0},{"$f":"IF('[1]１１月'!E21=\"\",\"\",'[1]１１月'!E21)","v":0},{"$f":"IF('[1]１１月'!F21=\"\",\"\",'[1]１１月'!F21)","v":0},{"$f":"IF('[1]１１月'!G21=\"\",\"\",'[1]１１月'!G21)","v":0},{"$f":"IF('[1]１１月'!H21=\"\",\"\",'[1]１１月'!H21)","v":0},{"$f":"IF('[1]１１月'!I21=\"\",\"\",'[1]１１月'!I21)","v":0},{"$f":"IF('[1]１１月'!J21=\"\",\"\",'[1]１１月'!J21)","v":0},"2014-11-15",127,128,128,128,128,132]
[null,null,"2014-11-16",16,{"$f":"IF($M238=\"\",\"\",VLOOKUP(WEEKDAY($M238),[1]Sheet1!$A$2:$B$8,2))","v":"日"},{"$f":"IF('[1]１１月'!D22=\"\",\"\",'[1]１１月'!D22)","v":0},{"$f":"IF('[1]１１月'!E22=\"\",\"\",'[1]１１月'!E22)","v":0},{"$f":"IF('[1]１１月'!F22=\"\",\"\",'[1]１１月'!F22)","v":0},{"$f":"IF('[1]１１月'!G22=\"\",\"\",'[1]１１月'!G22)","v":0},{"$f":"IF('[1]１１月'!H22=\"\",\"\",'[1]１１月'!H22)","v":0},{"$f":"IF('[1]１１月'!I22=\"\",\"\",'[1]１１月'!I22)","v":0},{"$f":"IF('[1]１１月'!J22=\"\",\"\",'[1]１１月'!J22)","v":0},"2014-11-16",127,128,128,128,128,132]
[null,null,"2014-11-17",17,{"$f":"IF($M239=\"\",\"\",VLOOKUP(WEEKDAY($M239),[1]Sheet1!$A$2:$B$8,2))","v":"月"},{"$f":"IF('[1]１１月'!D23=\"\",\"\",'[1]１１月'!D23)","v":0},{"$f":"IF('[1]１１月'!E23=\"\",\"\",'[1]１１月'!E23)","v":"◎"},{"$f":"IF('[1]１１月'!F23=\"\",\"\",'[1]１１月'!F23)","v":"◎"},{"$f":"IF('[1]１１月'!G23=\"\",\"\",'[1]１１月'!G23)","v":"◎"},{"$f":"IF('[1]１１月'!H23=\"\",\"\",'[1]１１月'!H23)","v":"○"},{"$f":"IF('[1]１１月'!I23=\"\",\"\",'[1]１１月'!I23)","v":"○"},{"$f":"IF('[1]１１月'!J23=\"\",\"\",'[1]１１月'!J23)","v":"○"},"2014-11-17",128,129,129,129,129,133]
[null,null,"2014-11-18",18,{"$f":"IF($M240=\"\",\"\",VLOOKUP(WEEKDAY($M240),[1]Sheet1!$A$2:$B$8,2))","v":"火"},{"$f":"IF('[1]１１月'!D24=\"\",\"\",'[1]１１月'!D24)","v":"2学期中間考査（後期）"},{"$f":"IF('[1]１１月'!E24=\"\",\"\",'[1]１１月'!E24)","v":"◎"},{"$f":"IF('[1]１１月'!F24=\"\",\"\",'[1]１１月'!F24)","v":"◎"},{"$f":"IF('[1]１１月'!G24=\"\",\"\",'[1]１１月'!G24)","v":"◎"},{"$f":"IF('[1]１１月'!H24=\"\",\"\",'[1]１１月'!H24)","v":"○"},{"$f":"IF('[1]１１月'!I24=\"\",\"\",'[1]１１月'!I24)","v":"○"},{"$f":"IF('[1]１１月'!J24=\"\",\"\",'[1]１１月'!J24)","v":"○"},"2014-11-18",129,130,130,130,130,134]
[null,null,"2014-11-19",19,{"$f":"IF($M241=\"\",\"\",VLOOKUP(WEEKDAY($M241),[1]Sheet1!$A$2:$B$8,2))","v":"水"},{"$f":"IF('[1]１１月'!D25=\"\",\"\",'[1]１１月'!D25)","v":"2学期中間考査（後期），運営委員会"},{"$f":"IF('[1]１１月'!E25=\"\",\"\",'[1]１１月'!E25)","v":"◎"},{"$f":"IF('[1]１１月'!F25=\"\",\"\",'[1]１１月'!F25)","v":"◎"},{"$f":"IF('[1]１１月'!G25=\"\",\"\",'[1]１１月'!G25)","v":"◎"},{"$f":"IF('[1]１１月'!H25=\"\",\"\",'[1]１１月'!H25)","v":"○"},{"$f":"IF('[1]１１月'!I25=\"\",\"\",'[1]１１月'!I25)","v":"○"},{"$f":"IF('[1]１１月'!J25=\"\",\"\",'[1]１１月'!J25)","v":"○"},"2014-11-19",130,131,131,131,131,135]
[null,null,"2014-11-20",20,{"$f":"IF($M242=\"\",\"\",VLOOKUP(WEEKDAY($M242),[1]Sheet1!$A$2:$B$8,2))","v":"木"},{"$f":"IF('[1]１１月'!D26=\"\",\"\",'[1]１１月'!D26)","v":"2学期中間考査（前後期）"},{"$f":"IF('[1]１１月'!E26=\"\",\"\",'[1]１１月'!E26)","v":"◎"},{"$f":"IF('[1]１１月'!F26=\"\",\"\",'[1]１１月'!F26)","v":"◎"},{"$f":"IF('[1]１１月'!G26=\"\",\"\",'[1]１１月'!G26)","v":"◎"},{"$f":"IF('[1]１１月'!H26=\"\",\"\",'[1]１１月'!H26)","v":"○"},{"$f":"IF('[1]１１月'!I26=\"\",\"\",'[1]１１月'!I26)","v":"○"},{"$f":"IF('[1]１１月'!J26=\"\",\"\",'[1]１１月'!J26)","v":"○"},"2014-11-20",131,132,132,132,132,136]
[null,null,"2014-11-21",21,{"$f":"IF($M243=\"\",\"\",VLOOKUP(WEEKDAY($M243),[1]Sheet1!$A$2:$B$8,2))","v":"金"},{"$f":"IF('[1]１１月'!D27=\"\",\"\",'[1]１１月'!D27)","v":"2学期中間考査（前後期），職員会議"},{"$f":"IF('[1]１１月'!E27=\"\",\"\",'[1]１１月'!E27)","v":"◎"},{"$f":"IF('[1]１１月'!F27=\"\",\"\",'[1]１１月'!F27)","v":"◎"},{"$f":"IF('[1]１１月'!G27=\"\",\"\",'[1]１１月'!G27)","v":"◎"},{"$f":"IF('[1]１１月'!H27=\"\",\"\",'[1]１１月'!H27)","v":"○"},{"$f":"IF('[1]１１月'!I27=\"\",\"\",'[1]１１月'!I27)","v":"○"},{"$f":"IF('[1]１１月'!J27=\"\",\"\",'[1]１１月'!J27)","v":"○"},"2014-11-21",132,133,133,133,133,137]
[null,null,"2014-11-22",22,{"$f":"IF($M244=\"\",\"\",VLOOKUP(WEEKDAY($M244),[1]Sheet1!$A$2:$B$8,2))","v":"土"},{"$f":"IF('[1]１１月'!D28=\"\",\"\",'[1]１１月'!D28)","v":"土曜学習会"},{"$f":"IF('[1]１１月'!E28=\"\",\"\",'[1]１１月'!E28)","v":0},{"$f":"IF('[1]１１月'!F28=\"\",\"\",'[1]１１月'!F28)","v":0},{"$f":"IF('[1]１１月'!G28=\"\",\"\",'[1]１１月'!G28)","v":0},{"$f":"IF('[1]１１月'!H28=\"\",\"\",'[1]１１月'!H28)","v":0},{"$f":"IF('[1]１１月'!I28=\"\",\"\",'[1]１１月'!I28)","v":0},{"$f":"IF('[1]１１月'!J28=\"\",\"\",'[1]１１月'!J28)","v":0},"2014-11-22",132,133,133,133,133,137]
[null,null,"2014-11-23",23,{"$f":"IF($M245=\"\",\"\",VLOOKUP(WEEKDAY($M245),[1]Sheet1!$A$2:$B$8,2))","v":"日"},{"$f":"IF('[1]１１月'!D29=\"\",\"\",'[1]１１月'!D29)","v":0},{"$f":"IF('[1]１１月'!E29=\"\",\"\",'[1]１１月'!E29)","v":0},{"$f":"IF('[1]１１月'!F29=\"\",\"\",'[1]１１月'!F29)","v":0},{"$f":"IF('[1]１１月'!G29=\"\",\"\",'[1]１１月'!G29)","v":0},{"$f":"IF('[1]１１月'!H29=\"\",\"\",'[1]１１月'!H29)","v":0},{"$f":"IF('[1]１１月'!I29=\"\",\"\",'[1]１１月'!I29)","v":0},{"$f":"IF('[1]１１月'!J29=\"\",\"\",'[1]１１月'!J29)","v":0},"2014-11-23",132,133,133,133,133,137]
[null,null,"2014-11-24",24,{"$f":"IF($M246=\"\",\"\",VLOOKUP(WEEKDAY($M246),[1]Sheet1!$A$2:$B$8,2))","v":"月"},{"$f":"IF('[1]１１月'!D30=\"\",\"\",'[1]１１月'!D30)","v":"勤労感謝の日"},{"$f":"IF('[1]１１月'!E30=\"\",\"\",'[1]１１月'!E30)","v":0},{"$f":"IF('[1]１１月'!F30=\"\",\"\",'[1]１１月'!F30)","v":0},{"$f":"IF('[1]１１月'!G30=\"\",\"\",'[1]１１月'!G30)","v":0},{"$f":"IF('[1]１１月'!H30=\"\",\"\",'[1]１１月'!H30)","v":0},{"$f":"IF('[1]１１月'!I30=\"\",\"\",'[1]１１月'!I30)","v":0},{"$f":"IF('[1]１１月'!J30=\"\",\"\",'[1]１１月'!J30)","v":0},"2014-11-24",132,133,133,133,133,137]
[null,null,"2014-11-25",25,{"$f":"IF($M247=\"\",\"\",VLOOKUP(WEEKDAY($M247),[1]Sheet1!$A$2:$B$8,2))","v":"火"},{"$f":"IF('[1]１１月'!D31=\"\",\"\",'[1]１１月'!D31)","v":"5年海外研修，二者面談，学年会"},{"$f":"IF('[1]１１月'!E31=\"\",\"\",'[1]１１月'!E31)","v":"◎"},{"$f":"IF('[1]１１月'!F31=\"\",\"\",'[1]１１月'!F31)","v":"◎"},{"$f":"IF('[1]１１月'!G31=\"\",\"\",'[1]１１月'!G31)","v":"◎"},{"$f":"IF('[1]１１月'!H31=\"\",\"\",'[1]１１月'!H31)","v":"○"},{"$f":"IF('[1]１１月'!I31=\"\",\"\",'[1]１１月'!I31)","v":"○"},{"$f":"IF('[1]１１月'!J31=\"\",\"\",'[1]１１月'!J31)","v":"○"},"2014-11-25",133,134,134,134,134,138]
[null,null,"2014-11-26",26,{"$f":"IF($M248=\"\",\"\",VLOOKUP(WEEKDAY($M248),[1]Sheet1!$A$2:$B$8,2))","v":"水"},{"$f":"IF('[1]１１月'!D32=\"\",\"\",'[1]１１月'!D32)","v":0},{"$f":"IF('[1]１１月'!E32=\"\",\"\",'[1]１１月'!E32)","v":"◎"},{"$f":"IF('[1]１１月'!F32=\"\",\"\",'[1]１１月'!F32)","v":"◎"},{"$f":"IF('[1]１１月'!G32=\"\",\"\",'[1]１１月'!G32)","v":"◎"},{"$f":"IF('[1]１１月'!H32=\"\",\"\",'[1]１１月'!H32)","v":"○"},{"$f":"IF('[1]１１月'!I32=\"\",\"\",'[1]１１月'!I32)","v":"○"},{"$f":"IF('[1]１１月'!J32=\"\",\"\",'[1]１１月'!J32)","v":"○"},"2014-11-26",134,135,135,135,135,139]
[null,null,"2014-11-27",27,{"$f":"IF($M249=\"\",\"\",VLOOKUP(WEEKDAY($M249),[1]Sheet1!$A$2:$B$8,2))","v":"木"},{"$f":"IF('[1]１１月'!D33=\"\",\"\",'[1]１１月'!D33)","v":0},{"$f":"IF('[1]１１月'!E33=\"\",\"\",'[1]１１月'!E33)","v":"◎"},{"$f":"IF('[1]１１月'!F33=\"\",\"\",'[1]１１月'!F33)","v":"◎"},{"$f":"IF('[1]１１月'!G33=\"\",\"\",'[1]１１月'!G33)","v":"◎"},{"$f":"IF('[1]１１月'!H33=\"\",\"\",'[1]１１月'!H33)","v":"○"},{"$f":"IF('[1]１１月'!I33=\"\",\"\",'[1]１１月'!I33)","v":"○"},{"$f":"IF('[1]１１月'!J33=\"\",\"\",'[1]１１月'!J33)","v":"○"},"2014-11-27",135,136,136,136,136,140]
[null,null,"2014-11-28",28,{"$f":"IF($M250=\"\",\"\",VLOOKUP(WEEKDAY($M250),[1]Sheet1!$A$2:$B$8,2))","v":"金"},{"$f":"IF('[1]１１月'!D34=\"\",\"\",'[1]１１月'!D34)","v":0},{"$f":"IF('[1]１１月'!E34=\"\",\"\",'[1]１１月'!E34)","v":"◎"},{"$f":"IF('[1]１１月'!F34=\"\",\"\",'[1]１１月'!F34)","v":"◎"},{"$f":"IF('[1]１１月'!G34=\"\",\"\",'[1]１１月'!G34)","v":"◎"},{"$f":"IF('[1]１１月'!H34=\"\",\"\",'[1]１１月'!H34)","v":"○"},{"$f":"IF('[1]１１月'!I34=\"\",\"\",'[1]１１月'!I34)","v":"○"},{"$f":"IF('[1]１１月'!J34=\"\",\"\",'[1]１１月'!J34)","v":"○"},"2014-11-28",136,137,137,137,137,141]
[null,null,"2014-11-29",29,{"$f":"IF($M251=\"\",\"\",VLOOKUP(WEEKDAY($M251),[1]Sheet1!$A$2:$B$8,2))","v":"土"},{"$f":"IF('[1]１１月'!D35=\"\",\"\",'[1]１１月'!D35)","v":0},{"$f":"IF('[1]１１月'!E35=\"\",\"\",'[1]１１月'!E35)","v":0},{"$f":"IF('[1]１１月'!F35=\"\",\"\",'[1]１１月'!F35)","v":0},{"$f":"IF('[1]１１月'!G35=\"\",\"\",'[1]１１月'!G35)","v":0},{"$f":"IF('[1]１１月'!H35=\"\",\"\",'[1]１１月'!H35)","v":0},{"$f":"IF('[1]１１月'!I35=\"\",\"\",'[1]１１月'!I35)","v":"○"},{"$f":"IF('[1]１１月'!J35=\"\",\"\",'[1]１１月'!J35)","v":0},"2014-11-29",136,137,137,137,138,141]
[null,null,"2014-11-30",30,{"$f":"IF($M252=\"\",\"\",VLOOKUP(WEEKDAY($M252),[1]Sheet1!$A$2:$B$8,2))","v":"日"},{"$f":"IF('[1]１１月'!D36=\"\",\"\",'[1]１１月'!D36)","v":0},{"$f":"IF('[1]１１月'!E36=\"\",\"\",'[1]１１月'!E36)","v":0},{"$f":"IF('[1]１１月'!F36=\"\",\"\",'[1]１１月'!F36)","v":0},{"$f":"IF('[1]１１月'!G36=\"\",\"\",'[1]１１月'!G36)","v":0},{"$f":"IF('[1]１１月'!H36=\"\",\"\",'[1]１１月'!H36)","v":0},{"$f":"IF('[1]１１月'!I36=\"\",\"\",'[1]１１月'!I36)","v":"○"},{"$f":"IF('[1]１１月'!J36=\"\",\"\",'[1]１１月'!J36)","v":0},"2014-11-30",136,137,137,137,139,141]
[null,null,null,null,{"$f":"IF($M253=\"\",\"\",VLOOKUP(WEEKDAY($M253),[1]Sheet1!$A$2:$B$8,2))","v":""},{"$f":"IF('[1]１１月'!D37=\"\",\"\",'[1]１１月'!D37)","v":0},{"$f":"IF('[1]１１月'!E37=\"\",\"\",'[1]１１月'!E37)","v":0},{"$f":"IF('[1]１１月'!F37=\"\",\"\",'[1]１１月'!F37)","v":0},{"$f":"IF('[1]１１月'!G37=\"\",\"\",'[1]１１月'!G37)","v":0},{"$f":"IF('[1]１１月'!H37=\"\",\"\",'[1]１１月'!H37)","v":0},{"$f":"IF('[1]１１月'!I37=\"\",\"\",'[1]１１月'!I37)","v":0},{"$f":"IF('[1]１１月'!J37=\"\",\"\",'[1]１１月'!J37)","v":0},null,136,137,137,137,139,141]
[null,null,"2014-12-01",1,{"$f":"IF($M254=\"\",\"\",VLOOKUP(WEEKDAY($M254),[1]Sheet1!$A$2:$B$8,2))","v":"月"},{"$f":"IF('[1]１２月'!D7=\"\",\"\",'[1]１２月'!D7)","v":0},{"$f":"IF('[1]１２月'!E7=\"\",\"\",'[1]１２月'!E7)","v":"◎"},{"$f":"IF('[1]１２月'!F7=\"\",\"\",'[1]１２月'!F7)","v":"◎"},{"$f":"IF('[1]１２月'!G7=\"\",\"\",'[1]１２月'!G7)","v":"◎"},{"$f":"IF('[1]１２月'!H7=\"\",\"\",'[1]１２月'!H7)","v":"○"},{"$f":"IF('[1]１２月'!I7=\"\",\"\",'[1]１２月'!I7)","v":"○"},{"$f":"IF('[1]１２月'!J7=\"\",\"\",'[1]１２月'!J7)","v":"○"},"2014-12-01",137,138,138,138,140,142]
[null,null,"2014-12-02",2,{"$f":"IF($M255=\"\",\"\",VLOOKUP(WEEKDAY($M255),[1]Sheet1!$A$2:$B$8,2))","v":"火"},{"$f":"IF('[1]１２月'!D8=\"\",\"\",'[1]１２月'!D8)","v":"小票（5年以外）"},{"$f":"IF('[1]１２月'!E8=\"\",\"\",'[1]１２月'!E8)","v":"◎"},{"$f":"IF('[1]１２月'!F8=\"\",\"\",'[1]１２月'!F8)","v":"◎"},{"$f":"IF('[1]１２月'!G8=\"\",\"\",'[1]１２月'!G8)","v":"◎"},{"$f":"IF('[1]１２月'!H8=\"\",\"\",'[1]１２月'!H8)","v":"○"},{"$f":"IF('[1]１２月'!I8=\"\",\"\",'[1]１２月'!I8)","v":"○"},{"$f":"IF('[1]１２月'!J8=\"\",\"\",'[1]１２月'!J8)","v":"○"},"2014-12-02",138,139,139,139,141,143]
[null,null,"2014-12-03",3,{"$f":"IF($M256=\"\",\"\",VLOOKUP(WEEKDAY($M256),[1]Sheet1!$A$2:$B$8,2))","v":"水"},{"$f":"IF('[1]１２月'!D9=\"\",\"\",'[1]１２月'!D9)","v":0},{"$f":"IF('[1]１２月'!E9=\"\",\"\",'[1]１２月'!E9)","v":"◎"},{"$f":"IF('[1]１２月'!F9=\"\",\"\",'[1]１２月'!F9)","v":"◎"},{"$f":"IF('[1]１２月'!G9=\"\",\"\",'[1]１２月'!G9)","v":"◎"},{"$f":"IF('[1]１２月'!H9=\"\",\"\",'[1]１２月'!H9)","v":"○"},{"$f":"IF('[1]１２月'!I9=\"\",\"\",'[1]１２月'!I9)","v":"○"},{"$f":"IF('[1]１２月'!J9=\"\",\"\",'[1]１２月'!J9)","v":"○"},"2014-12-03",139,140,140,140,142,144]
[null,null,"2014-12-04",4,{"$f":"IF($M257=\"\",\"\",VLOOKUP(WEEKDAY($M257),[1]Sheet1!$A$2:$B$8,2))","v":"木"},{"$f":"IF('[1]１２月'!D10=\"\",\"\",'[1]１２月'!D10)","v":"大表（5年以外）"},{"$f":"IF('[1]１２月'!E10=\"\",\"\",'[1]１２月'!E10)","v":"◎"},{"$f":"IF('[1]１２月'!F10=\"\",\"\",'[1]１２月'!F10)","v":"◎"},{"$f":"IF('[1]１２月'!G10=\"\",\"\",'[1]１２月'!G10)","v":"◎"},{"$f":"IF('[1]１２月'!H10=\"\",\"\",'[1]１２月'!H10)","v":"○"},{"$f":"IF('[1]１２月'!I10=\"\",\"\",'[1]１２月'!I10)","v":"○"},{"$f":"IF('[1]１２月'!J10=\"\",\"\",'[1]１２月'!J10)","v":"○"},"2014-12-04",140,141,141,141,143,145]
[null,null,"2014-12-05",5,{"$f":"IF($M258=\"\",\"\",VLOOKUP(WEEKDAY($M258),[1]Sheet1!$A$2:$B$8,2))","v":"金"},{"$f":"IF('[1]１２月'!D11=\"\",\"\",'[1]１２月'!D11)","v":"3年保健講話"},{"$f":"IF('[1]１２月'!E11=\"\",\"\",'[1]１２月'!E11)","v":"◎"},{"$f":"IF('[1]１２月'!F11=\"\",\"\",'[1]１２月'!F11)","v":"◎"},{"$f":"IF('[1]１２月'!G11=\"\",\"\",'[1]１２月'!G11)","v":"◎"},{"$f":"IF('[1]１２月'!H11=\"\",\"\",'[1]１２月'!H11)","v":"○"},{"$f":"IF('[1]１２月'!I11=\"\",\"\",'[1]１２月'!I11)","v":"○"},{"$f":"IF('[1]１２月'!J11=\"\",\"\",'[1]１２月'!J11)","v":"○"},"2014-12-05",141,142,142,142,144,146]
[null,null,"2014-12-06",6,{"$f":"IF($M259=\"\",\"\",VLOOKUP(WEEKDAY($M259),[1]Sheet1!$A$2:$B$8,2))","v":"土"},{"$f":"IF('[1]１２月'!D12=\"\",\"\",'[1]１２月'!D12)","v":0},{"$f":"IF('[1]１２月'!E12=\"\",\"\",'[1]１２月'!E12)","v":0},{"$f":"IF('[1]１２月'!F12=\"\",\"\",'[1]１２月'!F12)","v":0},{"$f":"IF('[1]１２月'!G12=\"\",\"\",'[1]１２月'!G12)","v":0},{"$f":"IF('[1]１２月'!H12=\"\",\"\",'[1]１２月'!H12)","v":0},{"$f":"IF('[1]１２月'!I12=\"\",\"\",'[1]１２月'!I12)","v":0},{"$f":"IF('[1]１２月'!J12=\"\",\"\",'[1]１２月'!J12)","v":0},"2014-12-06",141,142,142,142,144,146]
[null,null,"2014-12-07",7,{"$f":"IF($M260=\"\",\"\",VLOOKUP(WEEKDAY($M260),[1]Sheet1!$A$2:$B$8,2))","v":"日"},{"$f":"IF('[1]１２月'!D13=\"\",\"\",'[1]１２月'!D13)","v":0},{"$f":"IF('[1]１２月'!E13=\"\",\"\",'[1]１２月'!E13)","v":0},{"$f":"IF('[1]１２月'!F13=\"\",\"\",'[1]１２月'!F13)","v":0},{"$f":"IF('[1]１２月'!G13=\"\",\"\",'[1]１２月'!G13)","v":0},{"$f":"IF('[1]１２月'!H13=\"\",\"\",'[1]１２月'!H13)","v":0},{"$f":"IF('[1]１２月'!I13=\"\",\"\",'[1]１２月'!I13)","v":0},{"$f":"IF('[1]１２月'!J13=\"\",\"\",'[1]１２月'!J13)","v":0},"2014-12-07",141,142,142,142,144,146]
[null,null,"2014-12-08",8,{"$f":"IF($M261=\"\",\"\",VLOOKUP(WEEKDAY($M261),[1]Sheet1!$A$2:$B$8,2))","v":"月"},{"$f":"IF('[1]１２月'!D14=\"\",\"\",'[1]１２月'!D14)","v":"5年生振替休業日"},{"$f":"IF('[1]１２月'!E14=\"\",\"\",'[1]１２月'!E14)","v":"◎"},{"$f":"IF('[1]１２月'!F14=\"\",\"\",'[1]１２月'!F14)","v":"◎"},{"$f":"IF('[1]１２月'!G14=\"\",\"\",'[1]１２月'!G14)","v":"◎"},{"$f":"IF('[1]１２月'!H14=\"\",\"\",'[1]１２月'!H14)","v":"○"},{"$f":"IF('[1]１２月'!I14=\"\",\"\",'[1]１２月'!I14)","v":0},{"$f":"IF('[1]１２月'!J14=\"\",\"\",'[1]１２月'!J14)","v":"○"},"2014-12-08",142,143,143,143,144,147]
[null,null,"2014-12-09",9,{"$f":"IF($M262=\"\",\"\",VLOOKUP(WEEKDAY($M262),[1]Sheet1!$A$2:$B$8,2))","v":"火"},{"$f":"IF('[1]１２月'!D15=\"\",\"\",'[1]１２月'!D15)","v":"5年生振替休業日，学年成績会議"},{"$f":"IF('[1]１２月'!E15=\"\",\"\",'[1]１２月'!E15)","v":"◎"},{"$f":"IF('[1]１２月'!F15=\"\",\"\",'[1]１２月'!F15)","v":"◎"},{"$f":"IF('[1]１２月'!G15=\"\",\"\",'[1]１２月'!G15)","v":"◎"},{"$f":"IF('[1]１２月'!H15=\"\",\"\",'[1]１２月'!H15)","v":"○"},{"$f":"IF('[1]１２月'!I15=\"\",\"\",'[1]１２月'!I15)","v":0},{"$f":"IF('[1]１２月'!J15=\"\",\"\",'[1]１２月'!J15)","v":"○"},"2014-12-09",143,144,144,144,144,148]
[null,null,"2014-12-10",10,{"$f":"IF($M263=\"\",\"\",VLOOKUP(WEEKDAY($M263),[1]Sheet1!$A$2:$B$8,2))","v":"水"},{"$f":"IF('[1]１２月'!D16=\"\",\"\",'[1]１２月'!D16)","v":"GTEC(1～5年)，中央委員会"},{"$f":"IF('[1]１２月'!E16=\"\",\"\",'[1]１２月'!E16)","v":"◎"},{"$f":"IF('[1]１２月'!F16=\"\",\"\",'[1]１２月'!F16)","v":"◎"},{"$f":"IF('[1]１２月'!G16=\"\",\"\",'[1]１２月'!G16)","v":"◎"},{"$f":"IF('[1]１２月'!H16=\"\",\"\",'[1]１２月'!H16)","v":"○"},{"$f":"IF('[1]１２月'!I16=\"\",\"\",'[1]１２月'!I16)","v":"○"},{"$f":"IF('[1]１２月'!J16=\"\",\"\",'[1]１２月'!J16)","v":"○"},"2014-12-10",144,145,145,145,145,149]
[null,null,"2014-12-11",11,{"$f":"IF($M264=\"\",\"\",VLOOKUP(WEEKDAY($M264),[1]Sheet1!$A$2:$B$8,2))","v":"木"},{"$f":"IF('[1]１２月'!D17=\"\",\"\",'[1]１２月'!D17)","v":"運営委員会"},{"$f":"IF('[1]１２月'!E17=\"\",\"\",'[1]１２月'!E17)","v":"◎"},{"$f":"IF('[1]１２月'!F17=\"\",\"\",'[1]１２月'!F17)","v":"◎"},{"$f":"IF('[1]１２月'!G17=\"\",\"\",'[1]１２月'!G17)","v":"◎"},{"$f":"IF('[1]１２月'!H17=\"\",\"\",'[1]１２月'!H17)","v":"○"},{"$f":"IF('[1]１２月'!I17=\"\",\"\",'[1]１２月'!I17)","v":"○"},{"$f":"IF('[1]１２月'!J17=\"\",\"\",'[1]１２月'!J17)","v":"○"},"2014-12-11",145,146,146,146,146,150]
[null,null,"2014-12-12",12,{"$f":"IF($M265=\"\",\"\",VLOOKUP(WEEKDAY($M265),[1]Sheet1!$A$2:$B$8,2))","v":"金"},{"$f":"IF('[1]１２月'!D18=\"\",\"\",'[1]１２月'!D18)","v":"5年進路講話，各種委員会"},{"$f":"IF('[1]１２月'!E18=\"\",\"\",'[1]１２月'!E18)","v":"◎"},{"$f":"IF('[1]１２月'!F18=\"\",\"\",'[1]１２月'!F18)","v":"◎"},{"$f":"IF('[1]１２月'!G18=\"\",\"\",'[1]１２月'!G18)","v":"◎"},{"$f":"IF('[1]１２月'!H18=\"\",\"\",'[1]１２月'!H18)","v":"○"},{"$f":"IF('[1]１２月'!I18=\"\",\"\",'[1]１２月'!I18)","v":"○"},{"$f":"IF('[1]１２月'!J18=\"\",\"\",'[1]１２月'!J18)","v":"○"},"2014-12-12",146,147,147,147,147,151]
[null,null,"2014-12-13",13,{"$f":"IF($M266=\"\",\"\",VLOOKUP(WEEKDAY($M266),[1]Sheet1!$A$2:$B$8,2))","v":"土"},{"$f":"IF('[1]１２月'!D19=\"\",\"\",'[1]１２月'!D19)","v":"土曜学習会"},{"$f":"IF('[1]１２月'!E19=\"\",\"\",'[1]１２月'!E19)","v":0},{"$f":"IF('[1]１２月'!F19=\"\",\"\",'[1]１２月'!F19)","v":0},{"$f":"IF('[1]１２月'!G19=\"\",\"\",'[1]１２月'!G19)","v":0},{"$f":"IF('[1]１２月'!H19=\"\",\"\",'[1]１２月'!H19)","v":0},{"$f":"IF('[1]１２月'!I19=\"\",\"\",'[1]１２月'!I19)","v":0},{"$f":"IF('[1]１２月'!J19=\"\",\"\",'[1]１２月'!J19)","v":0},"2014-12-13",146,147,147,147,147,151]
[null,null,"2014-12-14",14,{"$f":"IF($M267=\"\",\"\",VLOOKUP(WEEKDAY($M267),[1]Sheet1!$A$2:$B$8,2))","v":"日"},{"$f":"IF('[1]１２月'!D20=\"\",\"\",'[1]１２月'!D20)","v":0},{"$f":"IF('[1]１２月'!E20=\"\",\"\",'[1]１２月'!E20)","v":0},{"$f":"IF('[1]１２月'!F20=\"\",\"\",'[1]１２月'!F20)","v":0},{"$f":"IF('[1]１２月'!G20=\"\",\"\",'[1]１２月'!G20)","v":0},{"$f":"IF('[1]１２月'!H20=\"\",\"\",'[1]１２月'!H20)","v":0},{"$f":"IF('[1]１２月'!I20=\"\",\"\",'[1]１２月'!I20)","v":0},{"$f":"IF('[1]１２月'!J20=\"\",\"\",'[1]１２月'!J20)","v":0},"2014-12-14",146,147,147,147,147,151]
[null,null,"2014-12-15",15,{"$f":"IF($M268=\"\",\"\",VLOOKUP(WEEKDAY($M268),[1]Sheet1!$A$2:$B$8,2))","v":"月"},{"$f":"IF('[1]１２月'!D21=\"\",\"\",'[1]１２月'!D21)","v":"5年大表，5年成績会議，1年英語集中講座(～17日)"},{"$f":"IF('[1]１２月'!E21=\"\",\"\",'[1]１２月'!E21)","v":"◎"},{"$f":"IF('[1]１２月'!F21=\"\",\"\",'[1]１２月'!F21)","v":"◎"},{"$f":"IF('[1]１２月'!G21=\"\",\"\",'[1]１２月'!G21)","v":"◎"},{"$f":"IF('[1]１２月'!H21=\"\",\"\",'[1]１２月'!H21)","v":"○"},{"$f":"IF('[1]１２月'!I21=\"\",\"\",'[1]１２月'!I21)","v":"○"},{"$f":"IF('[1]１２月'!J21=\"\",\"\",'[1]１２月'!J21)","v":"○"},"2014-12-15",147,148,148,148,148,152]
[null,null,"2014-12-16",16,{"$f":"IF($M269=\"\",\"\",VLOOKUP(WEEKDAY($M269),[1]Sheet1!$A$2:$B$8,2))","v":"火"},{"$f":"IF('[1]１２月'!D22=\"\",\"\",'[1]１２月'!D22)","v":"成績会議，入学者選抜選考委員会，5年保健講話"},{"$f":"IF('[1]１２月'!E22=\"\",\"\",'[1]１２月'!E22)","v":"◎"},{"$f":"IF('[1]１２月'!F22=\"\",\"\",'[1]１２月'!F22)","v":"◎"},{"$f":"IF('[1]１２月'!G22=\"\",\"\",'[1]１２月'!G22)","v":"◎"},{"$f":"IF('[1]１２月'!H22=\"\",\"\",'[1]１２月'!H22)","v":"○"},{"$f":"IF('[1]１２月'!I22=\"\",\"\",'[1]１２月'!I22)","v":"○"},{"$f":"IF('[1]１２月'!J22=\"\",\"\",'[1]１２月'!J22)","v":"○"},"2014-12-16",148,149,149,149,149,153]
[null,null,"2014-12-17",17,{"$f":"IF($M270=\"\",\"\",VLOOKUP(WEEKDAY($M270),[1]Sheet1!$A$2:$B$8,2))","v":"水"},{"$f":"IF('[1]１２月'!D23=\"\",\"\",'[1]１２月'!D23)","v":"職員会議，転入考査"},{"$f":"IF('[1]１２月'!E23=\"\",\"\",'[1]１２月'!E23)","v":"◎"},{"$f":"IF('[1]１２月'!F23=\"\",\"\",'[1]１２月'!F23)","v":"◎"},{"$f":"IF('[1]１２月'!G23=\"\",\"\",'[1]１２月'!G23)","v":"◎"},{"$f":"IF('[1]１２月'!H23=\"\",\"\",'[1]１２月'!H23)","v":"○"},{"$f":"IF('[1]１２月'!I23=\"\",\"\",'[1]１２月'!I23)","v":"○"},{"$f":"IF('[1]１２月'!J23=\"\",\"\",'[1]１２月'!J23)","v":"○"},"2014-12-17",149,150,150,150,150,154]
[null,null,"2014-12-18",18,{"$f":"IF($M271=\"\",\"\",VLOOKUP(WEEKDAY($M271),[1]Sheet1!$A$2:$B$8,2))","v":"木"},{"$f":"IF('[1]１２月'!D24=\"\",\"\",'[1]１２月'!D24)","v":"6年実力考査，学年会"},{"$f":"IF('[1]１２月'!E24=\"\",\"\",'[1]１２月'!E24)","v":"◎"},{"$f":"IF('[1]１２月'!F24=\"\",\"\",'[1]１２月'!F24)","v":"◎"},{"$f":"IF('[1]１２月'!G24=\"\",\"\",'[1]１２月'!G24)","v":"◎"},{"$f":"IF('[1]１２月'!H24=\"\",\"\",'[1]１２月'!H24)","v":"○"},{"$f":"IF('[1]１２月'!I24=\"\",\"\",'[1]１２月'!I24)","v":"○"},{"$f":"IF('[1]１２月'!J24=\"\",\"\",'[1]１２月'!J24)","v":"○"},"2014-12-18",150,151,151,151,151,155]
[null,null,"2014-12-19",19,{"$f":"IF($M272=\"\",\"\",VLOOKUP(WEEKDAY($M272),[1]Sheet1!$A$2:$B$8,2))","v":"金"},{"$f":"IF('[1]１２月'!D25=\"\",\"\",'[1]１２月'!D25)","v":"6年実力考査，入学者選抜職員会議"},{"$f":"IF('[1]１２月'!E25=\"\",\"\",'[1]１２月'!E25)","v":"◎"},{"$f":"IF('[1]１２月'!F25=\"\",\"\",'[1]１２月'!F25)","v":"◎"},{"$f":"IF('[1]１２月'!G25=\"\",\"\",'[1]１２月'!G25)","v":"◎"},{"$f":"IF('[1]１２月'!H25=\"\",\"\",'[1]１２月'!H25)","v":"○"},{"$f":"IF('[1]１２月'!I25=\"\",\"\",'[1]１２月'!I25)","v":"○"},{"$f":"IF('[1]１２月'!J25=\"\",\"\",'[1]１２月'!J25)","v":"○"},"2014-12-19",151,152,152,152,152,156]
[null,null,"2014-12-20",20,{"$f":"IF($M273=\"\",\"\",VLOOKUP(WEEKDAY($M273),[1]Sheet1!$A$2:$B$8,2))","v":"土"},{"$f":"IF('[1]１２月'!D26=\"\",\"\",'[1]１２月'!D26)","v":0},{"$f":"IF('[1]１２月'!E26=\"\",\"\",'[1]１２月'!E26)","v":0},{"$f":"IF('[1]１２月'!F26=\"\",\"\",'[1]１２月'!F26)","v":0},{"$f":"IF('[1]１２月'!G26=\"\",\"\",'[1]１２月'!G26)","v":0},{"$f":"IF('[1]１２月'!H26=\"\",\"\",'[1]１２月'!H26)","v":0},{"$f":"IF('[1]１２月'!I26=\"\",\"\",'[1]１２月'!I26)","v":0},{"$f":"IF('[1]１２月'!J26=\"\",\"\",'[1]１２月'!J26)","v":0},"2014-12-20",151,152,152,152,152,156]
[null,null,"2014-12-21",21,{"$f":"IF($M274=\"\",\"\",VLOOKUP(WEEKDAY($M274),[1]Sheet1!$A$2:$B$8,2))","v":"日"},{"$f":"IF('[1]１２月'!D27=\"\",\"\",'[1]１２月'!D27)","v":0},{"$f":"IF('[1]１２月'!E27=\"\",\"\",'[1]１２月'!E27)","v":0},{"$f":"IF('[1]１２月'!F27=\"\",\"\",'[1]１２月'!F27)","v":0},{"$f":"IF('[1]１２月'!G27=\"\",\"\",'[1]１２月'!G27)","v":0},{"$f":"IF('[1]１２月'!H27=\"\",\"\",'[1]１２月'!H27)","v":0},{"$f":"IF('[1]１２月'!I27=\"\",\"\",'[1]１２月'!I27)","v":0},{"$f":"IF('[1]１２月'!J27=\"\",\"\",'[1]１２月'!J27)","v":0},"2014-12-21",151,152,152,152,152,156]
[null,null,"2014-12-22",22,{"$f":"IF($M275=\"\",\"\",VLOOKUP(WEEKDAY($M275),[1]Sheet1!$A$2:$B$8,2))","v":"月"},{"$f":"IF('[1]１２月'!D28=\"\",\"\",'[1]１２月'!D28)","v":"全校集会，入試職員会議，大掃除"},{"$f":"IF('[1]１２月'!E28=\"\",\"\",'[1]１２月'!E28)","v":"◎"},{"$f":"IF('[1]１２月'!F28=\"\",\"\",'[1]１２月'!F28)","v":"◎"},{"$f":"IF('[1]１２月'!G28=\"\",\"\",'[1]１２月'!G28)","v":"◎"},{"$f":"IF('[1]１２月'!H28=\"\",\"\",'[1]１２月'!H28)","v":"○"},{"$f":"IF('[1]１２月'!I28=\"\",\"\",'[1]１２月'!I28)","v":"○"},{"$f":"IF('[1]１２月'!J28=\"\",\"\",'[1]１２月'!J28)","v":"○"},"2014-12-22",152,153,153,153,153,157]
[null,null,"2014-12-23",23,{"$f":"IF($M276=\"\",\"\",VLOOKUP(WEEKDAY($M276),[1]Sheet1!$A$2:$B$8,2))","v":"火"},{"$f":"IF('[1]１２月'!D29=\"\",\"\",'[1]１２月'!D29)","v":"天皇誕生日"},{"$f":"IF('[1]１２月'!E29=\"\",\"\",'[1]１２月'!E29)","v":0},{"$f":"IF('[1]１２月'!F29=\"\",\"\",'[1]１２月'!F29)","v":0},{"$f":"IF('[1]１２月'!G29=\"\",\"\",'[1]１２月'!G29)","v":0},{"$f":"IF('[1]１２月'!H29=\"\",\"\",'[1]１２月'!H29)","v":0},{"$f":"IF('[1]１２月'!I29=\"\",\"\",'[1]１２月'!I29)","v":0},{"$f":"IF('[1]１２月'!J29=\"\",\"\",'[1]１２月'!J29)","v":0},"2014-12-23",152,153,153,153,153,157]
[null,null,"2014-12-24",24,{"$f":"IF($M277=\"\",\"\",VLOOKUP(WEEKDAY($M277),[1]Sheet1!$A$2:$B$8,2))","v":"水"},{"$f":"IF('[1]１２月'!D30=\"\",\"\",'[1]１２月'!D30)","v":"冬季休業，4～6年課外"},{"$f":"IF('[1]１２月'!E30=\"\",\"\",'[1]１２月'!E30)","v":0},{"$f":"IF('[1]１２月'!F30=\"\",\"\",'[1]１２月'!F30)","v":0},{"$f":"IF('[1]１２月'!G30=\"\",\"\",'[1]１２月'!G30)","v":0},{"$f":"IF('[1]１２月'!H30=\"\",\"\",'[1]１２月'!H30)","v":0},{"$f":"IF('[1]１２月'!I30=\"\",\"\",'[1]１２月'!I30)","v":0},{"$f":"IF('[1]１２月'!J30=\"\",\"\",'[1]１２月'!J30)","v":0},"2014-12-24",{"$f":"COUNTIF(G277,\"○\")+COUNTIF(G277,\"◎\")+N276","v":152},{"$f":"COUNTIF(H277,\"○\")+COUNTIF(H277,\"◎\")+O276","v":153},{"$f":"COUNTIF(I277,\"○\")+COUNTIF(I277,\"◎\")+P276","v":153},{"$f":"COUNTIF(J277,\"○\")+COUNTIF(J277,\"◎\")+Q276","v":153},{"$f":"COUNTIF(K277,\"○\")+COUNTIF(K277,\"◎\")+R276","v":153},{"$f":"COUNTIF(L277,\"○\")+COUNTIF(L277,\"◎\")+S276","v":157}]
[null,null,"2014-12-25",25,{"$f":"IF($M278=\"\",\"\",VLOOKUP(WEEKDAY($M278),[1]Sheet1!$A$2:$B$8,2))","v":"木"},{"$f":"IF('[1]１２月'!D31=\"\",\"\",'[1]１２月'!D31)","v":0},{"$f":"IF('[1]１２月'!E31=\"\",\"\",'[1]１２月'!E31)","v":0},{"$f":"IF('[1]１２月'!F31=\"\",\"\",'[1]１２月'!F31)","v":0},{"$f":"IF('[1]１２月'!G31=\"\",\"\",'[1]１２月'!G31)","v":0},{"$f":"IF('[1]１２月'!H31=\"\",\"\",'[1]１２月'!H31)","v":0},{"$f":"IF('[1]１２月'!I31=\"\",\"\",'[1]１２月'!I31)","v":0},{"$f":"IF('[1]１２月'!J31=\"\",\"\",'[1]１２月'!J31)","v":0},"2014-12-25",152,153,153,153,153,157]
[null,null,"2014-12-26",26,{"$f":"IF($M279=\"\",\"\",VLOOKUP(WEEKDAY($M279),[1]Sheet1!$A$2:$B$8,2))","v":"金"},{"$f":"IF('[1]１２月'!D32=\"\",\"\",'[1]１２月'!D32)","v":0},{"$f":"IF('[1]１２月'!E32=\"\",\"\",'[1]１２月'!E32)","v":0},{"$f":"IF('[1]１２月'!F32=\"\",\"\",'[1]１２月'!F32)","v":0},{"$f":"IF('[1]１２月'!G32=\"\",\"\",'[1]１２月'!G32)","v":0},{"$f":"IF('[1]１２月'!H32=\"\",\"\",'[1]１２月'!H32)","v":0},{"$f":"IF('[1]１２月'!I32=\"\",\"\",'[1]１２月'!I32)","v":0},{"$f":"IF('[1]１２月'!J32=\"\",\"\",'[1]１２月'!J32)","v":0},"2014-12-26",152,153,153,153,153,157]
[null,null,"2014-12-27",27,{"$f":"IF($M280=\"\",\"\",VLOOKUP(WEEKDAY($M280),[1]Sheet1!$A$2:$B$8,2))","v":"土"},{"$f":"IF('[1]１２月'!D33=\"\",\"\",'[1]１２月'!D33)","v":0},{"$f":"IF('[1]１２月'!E33=\"\",\"\",'[1]１２月'!E33)","v":0},{"$f":"IF('[1]１２月'!F33=\"\",\"\",'[1]１２月'!F33)","v":0},{"$f":"IF('[1]１２月'!G33=\"\",\"\",'[1]１２月'!G33)","v":0},{"$f":"IF('[1]１２月'!H33=\"\",\"\",'[1]１２月'!H33)","v":0},{"$f":"IF('[1]１２月'!I33=\"\",\"\",'[1]１２月'!I33)","v":0},{"$f":"IF('[1]１２月'!J33=\"\",\"\",'[1]１２月'!J33)","v":0},"2014-12-27",152,153,153,153,153,157]
[null,null,"2014-12-28",28,{"$f":"IF($M281=\"\",\"\",VLOOKUP(WEEKDAY($M281),[1]Sheet1!$A$2:$B$8,2))","v":"日"},{"$f":"IF('[1]１２月'!D34=\"\",\"\",'[1]１２月'!D34)","v":0},{"$f":"IF('[1]１２月'!E34=\"\",\"\",'[1]１２月'!E34)","v":0},{"$f":"IF('[1]１２月'!F34=\"\",\"\",'[1]１２月'!F34)","v":0},{"$f":"IF('[1]１２月'!G34=\"\",\"\",'[1]１２月'!G34)","v":0},{"$f":"IF('[1]１２月'!H34=\"\",\"\",'[1]１２月'!H34)","v":0},{"$f":"IF('[1]１２月'!I34=\"\",\"\",'[1]１２月'!I34)","v":0},{"$f":"IF('[1]１２月'!J34=\"\",\"\",'[1]１２月'!J34)","v":0},"2014-12-28",152,153,153,153,153,157]
[null,null,"2014-12-29",29,{"$f":"IF($M282=\"\",\"\",VLOOKUP(WEEKDAY($M282),[1]Sheet1!$A$2:$B$8,2))","v":"月"},{"$f":"IF('[1]１２月'!D35=\"\",\"\",'[1]１２月'!D35)","v":0},{"$f":"IF('[1]１２月'!E35=\"\",\"\",'[1]１２月'!E35)","v":0},{"$f":"IF('[1]１２月'!F35=\"\",\"\",'[1]１２月'!F35)","v":0},{"$f":"IF('[1]１２月'!G35=\"\",\"\",'[1]１２月'!G35)","v":0},{"$f":"IF('[1]１２月'!H35=\"\",\"\",'[1]１２月'!H35)","v":0},{"$f":"IF('[1]１２月'!I35=\"\",\"\",'[1]１２月'!I35)","v":0},{"$f":"IF('[1]１２月'!J35=\"\",\"\",'[1]１２月'!J35)","v":0},"2014-12-29",152,153,153,153,153,157]
[null,null,"2014-12-30",30,{"$f":"IF($M283=\"\",\"\",VLOOKUP(WEEKDAY($M283),[1]Sheet1!$A$2:$B$8,2))","v":"火"},{"$f":"IF('[1]１２月'!D36=\"\",\"\",'[1]１２月'!D36)","v":0},{"$f":"IF('[1]１２月'!E36=\"\",\"\",'[1]１２月'!E36)","v":0},{"$f":"IF('[1]１２月'!F36=\"\",\"\",'[1]１２月'!F36)","v":0},{"$f":"IF('[1]１２月'!G36=\"\",\"\",'[1]１２月'!G36)","v":0},{"$f":"IF('[1]１２月'!H36=\"\",\"\",'[1]１２月'!H36)","v":0},{"$f":"IF('[1]１２月'!I36=\"\",\"\",'[1]１２月'!I36)","v":0},{"$f":"IF('[1]１２月'!J36=\"\",\"\",'[1]１２月'!J36)","v":0},"2014-12-30",152,153,153,153,153,157]
[null,null,"2014-12-31",31,{"$f":"IF($M284=\"\",\"\",VLOOKUP(WEEKDAY($M284),[1]Sheet1!$A$2:$B$8,2))","v":"水"},{"$f":"IF('[1]１２月'!D37=\"\",\"\",'[1]１２月'!D37)","v":0},{"$f":"IF('[1]１２月'!E37=\"\",\"\",'[1]１２月'!E37)","v":0},{"$f":"IF('[1]１２月'!F37=\"\",\"\",'[1]１２月'!F37)","v":0},{"$f":"IF('[1]１２月'!G37=\"\",\"\",'[1]１２月'!G37)","v":0},{"$f":"IF('[1]１２月'!H37=\"\",\"\",'[1]１２月'!H37)","v":0},{"$f":"IF('[1]１２月'!I37=\"\",\"\",'[1]１２月'!I37)","v":0},{"$f":"IF('[1]１２月'!J37=\"\",\"\",'[1]１２月'!J37)","v":0},"2014-12-31",152,153,153,153,153,157]
[null,null,"2015-01-01",1,{"$f":"IF($M285=\"\",\"\",VLOOKUP(WEEKDAY($M285),[1]Sheet1!$A$2:$B$8,2))","v":"木"},{"$f":"IF('[1]１月'!D7=\"\",\"\",'[1]１月'!D7)","v":"元日"},{"$f":"IF('[1]１月'!E7=\"\",\"\",'[1]１月'!E7)","v":0},{"$f":"IF('[1]１月'!F7=\"\",\"\",'[1]１月'!F7)","v":0},{"$f":"IF('[1]１月'!G7=\"\",\"\",'[1]１月'!G7)","v":0},{"$f":"IF('[1]１月'!H7=\"\",\"\",'[1]１月'!H7)","v":0},{"$f":"IF('[1]１月'!I7=\"\",\"\",'[1]１月'!I7)","v":0},{"$f":"IF('[1]１月'!J7=\"\",\"\",'[1]１月'!J7)","v":0},"2015-01-01",152,153,153,153,153,157]
[null,null,"2015-01-02",2,{"$f":"IF($M286=\"\",\"\",VLOOKUP(WEEKDAY($M286),[1]Sheet1!$A$2:$B$8,2))","v":"金"},{"$f":"IF('[1]１月'!D8=\"\",\"\",'[1]１月'!D8)","v":0},{"$f":"IF('[1]１月'!E8=\"\",\"\",'[1]１月'!E8)","v":0},{"$f":"IF('[1]１月'!F8=\"\",\"\",'[1]１月'!F8)","v":0},{"$f":"IF('[1]１月'!G8=\"\",\"\",'[1]１月'!G8)","v":0},{"$f":"IF('[1]１月'!H8=\"\",\"\",'[1]１月'!H8)","v":0},{"$f":"IF('[1]１月'!I8=\"\",\"\",'[1]１月'!I8)","v":0},{"$f":"IF('[1]１月'!J8=\"\",\"\",'[1]１月'!J8)","v":0},"2015-01-02",152,153,153,153,153,157]
[null,null,"2015-01-03",3,{"$f":"IF($M287=\"\",\"\",VLOOKUP(WEEKDAY($M287),[1]Sheet1!$A$2:$B$8,2))","v":"土"},{"$f":"IF('[1]１月'!D9=\"\",\"\",'[1]１月'!D9)","v":0},{"$f":"IF('[1]１月'!E9=\"\",\"\",'[1]１月'!E9)","v":0},{"$f":"IF('[1]１月'!F9=\"\",\"\",'[1]１月'!F9)","v":0},{"$f":"IF('[1]１月'!G9=\"\",\"\",'[1]１月'!G9)","v":0},{"$f":"IF('[1]１月'!H9=\"\",\"\",'[1]１月'!H9)","v":0},{"$f":"IF('[1]１月'!I9=\"\",\"\",'[1]１月'!I9)","v":0},{"$f":"IF('[1]１月'!J9=\"\",\"\",'[1]１月'!J9)","v":0},"2015-01-03",152,153,153,153,153,157]
[null,null,"2015-01-04",4,{"$f":"IF($M288=\"\",\"\",VLOOKUP(WEEKDAY($M288),[1]Sheet1!$A$2:$B$8,2))","v":"日"},{"$f":"IF('[1]１月'!D10=\"\",\"\",'[1]１月'!D10)","v":0},{"$f":"IF('[1]１月'!E10=\"\",\"\",'[1]１月'!E10)","v":0},{"$f":"IF('[1]１月'!F10=\"\",\"\",'[1]１月'!F10)","v":0},{"$f":"IF('[1]１月'!G10=\"\",\"\",'[1]１月'!G10)","v":0},{"$f":"IF('[1]１月'!H10=\"\",\"\",'[1]１月'!H10)","v":0},{"$f":"IF('[1]１月'!I10=\"\",\"\",'[1]１月'!I10)","v":0},{"$f":"IF('[1]１月'!J10=\"\",\"\",'[1]１月'!J10)","v":0},"2015-01-04",152,153,153,153,153,157]
[null,null,"2015-01-05",5,{"$f":"IF($M289=\"\",\"\",VLOOKUP(WEEKDAY($M289),[1]Sheet1!$A$2:$B$8,2))","v":"月"},{"$f":"IF('[1]１月'!D11=\"\",\"\",'[1]１月'!D11)","v":"6年課外"},{"$f":"IF('[1]１月'!E11=\"\",\"\",'[1]１月'!E11)","v":0},{"$f":"IF('[1]１月'!F11=\"\",\"\",'[1]１月'!F11)","v":0},{"$f":"IF('[1]１月'!G11=\"\",\"\",'[1]１月'!G11)","v":0},{"$f":"IF('[1]１月'!H11=\"\",\"\",'[1]１月'!H11)","v":0},{"$f":"IF('[1]１月'!I11=\"\",\"\",'[1]１月'!I11)","v":0},{"$f":"IF('[1]１月'!J11=\"\",\"\",'[1]１月'!J11)","v":0},"2015-01-05",152,153,153,153,153,157]
[null,null,"2015-01-06",6,{"$f":"IF($M290=\"\",\"\",VLOOKUP(WEEKDAY($M290),[1]Sheet1!$A$2:$B$8,2))","v":"火"},{"$f":"IF('[1]１月'!D12=\"\",\"\",'[1]１月'!D12)","v":0},{"$f":"IF('[1]１月'!E12=\"\",\"\",'[1]１月'!E12)","v":0},{"$f":"IF('[1]１月'!F12=\"\",\"\",'[1]１月'!F12)","v":0},{"$f":"IF('[1]１月'!G12=\"\",\"\",'[1]１月'!G12)","v":0},{"$f":"IF('[1]１月'!H12=\"\",\"\",'[1]１月'!H12)","v":0},{"$f":"IF('[1]１月'!I12=\"\",\"\",'[1]１月'!I12)","v":0},{"$f":"IF('[1]１月'!J12=\"\",\"\",'[1]１月'!J12)","v":0},"2015-01-06",152,153,153,153,153,157]
[null,null,"2015-01-07",7,{"$f":"IF($M291=\"\",\"\",VLOOKUP(WEEKDAY($M291),[1]Sheet1!$A$2:$B$8,2))","v":"水"},{"$f":"IF('[1]１月'!D13=\"\",\"\",'[1]１月'!D13)","v":"冬季休業最終日，入試職員会議"},{"$f":"IF('[1]１月'!E13=\"\",\"\",'[1]１月'!E13)","v":0},{"$f":"IF('[1]１月'!F13=\"\",\"\",'[1]１月'!F13)","v":0},{"$f":"IF('[1]１月'!G13=\"\",\"\",'[1]１月'!G13)","v":0},{"$f":"IF('[1]１月'!H13=\"\",\"\",'[1]１月'!H13)","v":0},{"$f":"IF('[1]１月'!I13=\"\",\"\",'[1]１月'!I13)","v":0},{"$f":"IF('[1]１月'!J13=\"\",\"\",'[1]１月'!J13)","v":0},"2015-01-07",152,153,153,153,153,157]
[null,null,"2015-01-08",8,{"$f":"IF($M292=\"\",\"\",VLOOKUP(WEEKDAY($M292),[1]Sheet1!$A$2:$B$8,2))","v":"木"},{"$f":"IF('[1]１月'!D14=\"\",\"\",'[1]１月'!D14)","v":"全校集会，1～5年課題テスト"},{"$f":"IF('[1]１月'!E14=\"\",\"\",'[1]１月'!E14)","v":"○"},{"$f":"IF('[1]１月'!F14=\"\",\"\",'[1]１月'!F14)","v":"○"},{"$f":"IF('[1]１月'!G14=\"\",\"\",'[1]１月'!G14)","v":"○"},{"$f":"IF('[1]１月'!H14=\"\",\"\",'[1]１月'!H14)","v":"○"},{"$f":"IF('[1]１月'!I14=\"\",\"\",'[1]１月'!I14)","v":"○"},{"$f":"IF('[1]１月'!J14=\"\",\"\",'[1]１月'!J14)","v":"○"},"2015-01-08",153,154,154,154,154,158]
[null,null,"2015-01-09",9,{"$f":"IF($M293=\"\",\"\",VLOOKUP(WEEKDAY($M293),[1]Sheet1!$A$2:$B$8,2))","v":"金"},{"$f":"IF('[1]１月'!D15=\"\",\"\",'[1]１月'!D15)","v":"選抜準備"},{"$f":"IF('[1]１月'!E15=\"\",\"\",'[1]１月'!E15)","v":"○"},{"$f":"IF('[1]１月'!F15=\"\",\"\",'[1]１月'!F15)","v":"○"},{"$f":"IF('[1]１月'!G15=\"\",\"\",'[1]１月'!G15)","v":"○"},{"$f":"IF('[1]１月'!H15=\"\",\"\",'[1]１月'!H15)","v":"○"},{"$f":"IF('[1]１月'!I15=\"\",\"\",'[1]１月'!I15)","v":"○"},{"$f":"IF('[1]１月'!J15=\"\",\"\",'[1]１月'!J15)","v":"○"},"2015-01-09",154,155,155,155,155,159]
[null,null,"2015-01-10",10,{"$f":"IF($M294=\"\",\"\",VLOOKUP(WEEKDAY($M294),[1]Sheet1!$A$2:$B$8,2))","v":"土"},{"$f":"IF('[1]１月'!D16=\"\",\"\",'[1]１月'!D16)","v":"入学者選抜"},{"$f":"IF('[1]１月'!E16=\"\",\"\",'[1]１月'!E16)","v":0},{"$f":"IF('[1]１月'!F16=\"\",\"\",'[1]１月'!F16)","v":0},{"$f":"IF('[1]１月'!G16=\"\",\"\",'[1]１月'!G16)","v":0},{"$f":"IF('[1]１月'!H16=\"\",\"\",'[1]１月'!H16)","v":0},{"$f":"IF('[1]１月'!I16=\"\",\"\",'[1]１月'!I16)","v":0},{"$f":"IF('[1]１月'!J16=\"\",\"\",'[1]１月'!J16)","v":0},"2015-01-10",154,155,155,155,155,159]
[null,null,"2015-01-11",11,{"$f":"IF($M295=\"\",\"\",VLOOKUP(WEEKDAY($M295),[1]Sheet1!$A$2:$B$8,2))","v":"日"},{"$f":"IF('[1]１月'!D17=\"\",\"\",'[1]１月'!D17)","v":"入試採点日"},{"$f":"IF('[1]１月'!E17=\"\",\"\",'[1]１月'!E17)","v":0},{"$f":"IF('[1]１月'!F17=\"\",\"\",'[1]１月'!F17)","v":0},{"$f":"IF('[1]１月'!G17=\"\",\"\",'[1]１月'!G17)","v":0},{"$f":"IF('[1]１月'!H17=\"\",\"\",'[1]１月'!H17)","v":0},{"$f":"IF('[1]１月'!I17=\"\",\"\",'[1]１月'!I17)","v":0},{"$f":"IF('[1]１月'!J17=\"\",\"\",'[1]１月'!J17)","v":0},"2015-01-11",154,155,155,155,155,159]
[null,null,"2015-01-12",12,{"$f":"IF($M296=\"\",\"\",VLOOKUP(WEEKDAY($M296),[1]Sheet1!$A$2:$B$8,2))","v":"月"},{"$f":"IF('[1]１月'!D18=\"\",\"\",'[1]１月'!D18)","v":"成人の日"},{"$f":"IF('[1]１月'!E18=\"\",\"\",'[1]１月'!E18)","v":0},{"$f":"IF('[1]１月'!F18=\"\",\"\",'[1]１月'!F18)","v":0},{"$f":"IF('[1]１月'!G18=\"\",\"\",'[1]１月'!G18)","v":0},{"$f":"IF('[1]１月'!H18=\"\",\"\",'[1]１月'!H18)","v":0},{"$f":"IF('[1]１月'!I18=\"\",\"\",'[1]１月'!I18)","v":0},{"$f":"IF('[1]１月'!J18=\"\",\"\",'[1]１月'!J18)","v":0},"2015-01-12",154,155,155,155,155,159]
[null,null,"2015-01-13",13,{"$f":"IF($M297=\"\",\"\",VLOOKUP(WEEKDAY($M297),[1]Sheet1!$A$2:$B$8,2))","v":"火"},{"$f":"IF('[1]１月'!D19=\"\",\"\",'[1]１月'!D19)","v":"中央委員会"},{"$f":"IF('[1]１月'!E19=\"\",\"\",'[1]１月'!E19)","v":"◎"},{"$f":"IF('[1]１月'!F19=\"\",\"\",'[1]１月'!F19)","v":"◎"},{"$f":"IF('[1]１月'!G19=\"\",\"\",'[1]１月'!G19)","v":"◎"},{"$f":"IF('[1]１月'!H19=\"\",\"\",'[1]１月'!H19)","v":"○"},{"$f":"IF('[1]１月'!I19=\"\",\"\",'[1]１月'!I19)","v":"○"},{"$f":"IF('[1]１月'!J19=\"\",\"\",'[1]１月'!J19)","v":"○"},"2015-01-13",155,156,156,156,156,160]
[null,null,"2015-01-14",14,{"$f":"IF($M298=\"\",\"\",VLOOKUP(WEEKDAY($M298),[1]Sheet1!$A$2:$B$8,2))","v":"水"},{"$f":"IF('[1]１月'!D20=\"\",\"\",'[1]１月'!D20)","v":"入学者選抜選考委員会"},{"$f":"IF('[1]１月'!E20=\"\",\"\",'[1]１月'!E20)","v":"◎"},{"$f":"IF('[1]１月'!F20=\"\",\"\",'[1]１月'!F20)","v":"◎"},{"$f":"IF('[1]１月'!G20=\"\",\"\",'[1]１月'!G20)","v":"◎"},{"$f":"IF('[1]１月'!H20=\"\",\"\",'[1]１月'!H20)","v":"○"},{"$f":"IF('[1]１月'!I20=\"\",\"\",'[1]１月'!I20)","v":"○"},{"$f":"IF('[1]１月'!J20=\"\",\"\",'[1]１月'!J20)","v":"○"},"2015-01-14",156,157,157,157,157,161]
[null,null,"2015-01-15",15,{"$f":"IF($M299=\"\",\"\",VLOOKUP(WEEKDAY($M299),[1]Sheet1!$A$2:$B$8,2))","v":"木"},{"$f":"IF('[1]１月'!D21=\"\",\"\",'[1]１月'!D21)","v":"入学者選抜会議"},{"$f":"IF('[1]１月'!E21=\"\",\"\",'[1]１月'!E21)","v":0},{"$f":"IF('[1]１月'!F21=\"\",\"\",'[1]１月'!F21)","v":0},{"$f":"IF('[1]１月'!G21=\"\",\"\",'[1]１月'!G21)","v":0},{"$f":"IF('[1]１月'!H21=\"\",\"\",'[1]１月'!H21)","v":0},{"$f":"IF('[1]１月'!I21=\"\",\"\",'[1]１月'!I21)","v":0},{"$f":"IF('[1]１月'!J21=\"\",\"\",'[1]１月'!J21)","v":0},"2015-01-15",156,157,157,157,157,161]
[null,null,"2015-01-16",16,{"$f":"IF($M300=\"\",\"\",VLOOKUP(WEEKDAY($M300),[1]Sheet1!$A$2:$B$8,2))","v":"金"},{"$f":"IF('[1]１月'!D22=\"\",\"\",'[1]１月'!D22)","v":"合格発表"},{"$f":"IF('[1]１月'!E22=\"\",\"\",'[1]１月'!E22)","v":"◎"},{"$f":"IF('[1]１月'!F22=\"\",\"\",'[1]１月'!F22)","v":"◎"},{"$f":"IF('[1]１月'!G22=\"\",\"\",'[1]１月'!G22)","v":"◎"},{"$f":"IF('[1]１月'!H22=\"\",\"\",'[1]１月'!H22)","v":"○"},{"$f":"IF('[1]１月'!I22=\"\",\"\",'[1]１月'!I22)","v":"○"},{"$f":"IF('[1]１月'!J22=\"\",\"\",'[1]１月'!J22)","v":"○"},"2015-01-16",157,158,158,158,158,162]
[null,null,"2015-01-17",17,{"$f":"IF($M301=\"\",\"\",VLOOKUP(WEEKDAY($M301),[1]Sheet1!$A$2:$B$8,2))","v":"土"},{"$f":"IF('[1]１月'!D23=\"\",\"\",'[1]１月'!D23)","v":"センター試験"},{"$f":"IF('[1]１月'!E23=\"\",\"\",'[1]１月'!E23)","v":0},{"$f":"IF('[1]１月'!F23=\"\",\"\",'[1]１月'!F23)","v":0},{"$f":"IF('[1]１月'!G23=\"\",\"\",'[1]１月'!G23)","v":0},{"$f":"IF('[1]１月'!H23=\"\",\"\",'[1]１月'!H23)","v":0},{"$f":"IF('[1]１月'!I23=\"\",\"\",'[1]１月'!I23)","v":0},{"$f":"IF('[1]１月'!J23=\"\",\"\",'[1]１月'!J23)","v":0},"2015-01-17",157,158,158,158,158,162]
[null,null,"2015-01-18",18,{"$f":"IF($M302=\"\",\"\",VLOOKUP(WEEKDAY($M302),[1]Sheet1!$A$2:$B$8,2))","v":"日"},{"$f":"IF('[1]１月'!D24=\"\",\"\",'[1]１月'!D24)","v":"センター試験"},{"$f":"IF('[1]１月'!E24=\"\",\"\",'[1]１月'!E24)","v":0},{"$f":"IF('[1]１月'!F24=\"\",\"\",'[1]１月'!F24)","v":0},{"$f":"IF('[1]１月'!G24=\"\",\"\",'[1]１月'!G24)","v":0},{"$f":"IF('[1]１月'!H24=\"\",\"\",'[1]１月'!H24)","v":0},{"$f":"IF('[1]１月'!I24=\"\",\"\",'[1]１月'!I24)","v":0},{"$f":"IF('[1]１月'!J24=\"\",\"\",'[1]１月'!J24)","v":0},"2015-01-18",157,158,158,158,158,162]
[null,null,"2015-01-19",19,{"$f":"IF($M303=\"\",\"\",VLOOKUP(WEEKDAY($M303),[1]Sheet1!$A$2:$B$8,2))","v":"月"},{"$f":"IF('[1]１月'!D25=\"\",\"\",'[1]１月'!D25)","v":"6年自己採点日"},{"$f":"IF('[1]１月'!E25=\"\",\"\",'[1]１月'!E25)","v":"◎"},{"$f":"IF('[1]１月'!F25=\"\",\"\",'[1]１月'!F25)","v":"◎"},{"$f":"IF('[1]１月'!G25=\"\",\"\",'[1]１月'!G25)","v":"◎"},{"$f":"IF('[1]１月'!H25=\"\",\"\",'[1]１月'!H25)","v":"○"},{"$f":"IF('[1]１月'!I25=\"\",\"\",'[1]１月'!I25)","v":"○"},{"$f":"IF('[1]１月'!J25=\"\",\"\",'[1]１月'!J25)","v":"○"},"2015-01-19",158,159,159,159,159,163]
[null,null,"2015-01-20",20,{"$f":"IF($M304=\"\",\"\",VLOOKUP(WEEKDAY($M304),[1]Sheet1!$A$2:$B$8,2))","v":"火"},{"$f":"IF('[1]１月'!D26=\"\",\"\",'[1]１月'!D26)","v":0},{"$f":"IF('[1]１月'!E26=\"\",\"\",'[1]１月'!E26)","v":"◎"},{"$f":"IF('[1]１月'!F26=\"\",\"\",'[1]１月'!F26)","v":"◎"},{"$f":"IF('[1]１月'!G26=\"\",\"\",'[1]１月'!G26)","v":"◎"},{"$f":"IF('[1]１月'!H26=\"\",\"\",'[1]１月'!H26)","v":"○"},{"$f":"IF('[1]１月'!I26=\"\",\"\",'[1]１月'!I26)","v":"○"},{"$f":"IF('[1]１月'!J26=\"\",\"\",'[1]１月'!J26)","v":"○"},"2015-01-20",159,160,160,160,160,164]
[null,null,"2015-01-21",21,{"$f":"IF($M305=\"\",\"\",VLOOKUP(WEEKDAY($M305),[1]Sheet1!$A$2:$B$8,2))","v":"水"},{"$f":"IF('[1]１月'!D27=\"\",\"\",'[1]１月'!D27)","v":"運営委員会"},{"$f":"IF('[1]１月'!E27=\"\",\"\",'[1]１月'!E27)","v":"◎"},{"$f":"IF('[1]１月'!F27=\"\",\"\",'[1]１月'!F27)","v":"◎"},{"$f":"IF('[1]１月'!G27=\"\",\"\",'[1]１月'!G27)","v":"◎"},{"$f":"IF('[1]１月'!H27=\"\",\"\",'[1]１月'!H27)","v":"○"},{"$f":"IF('[1]１月'!I27=\"\",\"\",'[1]１月'!I27)","v":"○"},{"$f":"IF('[1]１月'!J27=\"\",\"\",'[1]１月'!J27)","v":"○"},"2015-01-21",160,161,161,161,161,165]
[null,null,"2015-01-22",22,{"$f":"IF($M306=\"\",\"\",VLOOKUP(WEEKDAY($M306),[1]Sheet1!$A$2:$B$8,2))","v":"木"},{"$f":"IF('[1]１月'!D28=\"\",\"\",'[1]１月'!D28)","v":0},{"$f":"IF('[1]１月'!E28=\"\",\"\",'[1]１月'!E28)","v":"◎"},{"$f":"IF('[1]１月'!F28=\"\",\"\",'[1]１月'!F28)","v":"◎"},{"$f":"IF('[1]１月'!G28=\"\",\"\",'[1]１月'!G28)","v":"◎"},{"$f":"IF('[1]１月'!H28=\"\",\"\",'[1]１月'!H28)","v":"○"},{"$f":"IF('[1]１月'!I28=\"\",\"\",'[1]１月'!I28)","v":"○"},{"$f":"IF('[1]１月'!J28=\"\",\"\",'[1]１月'!J28)","v":"○"},"2015-01-22",161,162,162,162,162,166]
[null,null,"2015-01-23",23,{"$f":"IF($M307=\"\",\"\",VLOOKUP(WEEKDAY($M307),[1]Sheet1!$A$2:$B$8,2))","v":"金"},{"$f":"IF('[1]１月'!D29=\"\",\"\",'[1]１月'!D29)","v":"6年出願検討会，5年進研模試，英検"},{"$f":"IF('[1]１月'!E29=\"\",\"\",'[1]１月'!E29)","v":"◎"},{"$f":"IF('[1]１月'!F29=\"\",\"\",'[1]１月'!F29)","v":"◎"},{"$f":"IF('[1]１月'!G29=\"\",\"\",'[1]１月'!G29)","v":"◎"},{"$f":"IF('[1]１月'!H29=\"\",\"\",'[1]１月'!H29)","v":"○"},{"$f":"IF('[1]１月'!I29=\"\",\"\",'[1]１月'!I29)","v":"○"},{"$f":"IF('[1]１月'!J29=\"\",\"\",'[1]１月'!J29)","v":"○"},"2015-01-23",162,163,163,163,163,167]
[null,null,"2015-01-24",24,{"$f":"IF($M308=\"\",\"\",VLOOKUP(WEEKDAY($M308),[1]Sheet1!$A$2:$B$8,2))","v":"土"},{"$f":"IF('[1]１月'!D30=\"\",\"\",'[1]１月'!D30)","v":"4・5年進研模試　　　　　土曜学習会"},{"$f":"IF('[1]１月'!E30=\"\",\"\",'[1]１月'!E30)","v":0},{"$f":"IF('[1]１月'!F30=\"\",\"\",'[1]１月'!F30)","v":0},{"$f":"IF('[1]１月'!G30=\"\",\"\",'[1]１月'!G30)","v":0},{"$f":"IF('[1]１月'!H30=\"\",\"\",'[1]１月'!H30)","v":0},{"$f":"IF('[1]１月'!I30=\"\",\"\",'[1]１月'!I30)","v":0},{"$f":"IF('[1]１月'!J30=\"\",\"\",'[1]１月'!J30)","v":0},"2015-01-24",162,163,163,163,163,167]
[null,null,"2015-01-25",25,{"$f":"IF($M309=\"\",\"\",VLOOKUP(WEEKDAY($M309),[1]Sheet1!$A$2:$B$8,2))","v":"日"},{"$f":"IF('[1]１月'!D31=\"\",\"\",'[1]１月'!D31)","v":0},{"$f":"IF('[1]１月'!E31=\"\",\"\",'[1]１月'!E31)","v":0},{"$f":"IF('[1]１月'!F31=\"\",\"\",'[1]１月'!F31)","v":0},{"$f":"IF('[1]１月'!G31=\"\",\"\",'[1]１月'!G31)","v":0},{"$f":"IF('[1]１月'!H31=\"\",\"\",'[1]１月'!H31)","v":0},{"$f":"IF('[1]１月'!I31=\"\",\"\",'[1]１月'!I31)","v":0},{"$f":"IF('[1]１月'!J31=\"\",\"\",'[1]１月'!J31)","v":0},"2015-01-25",162,163,163,163,163,167]
[null,null,"2015-01-26",26,{"$f":"IF($M310=\"\",\"\",VLOOKUP(WEEKDAY($M310),[1]Sheet1!$A$2:$B$8,2))","v":"月"},{"$f":"IF('[1]１月'!D32=\"\",\"\",'[1]１月'!D32)","v":0},{"$f":"IF('[1]１月'!E32=\"\",\"\",'[1]１月'!E32)","v":"◎"},{"$f":"IF('[1]１月'!F32=\"\",\"\",'[1]１月'!F32)","v":"◎"},{"$f":"IF('[1]１月'!G32=\"\",\"\",'[1]１月'!G32)","v":"◎"},{"$f":"IF('[1]１月'!H32=\"\",\"\",'[1]１月'!H32)","v":"○"},{"$f":"IF('[1]１月'!I32=\"\",\"\",'[1]１月'!I32)","v":"○"},{"$f":"IF('[1]１月'!J32=\"\",\"\",'[1]１月'!J32)","v":"○"},"2015-01-26",163,164,164,164,164,168]
[null,null,"2015-01-27",27,{"$f":"IF($M311=\"\",\"\",VLOOKUP(WEEKDAY($M311),[1]Sheet1!$A$2:$B$8,2))","v":"火"},{"$f":"IF('[1]１月'!D33=\"\",\"\",'[1]１月'!D33)","v":"職員会議"},{"$f":"IF('[1]１月'!E33=\"\",\"\",'[1]１月'!E33)","v":"◎"},{"$f":"IF('[1]１月'!F33=\"\",\"\",'[1]１月'!F33)","v":"◎"},{"$f":"IF('[1]１月'!G33=\"\",\"\",'[1]１月'!G33)","v":"◎"},{"$f":"IF('[1]１月'!H33=\"\",\"\",'[1]１月'!H33)","v":"○"},{"$f":"IF('[1]１月'!I33=\"\",\"\",'[1]１月'!I33)","v":"○"},{"$f":"IF('[1]１月'!J33=\"\",\"\",'[1]１月'!J33)","v":"○"},"2015-01-27",164,165,165,165,165,169]
[null,null,"2015-01-28",28,{"$f":"IF($M312=\"\",\"\",VLOOKUP(WEEKDAY($M312),[1]Sheet1!$A$2:$B$8,2))","v":"水"},{"$f":"IF('[1]１月'!D34=\"\",\"\",'[1]１月'!D34)","v":"学年会"},{"$f":"IF('[1]１月'!E34=\"\",\"\",'[1]１月'!E34)","v":"◎"},{"$f":"IF('[1]１月'!F34=\"\",\"\",'[1]１月'!F34)","v":"◎"},{"$f":"IF('[1]１月'!G34=\"\",\"\",'[1]１月'!G34)","v":"◎"},{"$f":"IF('[1]１月'!H34=\"\",\"\",'[1]１月'!H34)","v":"○"},{"$f":"IF('[1]１月'!I34=\"\",\"\",'[1]１月'!I34)","v":"○"},{"$f":"IF('[1]１月'!J34=\"\",\"\",'[1]１月'!J34)","v":"○"},"2015-01-28",165,166,166,166,166,170]
[null,null,"2015-01-29",29,{"$f":"IF($M313=\"\",\"\",VLOOKUP(WEEKDAY($M313),[1]Sheet1!$A$2:$B$8,2))","v":"木"},{"$f":"IF('[1]１月'!D35=\"\",\"\",'[1]１月'!D35)","v":0},{"$f":"IF('[1]１月'!E35=\"\",\"\",'[1]１月'!E35)","v":"◎"},{"$f":"IF('[1]１月'!F35=\"\",\"\",'[1]１月'!F35)","v":"◎"},{"$f":"IF('[1]１月'!G35=\"\",\"\",'[1]１月'!G35)","v":"◎"},{"$f":"IF('[1]１月'!H35=\"\",\"\",'[1]１月'!H35)","v":"○"},{"$f":"IF('[1]１月'!I35=\"\",\"\",'[1]１月'!I35)","v":"○"},{"$f":"IF('[1]１月'!J35=\"\",\"\",'[1]１月'!J35)","v":"○"},"2015-01-29",166,167,167,167,167,171]
[null,null,"2015-01-30",30,{"$f":"IF($M314=\"\",\"\",VLOOKUP(WEEKDAY($M314),[1]Sheet1!$A$2:$B$8,2))","v":"金"},{"$f":"IF('[1]１月'!D36=\"\",\"\",'[1]１月'!D36)","v":"各種委員会"},{"$f":"IF('[1]１月'!E36=\"\",\"\",'[1]１月'!E36)","v":"◎"},{"$f":"IF('[1]１月'!F36=\"\",\"\",'[1]１月'!F36)","v":"◎"},{"$f":"IF('[1]１月'!G36=\"\",\"\",'[1]１月'!G36)","v":"◎"},{"$f":"IF('[1]１月'!H36=\"\",\"\",'[1]１月'!H36)","v":"○"},{"$f":"IF('[1]１月'!I36=\"\",\"\",'[1]１月'!I36)","v":"○"},{"$f":"IF('[1]１月'!J36=\"\",\"\",'[1]１月'!J36)","v":"○"},"2015-01-30",167,168,168,168,168,172]
[null,null,"2015-01-31",31,{"$f":"IF($M315=\"\",\"\",VLOOKUP(WEEKDAY($M315),[1]Sheet1!$A$2:$B$8,2))","v":"土"},{"$f":"IF('[1]１月'!D37=\"\",\"\",'[1]１月'!D37)","v":0},{"$f":"IF('[1]１月'!E37=\"\",\"\",'[1]１月'!E37)","v":0},{"$f":"IF('[1]１月'!F37=\"\",\"\",'[1]１月'!F37)","v":0},{"$f":"IF('[1]１月'!G37=\"\",\"\",'[1]１月'!G37)","v":0},{"$f":"IF('[1]１月'!H37=\"\",\"\",'[1]１月'!H37)","v":0},{"$f":"IF('[1]１月'!I37=\"\",\"\",'[1]１月'!I37)","v":0},{"$f":"IF('[1]１月'!J37=\"\",\"\",'[1]１月'!J37)","v":0},"2015-01-31",167,168,168,168,168,172]
[null,null,"2015-02-01",1,{"$f":"IF($M316=\"\",\"\",VLOOKUP(WEEKDAY($M316),[1]Sheet1!$A$2:$B$8,2))","v":"日"},{"$f":"IF('[1]２月'!D7=\"\",\"\",'[1]２月'!D7)","v":0},{"$f":"IF('[1]２月'!E7=\"\",\"\",'[1]２月'!E7)","v":0},{"$f":"IF('[1]２月'!F7=\"\",\"\",'[1]２月'!F7)","v":0},{"$f":"IF('[1]２月'!G7=\"\",\"\",'[1]２月'!G7)","v":0},{"$f":"IF('[1]２月'!H7=\"\",\"\",'[1]２月'!H7)","v":0},{"$f":"IF('[1]２月'!I7=\"\",\"\",'[1]２月'!I7)","v":0},{"$f":"IF('[1]２月'!J7=\"\",\"\",'[1]２月'!J7)","v":0},"2015-02-01",167,168,168,168,168,172]
[null,null,"2015-02-02",2,{"$f":"IF($M317=\"\",\"\",VLOOKUP(WEEKDAY($M317),[1]Sheet1!$A$2:$B$8,2))","v":"月"},{"$f":"IF('[1]２月'!D8=\"\",\"\",'[1]２月'!D8)","v":0},{"$f":"IF('[1]２月'!E8=\"\",\"\",'[1]２月'!E8)","v":"◎"},{"$f":"IF('[1]２月'!F8=\"\",\"\",'[1]２月'!F8)","v":"◎"},{"$f":"IF('[1]２月'!G8=\"\",\"\",'[1]２月'!G8)","v":"◎"},{"$f":"IF('[1]２月'!H8=\"\",\"\",'[1]２月'!H8)","v":"○"},{"$f":"IF('[1]２月'!I8=\"\",\"\",'[1]２月'!I8)","v":"○"},{"$f":"IF('[1]２月'!J8=\"\",\"\",'[1]２月'!J8)","v":"○"},"2015-02-02",168,169,169,169,169,173]
[null,null,"2015-02-03",3,{"$f":"IF($M318=\"\",\"\",VLOOKUP(WEEKDAY($M318),[1]Sheet1!$A$2:$B$8,2))","v":"火"},{"$f":"IF('[1]２月'!D9=\"\",\"\",'[1]２月'!D9)","v":"2年英語集中講座"},{"$f":"IF('[1]２月'!E9=\"\",\"\",'[1]２月'!E9)","v":"◎"},{"$f":"IF('[1]２月'!F9=\"\",\"\",'[1]２月'!F9)","v":"◎"},{"$f":"IF('[1]２月'!G9=\"\",\"\",'[1]２月'!G9)","v":"◎"},{"$f":"IF('[1]２月'!H9=\"\",\"\",'[1]２月'!H9)","v":"○"},{"$f":"IF('[1]２月'!I9=\"\",\"\",'[1]２月'!I9)","v":"○"},{"$f":"IF('[1]２月'!J9=\"\",\"\",'[1]２月'!J9)","v":"○"},"2015-02-03",169,170,170,170,170,174]
[null,null,"2015-02-04",4,{"$f":"IF($M319=\"\",\"\",VLOOKUP(WEEKDAY($M319),[1]Sheet1!$A$2:$B$8,2))","v":"水"},{"$f":"IF('[1]２月'!D10=\"\",\"\",'[1]２月'!D10)","v":"2年英語集中講座"},{"$f":"IF('[1]２月'!E10=\"\",\"\",'[1]２月'!E10)","v":"◎"},{"$f":"IF('[1]２月'!F10=\"\",\"\",'[1]２月'!F10)","v":"◎"},{"$f":"IF('[1]２月'!G10=\"\",\"\",'[1]２月'!G10)","v":"◎"},{"$f":"IF('[1]２月'!H10=\"\",\"\",'[1]２月'!H10)","v":"○"},{"$f":"IF('[1]２月'!I10=\"\",\"\",'[1]２月'!I10)","v":"○"},{"$f":"IF('[1]２月'!J10=\"\",\"\",'[1]２月'!J10)","v":"○"},"2015-02-04",170,171,171,171,171,175]
[null,null,"2015-02-05",5,{"$f":"IF($M320=\"\",\"\",VLOOKUP(WEEKDAY($M320),[1]Sheet1!$A$2:$B$8,2))","v":"木"},{"$f":"IF('[1]２月'!D11=\"\",\"\",'[1]２月'!D11)","v":"2年科学館実習"},{"$f":"IF('[1]２月'!E11=\"\",\"\",'[1]２月'!E11)","v":"◎"},{"$f":"IF('[1]２月'!F11=\"\",\"\",'[1]２月'!F11)","v":"○"},{"$f":"IF('[1]２月'!G11=\"\",\"\",'[1]２月'!G11)","v":"◎"},{"$f":"IF('[1]２月'!H11=\"\",\"\",'[1]２月'!H11)","v":"○"},{"$f":"IF('[1]２月'!I11=\"\",\"\",'[1]２月'!I11)","v":"○"},{"$f":"IF('[1]２月'!J11=\"\",\"\",'[1]２月'!J11)","v":"○"},"2015-02-05",171,172,172,172,172,176]
[null,null,"2015-02-06",6,{"$f":"IF($M321=\"\",\"\",VLOOKUP(WEEKDAY($M321),[1]Sheet1!$A$2:$B$8,2))","v":"金"},{"$f":"IF('[1]２月'!D12=\"\",\"\",'[1]２月'!D12)","v":"新入生保護者説明会"},{"$f":"IF('[1]２月'!E12=\"\",\"\",'[1]２月'!E12)","v":"◎"},{"$f":"IF('[1]２月'!F12=\"\",\"\",'[1]２月'!F12)","v":"◎"},{"$f":"IF('[1]２月'!G12=\"\",\"\",'[1]２月'!G12)","v":"◎"},{"$f":"IF('[1]２月'!H12=\"\",\"\",'[1]２月'!H12)","v":"○"},{"$f":"IF('[1]２月'!I12=\"\",\"\",'[1]２月'!I12)","v":"○"},{"$f":"IF('[1]２月'!J12=\"\",\"\",'[1]２月'!J12)","v":"○"},"2015-02-06",172,173,173,173,173,177]
[null,null,"2015-02-07",7,{"$f":"IF($M322=\"\",\"\",VLOOKUP(WEEKDAY($M322),[1]Sheet1!$A$2:$B$8,2))","v":"土"},{"$f":"IF('[1]２月'!D13=\"\",\"\",'[1]２月'!D13)","v":0},{"$f":"IF('[1]２月'!E13=\"\",\"\",'[1]２月'!E13)","v":0},{"$f":"IF('[1]２月'!F13=\"\",\"\",'[1]２月'!F13)","v":0},{"$f":"IF('[1]２月'!G13=\"\",\"\",'[1]２月'!G13)","v":0},{"$f":"IF('[1]２月'!H13=\"\",\"\",'[1]２月'!H13)","v":0},{"$f":"IF('[1]２月'!I13=\"\",\"\",'[1]２月'!I13)","v":0},{"$f":"IF('[1]２月'!J13=\"\",\"\",'[1]２月'!J13)","v":0},"2015-02-07",172,173,173,173,173,177]
[null,null,"2015-02-08",8,{"$f":"IF($M323=\"\",\"\",VLOOKUP(WEEKDAY($M323),[1]Sheet1!$A$2:$B$8,2))","v":"日"},{"$f":"IF('[1]２月'!D14=\"\",\"\",'[1]２月'!D14)","v":0},{"$f":"IF('[1]２月'!E14=\"\",\"\",'[1]２月'!E14)","v":0},{"$f":"IF('[1]２月'!F14=\"\",\"\",'[1]２月'!F14)","v":0},{"$f":"IF('[1]２月'!G14=\"\",\"\",'[1]２月'!G14)","v":0},{"$f":"IF('[1]２月'!H14=\"\",\"\",'[1]２月'!H14)","v":0},{"$f":"IF('[1]２月'!I14=\"\",\"\",'[1]２月'!I14)","v":0},{"$f":"IF('[1]２月'!J14=\"\",\"\",'[1]２月'!J14)","v":0},"2015-02-08",172,173,173,173,173,177]
[null,null,"2015-02-09",9,{"$f":"IF($M324=\"\",\"\",VLOOKUP(WEEKDAY($M324),[1]Sheet1!$A$2:$B$8,2))","v":"月"},{"$f":"IF('[1]２月'!D15=\"\",\"\",'[1]２月'!D15)","v":"中央委員会"},{"$f":"IF('[1]２月'!E15=\"\",\"\",'[1]２月'!E15)","v":"◎"},{"$f":"IF('[1]２月'!F15=\"\",\"\",'[1]２月'!F15)","v":"◎"},{"$f":"IF('[1]２月'!G15=\"\",\"\",'[1]２月'!G15)","v":"◎"},{"$f":"IF('[1]２月'!H15=\"\",\"\",'[1]２月'!H15)","v":"○"},{"$f":"IF('[1]２月'!I15=\"\",\"\",'[1]２月'!I15)","v":"○"},{"$f":"IF('[1]２月'!J15=\"\",\"\",'[1]２月'!J15)","v":"○"},"2015-02-09",173,174,174,174,174,178]
[null,null,"2015-02-10",10,{"$f":"IF($M325=\"\",\"\",VLOOKUP(WEEKDAY($M325),[1]Sheet1!$A$2:$B$8,2))","v":"火"},{"$f":"IF('[1]２月'!D16=\"\",\"\",'[1]２月'!D16)","v":"運営委員会"},{"$f":"IF('[1]２月'!E16=\"\",\"\",'[1]２月'!E16)","v":"◎"},{"$f":"IF('[1]２月'!F16=\"\",\"\",'[1]２月'!F16)","v":"◎"},{"$f":"IF('[1]２月'!G16=\"\",\"\",'[1]２月'!G16)","v":"◎"},{"$f":"IF('[1]２月'!H16=\"\",\"\",'[1]２月'!H16)","v":"○"},{"$f":"IF('[1]２月'!I16=\"\",\"\",'[1]２月'!I16)","v":"○"},{"$f":"IF('[1]２月'!J16=\"\",\"\",'[1]２月'!J16)","v":"○"},"2015-02-10",174,175,175,175,175,179]
[null,null,"2015-02-11",11,{"$f":"IF($M326=\"\",\"\",VLOOKUP(WEEKDAY($M326),[1]Sheet1!$A$2:$B$8,2))","v":"水"},{"$f":"IF('[1]２月'!D17=\"\",\"\",'[1]２月'!D17)","v":"建国記念の日"},{"$f":"IF('[1]２月'!E17=\"\",\"\",'[1]２月'!E17)","v":0},{"$f":"IF('[1]２月'!F17=\"\",\"\",'[1]２月'!F17)","v":0},{"$f":"IF('[1]２月'!G17=\"\",\"\",'[1]２月'!G17)","v":0},{"$f":"IF('[1]２月'!H17=\"\",\"\",'[1]２月'!H17)","v":0},{"$f":"IF('[1]２月'!I17=\"\",\"\",'[1]２月'!I17)","v":0},{"$f":"IF('[1]２月'!J17=\"\",\"\",'[1]２月'!J17)","v":0},"2015-02-11",174,175,175,175,175,179]
[null,null,"2015-02-12",12,{"$f":"IF($M327=\"\",\"\",VLOOKUP(WEEKDAY($M327),[1]Sheet1!$A$2:$B$8,2))","v":"木"},{"$f":"IF('[1]２月'!D18=\"\",\"\",'[1]２月'!D18)","v":0},{"$f":"IF('[1]２月'!E18=\"\",\"\",'[1]２月'!E18)","v":"◎"},{"$f":"IF('[1]２月'!F18=\"\",\"\",'[1]２月'!F18)","v":"◎"},{"$f":"IF('[1]２月'!G18=\"\",\"\",'[1]２月'!G18)","v":"◎"},{"$f":"IF('[1]２月'!H18=\"\",\"\",'[1]２月'!H18)","v":"○"},{"$f":"IF('[1]２月'!I18=\"\",\"\",'[1]２月'!I18)","v":"○"},{"$f":"IF('[1]２月'!J18=\"\",\"\",'[1]２月'!J18)","v":"○"},"2015-02-12",175,176,176,176,176,180]
[null,null,"2015-02-13",13,{"$f":"IF($M328=\"\",\"\",VLOOKUP(WEEKDAY($M328),[1]Sheet1!$A$2:$B$8,2))","v":"金"},{"$f":"IF('[1]２月'!D19=\"\",\"\",'[1]２月'!D19)","v":"5年進研模試"},{"$f":"IF('[1]２月'!E19=\"\",\"\",'[1]２月'!E19)","v":"◎"},{"$f":"IF('[1]２月'!F19=\"\",\"\",'[1]２月'!F19)","v":"◎"},{"$f":"IF('[1]２月'!G19=\"\",\"\",'[1]２月'!G19)","v":"◎"},{"$f":"IF('[1]２月'!H19=\"\",\"\",'[1]２月'!H19)","v":"○"},{"$f":"IF('[1]２月'!I19=\"\",\"\",'[1]２月'!I19)","v":"○"},{"$f":"IF('[1]２月'!J19=\"\",\"\",'[1]２月'!J19)","v":"○"},"2015-02-13",176,177,177,177,177,181]
[null,null,"2015-02-14",14,{"$f":"IF($M329=\"\",\"\",VLOOKUP(WEEKDAY($M329),[1]Sheet1!$A$2:$B$8,2))","v":"土"},{"$f":"IF('[1]２月'!D20=\"\",\"\",'[1]２月'!D20)","v":"5年進研模試，土曜学習会"},{"$f":"IF('[1]２月'!E20=\"\",\"\",'[1]２月'!E20)","v":0},{"$f":"IF('[1]２月'!F20=\"\",\"\",'[1]２月'!F20)","v":0},{"$f":"IF('[1]２月'!G20=\"\",\"\",'[1]２月'!G20)","v":0},{"$f":"IF('[1]２月'!H20=\"\",\"\",'[1]２月'!H20)","v":0},{"$f":"IF('[1]２月'!I20=\"\",\"\",'[1]２月'!I20)","v":0},{"$f":"IF('[1]２月'!J20=\"\",\"\",'[1]２月'!J20)","v":0},"2015-02-14",176,177,177,177,177,181]
[null,null,"2015-02-15",15,{"$f":"IF($M330=\"\",\"\",VLOOKUP(WEEKDAY($M330),[1]Sheet1!$A$2:$B$8,2))","v":"日"},{"$f":"IF('[1]２月'!D21=\"\",\"\",'[1]２月'!D21)","v":0},{"$f":"IF('[1]２月'!E21=\"\",\"\",'[1]２月'!E21)","v":0},{"$f":"IF('[1]２月'!F21=\"\",\"\",'[1]２月'!F21)","v":0},{"$f":"IF('[1]２月'!G21=\"\",\"\",'[1]２月'!G21)","v":0},{"$f":"IF('[1]２月'!H21=\"\",\"\",'[1]２月'!H21)","v":0},{"$f":"IF('[1]２月'!I21=\"\",\"\",'[1]２月'!I21)","v":0},{"$f":"IF('[1]２月'!J21=\"\",\"\",'[1]２月'!J21)","v":0},"2015-02-15",176,177,177,177,177,181]
[null,null,"2015-02-16",16,{"$f":"IF($M331=\"\",\"\",VLOOKUP(WEEKDAY($M331),[1]Sheet1!$A$2:$B$8,2))","v":"月"},{"$f":"IF('[1]２月'!D22=\"\",\"\",'[1]２月'!D22)","v":"各種委員会"},{"$f":"IF('[1]２月'!E22=\"\",\"\",'[1]２月'!E22)","v":"◎"},{"$f":"IF('[1]２月'!F22=\"\",\"\",'[1]２月'!F22)","v":"◎"},{"$f":"IF('[1]２月'!G22=\"\",\"\",'[1]２月'!G22)","v":"◎"},{"$f":"IF('[1]２月'!H22=\"\",\"\",'[1]２月'!H22)","v":"○"},{"$f":"IF('[1]２月'!I22=\"\",\"\",'[1]２月'!I22)","v":"○"},{"$f":"IF('[1]２月'!J22=\"\",\"\",'[1]２月'!J22)","v":"○"},"2015-02-16",177,178,178,178,178,182]
[null,null,"2015-02-17",17,{"$f":"IF($M332=\"\",\"\",VLOOKUP(WEEKDAY($M332),[1]Sheet1!$A$2:$B$8,2))","v":"火"},{"$f":"IF('[1]２月'!D23=\"\",\"\",'[1]２月'!D23)","v":"職員会議"},{"$f":"IF('[1]２月'!E23=\"\",\"\",'[1]２月'!E23)","v":"◎"},{"$f":"IF('[1]２月'!F23=\"\",\"\",'[1]２月'!F23)","v":"◎"},{"$f":"IF('[1]２月'!G23=\"\",\"\",'[1]２月'!G23)","v":"◎"},{"$f":"IF('[1]２月'!H23=\"\",\"\",'[1]２月'!H23)","v":"○"},{"$f":"IF('[1]２月'!I23=\"\",\"\",'[1]２月'!I23)","v":"○"},{"$f":"IF('[1]２月'!J23=\"\",\"\",'[1]２月'!J23)","v":"○"},"2015-02-17",178,179,179,179,179,183]
[null,null,"2015-02-18",18,{"$f":"IF($M333=\"\",\"\",VLOOKUP(WEEKDAY($M333),[1]Sheet1!$A$2:$B$8,2))","v":"水"},{"$f":"IF('[1]２月'!D24=\"\",\"\",'[1]２月'!D24)","v":"学年会"},{"$f":"IF('[1]２月'!E24=\"\",\"\",'[1]２月'!E24)","v":"◎"},{"$f":"IF('[1]２月'!F24=\"\",\"\",'[1]２月'!F24)","v":"◎"},{"$f":"IF('[1]２月'!G24=\"\",\"\",'[1]２月'!G24)","v":"◎"},{"$f":"IF('[1]２月'!H24=\"\",\"\",'[1]２月'!H24)","v":"○"},{"$f":"IF('[1]２月'!I24=\"\",\"\",'[1]２月'!I24)","v":"○"},{"$f":"IF('[1]２月'!J24=\"\",\"\",'[1]２月'!J24)","v":"○"},"2015-02-18",179,180,180,180,180,184]
[null,null,"2015-02-19",19,{"$f":"IF($M334=\"\",\"\",VLOOKUP(WEEKDAY($M334),[1]Sheet1!$A$2:$B$8,2))","v":"木"},{"$f":"IF('[1]２月'!D25=\"\",\"\",'[1]２月'!D25)","v":"卒業認定会議"},{"$f":"IF('[1]２月'!E25=\"\",\"\",'[1]２月'!E25)","v":"◎"},{"$f":"IF('[1]２月'!F25=\"\",\"\",'[1]２月'!F25)","v":"◎"},{"$f":"IF('[1]２月'!G25=\"\",\"\",'[1]２月'!G25)","v":"◎"},{"$f":"IF('[1]２月'!H25=\"\",\"\",'[1]２月'!H25)","v":"○"},{"$f":"IF('[1]２月'!I25=\"\",\"\",'[1]２月'!I25)","v":"○"},{"$f":"IF('[1]２月'!J25=\"\",\"\",'[1]２月'!J25)","v":"○"},"2015-02-19",180,181,181,181,181,185]
[null,null,"2015-02-20",20,{"$f":"IF($M335=\"\",\"\",VLOOKUP(WEEKDAY($M335),[1]Sheet1!$A$2:$B$8,2))","v":"金"},{"$f":"IF('[1]２月'!D26=\"\",\"\",'[1]２月'!D26)","v":"6年授業最終日"},{"$f":"IF('[1]２月'!E26=\"\",\"\",'[1]２月'!E26)","v":"◎"},{"$f":"IF('[1]２月'!F26=\"\",\"\",'[1]２月'!F26)","v":"◎"},{"$f":"IF('[1]２月'!G26=\"\",\"\",'[1]２月'!G26)","v":"◎"},{"$f":"IF('[1]２月'!H26=\"\",\"\",'[1]２月'!H26)","v":"○"},{"$f":"IF('[1]２月'!I26=\"\",\"\",'[1]２月'!I26)","v":"○"},{"$f":"IF('[1]２月'!J26=\"\",\"\",'[1]２月'!J26)","v":"○"},"2015-02-20",181,182,182,182,182,186]
[null,null,"2015-02-21",21,{"$f":"IF($M336=\"\",\"\",VLOOKUP(WEEKDAY($M336),[1]Sheet1!$A$2:$B$8,2))","v":"土"},{"$f":"IF('[1]２月'!D27=\"\",\"\",'[1]２月'!D27)","v":0},{"$f":"IF('[1]２月'!E27=\"\",\"\",'[1]２月'!E27)","v":0},{"$f":"IF('[1]２月'!F27=\"\",\"\",'[1]２月'!F27)","v":0},{"$f":"IF('[1]２月'!G27=\"\",\"\",'[1]２月'!G27)","v":0},{"$f":"IF('[1]２月'!H27=\"\",\"\",'[1]２月'!H27)","v":0},{"$f":"IF('[1]２月'!I27=\"\",\"\",'[1]２月'!I27)","v":0},{"$f":"IF('[1]２月'!J27=\"\",\"\",'[1]２月'!J27)","v":0},"2015-02-21",181,182,182,182,182,186]
[null,null,"2015-02-22",22,{"$f":"IF($M337=\"\",\"\",VLOOKUP(WEEKDAY($M337),[1]Sheet1!$A$2:$B$8,2))","v":"日"},{"$f":"IF('[1]２月'!D28=\"\",\"\",'[1]２月'!D28)","v":0},{"$f":"IF('[1]２月'!E28=\"\",\"\",'[1]２月'!E28)","v":0},{"$f":"IF('[1]２月'!F28=\"\",\"\",'[1]２月'!F28)","v":0},{"$f":"IF('[1]２月'!G28=\"\",\"\",'[1]２月'!G28)","v":0},{"$f":"IF('[1]２月'!H28=\"\",\"\",'[1]２月'!H28)","v":0},{"$f":"IF('[1]２月'!I28=\"\",\"\",'[1]２月'!I28)","v":0},{"$f":"IF('[1]２月'!J28=\"\",\"\",'[1]２月'!J28)","v":0},"2015-02-22",181,182,182,182,182,186]
[null,null,"2015-02-23",23,{"$f":"IF($M338=\"\",\"\",VLOOKUP(WEEKDAY($M338),[1]Sheet1!$A$2:$B$8,2))","v":"月"},{"$f":"IF('[1]２月'!D29=\"\",\"\",'[1]２月'!D29)","v":"学年末考査（前後期），学校安全点検（～26日）"},{"$f":"IF('[1]２月'!E29=\"\",\"\",'[1]２月'!E29)","v":"◎"},{"$f":"IF('[1]２月'!F29=\"\",\"\",'[1]２月'!F29)","v":"◎"},{"$f":"IF('[1]２月'!G29=\"\",\"\",'[1]２月'!G29)","v":"◎"},{"$f":"IF('[1]２月'!H29=\"\",\"\",'[1]２月'!H29)","v":"○"},{"$f":"IF('[1]２月'!I29=\"\",\"\",'[1]２月'!I29)","v":"○"},{"$f":"IF('[1]２月'!J29=\"\",\"\",'[1]２月'!J29)","v":0},"2015-02-23",182,183,183,183,183,186]
[null,null,"2015-02-24",24,{"$f":"IF($M339=\"\",\"\",VLOOKUP(WEEKDAY($M339),[1]Sheet1!$A$2:$B$8,2))","v":"火"},{"$f":"IF('[1]２月'!D30=\"\",\"\",'[1]２月'!D30)","v":"学年末考査（前後期）"},{"$f":"IF('[1]２月'!E30=\"\",\"\",'[1]２月'!E30)","v":"◎"},{"$f":"IF('[1]２月'!F30=\"\",\"\",'[1]２月'!F30)","v":"◎"},{"$f":"IF('[1]２月'!G30=\"\",\"\",'[1]２月'!G30)","v":"◎"},{"$f":"IF('[1]２月'!H30=\"\",\"\",'[1]２月'!H30)","v":"○"},{"$f":"IF('[1]２月'!I30=\"\",\"\",'[1]２月'!I30)","v":"○"},{"$f":"IF('[1]２月'!J30=\"\",\"\",'[1]２月'!J30)","v":0},"2015-02-24",183,184,184,184,184,186]
[null,null,"2015-02-25",25,{"$f":"IF($M340=\"\",\"\",VLOOKUP(WEEKDAY($M340),[1]Sheet1!$A$2:$B$8,2))","v":"水"},{"$f":"IF('[1]２月'!D31=\"\",\"\",'[1]２月'!D31)","v":"学年末考査（後期）"},{"$f":"IF('[1]２月'!E31=\"\",\"\",'[1]２月'!E31)","v":"◎"},{"$f":"IF('[1]２月'!F31=\"\",\"\",'[1]２月'!F31)","v":"◎"},{"$f":"IF('[1]２月'!G31=\"\",\"\",'[1]２月'!G31)","v":"◎"},{"$f":"IF('[1]２月'!H31=\"\",\"\",'[1]２月'!H31)","v":"○"},{"$f":"IF('[1]２月'!I31=\"\",\"\",'[1]２月'!I31)","v":"○"},{"$f":"IF('[1]２月'!J31=\"\",\"\",'[1]２月'!J31)","v":0},"2015-02-25",184,185,185,185,185,186]
[null,null,"2015-02-26",26,{"$f":"IF($M341=\"\",\"\",VLOOKUP(WEEKDAY($M341),[1]Sheet1!$A$2:$B$8,2))","v":"木"},{"$f":"IF('[1]２月'!D32=\"\",\"\",'[1]２月'!D32)","v":"学年末考査（後期）卒業式準備（4年）"},{"$f":"IF('[1]２月'!E32=\"\",\"\",'[1]２月'!E32)","v":"◎"},{"$f":"IF('[1]２月'!F32=\"\",\"\",'[1]２月'!F32)","v":"◎"},{"$f":"IF('[1]２月'!G32=\"\",\"\",'[1]２月'!G32)","v":"◎"},{"$f":"IF('[1]２月'!H32=\"\",\"\",'[1]２月'!H32)","v":"○"},{"$f":"IF('[1]２月'!I32=\"\",\"\",'[1]２月'!I32)","v":"○"},{"$f":"IF('[1]２月'!J32=\"\",\"\",'[1]２月'!J32)","v":0},"2015-02-26",{"$f":"COUNTIF(G341,\"○\")+COUNTIF(G341,\"◎\")+N340","v":185},{"$f":"COUNTIF(H341,\"○\")+COUNTIF(H341,\"◎\")+O340","v":186},{"$f":"COUNTIF(I341,\"○\")+COUNTIF(I341,\"◎\")+P340","v":186},{"$f":"COUNTIF(J341,\"○\")+COUNTIF(J341,\"◎\")+Q340","v":186},{"$f":"COUNTIF(K341,\"○\")+COUNTIF(K341,\"◎\")+R340","v":186},{"$f":"COUNTIF(L341,\"○\")+COUNTIF(L341,\"◎\")+S340","v":186}]
[null,null,"2015-02-27",27,{"$f":"IF($M342=\"\",\"\",VLOOKUP(WEEKDAY($M342),[1]Sheet1!$A$2:$B$8,2))","v":"金"},{"$f":"IF('[1]２月'!D33=\"\",\"\",'[1]２月'!D33)","v":"卒業式予行，同総会入会式"},{"$f":"IF('[1]２月'!E33=\"\",\"\",'[1]２月'!E33)","v":"◎"},{"$f":"IF('[1]２月'!F33=\"\",\"\",'[1]２月'!F33)","v":"◎"},{"$f":"IF('[1]２月'!G33=\"\",\"\",'[1]２月'!G33)","v":"◎"},{"$f":"IF('[1]２月'!H33=\"\",\"\",'[1]２月'!H33)","v":"○"},{"$f":"IF('[1]２月'!I33=\"\",\"\",'[1]２月'!I33)","v":"○"},{"$f":"IF('[1]２月'!J33=\"\",\"\",'[1]２月'!J33)","v":"○"},"2015-02-27",186,187,187,187,187,187]
[null,null,"2015-02-28",28,{"$f":"IF($M343=\"\",\"\",VLOOKUP(WEEKDAY($M343),[1]Sheet1!$A$2:$B$8,2))","v":"土"},{"$f":"IF('[1]２月'!D34=\"\",\"\",'[1]２月'!D34)","v":0},{"$f":"IF('[1]２月'!E34=\"\",\"\",'[1]２月'!E34)","v":0},{"$f":"IF('[1]２月'!F34=\"\",\"\",'[1]２月'!F34)","v":0},{"$f":"IF('[1]２月'!G34=\"\",\"\",'[1]２月'!G34)","v":0},{"$f":"IF('[1]２月'!H34=\"\",\"\",'[1]２月'!H34)","v":0},{"$f":"IF('[1]２月'!I34=\"\",\"\",'[1]２月'!I34)","v":0},{"$f":"IF('[1]２月'!J34=\"\",\"\",'[1]２月'!J34)","v":0},"2015-02-28",186,187,187,187,187,187]
[null,null,null,null,{"$f":"IF($M344=\"\",\"\",VLOOKUP(WEEKDAY($M344),[1]Sheet1!$A$2:$B$8,2))","v":""},{"$f":"IF('[1]２月'!D35=\"\",\"\",'[1]２月'!D35)","v":0},{"$f":"IF('[1]２月'!E35=\"\",\"\",'[1]２月'!E35)","v":0},{"$f":"IF('[1]２月'!F35=\"\",\"\",'[1]２月'!F35)","v":0},{"$f":"IF('[1]２月'!G35=\"\",\"\",'[1]２月'!G35)","v":0},{"$f":"IF('[1]２月'!H35=\"\",\"\",'[1]２月'!H35)","v":0},{"$f":"IF('[1]２月'!I35=\"\",\"\",'[1]２月'!I35)","v":0},{"$f":"IF('[1]２月'!J35=\"\",\"\",'[1]２月'!J35)","v":0},null,186,187,187,187,187,187]
[null,null,null,null,{"$f":"IF($M345=\"\",\"\",VLOOKUP(WEEKDAY($M345),[1]Sheet1!$A$2:$B$8,2))","v":""},{"$f":"IF('[1]２月'!D36=\"\",\"\",'[1]２月'!D36)","v":0},{"$f":"IF('[1]２月'!E36=\"\",\"\",'[1]２月'!E36)","v":0},{"$f":"IF('[1]２月'!F36=\"\",\"\",'[1]２月'!F36)","v":0},{"$f":"IF('[1]２月'!G36=\"\",\"\",'[1]２月'!G36)","v":0},{"$f":"IF('[1]２月'!H36=\"\",\"\",'[1]２月'!H36)","v":0},{"$f":"IF('[1]２月'!I36=\"\",\"\",'[1]２月'!I36)","v":0},{"$f":"IF('[1]２月'!J36=\"\",\"\",'[1]２月'!J36)","v":0},null,186,187,187,187,187,187]
[null,null,null,null,{"$f":"IF($M346=\"\",\"\",VLOOKUP(WEEKDAY($M346),[1]Sheet1!$A$2:$B$8,2))","v":""},{"$f":"IF('[1]２月'!D37=\"\",\"\",'[1]２月'!D37)","v":0},{"$f":"IF('[1]２月'!E37=\"\",\"\",'[1]２月'!E37)","v":0},{"$f":"IF('[1]２月'!F37=\"\",\"\",'[1]２月'!F37)","v":0},{"$f":"IF('[1]２月'!G37=\"\",\"\",'[1]２月'!G37)","v":0},{"$f":"IF('[1]２月'!H37=\"\",\"\",'[1]２月'!H37)","v":0},{"$f":"IF('[1]２月'!I37=\"\",\"\",'[1]２月'!I37)","v":0},{"$f":"IF('[1]２月'!J37=\"\",\"\",'[1]２月'!J37)","v":0},null,186,187,187,187,187,187]
[null,null,"2015-03-01",1,{"$f":"IF($M347=\"\",\"\",VLOOKUP(WEEKDAY($M347),[1]Sheet1!$A$2:$B$8,2))","v":"日"},{"$f":"IF('[1]３月'!D7=\"\",\"\",'[1]３月'!D7)","v":"卒業式"},{"$f":"IF('[1]３月'!E7=\"\",\"\",'[1]３月'!E7)","v":"○"},{"$f":"IF('[1]３月'!F7=\"\",\"\",'[1]３月'!F7)","v":"○"},{"$f":"IF('[1]３月'!G7=\"\",\"\",'[1]３月'!G7)","v":"○"},{"$f":"IF('[1]３月'!H7=\"\",\"\",'[1]３月'!H7)","v":"○"},{"$f":"IF('[1]３月'!I7=\"\",\"\",'[1]３月'!I7)","v":"○"},{"$f":"IF('[1]３月'!J7=\"\",\"\",'[1]３月'!J7)","v":"○"},"2015-03-01",187,188,188,188,188,188]
[null,null,"2015-03-02",2,{"$f":"IF($M348=\"\",\"\",VLOOKUP(WEEKDAY($M348),[1]Sheet1!$A$2:$B$8,2))","v":"月"},{"$f":"IF('[1]３月'!D8=\"\",\"\",'[1]３月'!D8)","v":"振替休業日"},{"$f":"IF('[1]３月'!E8=\"\",\"\",'[1]３月'!E8)","v":0},{"$f":"IF('[1]３月'!F8=\"\",\"\",'[1]３月'!F8)","v":0},{"$f":"IF('[1]３月'!G8=\"\",\"\",'[1]３月'!G8)","v":0},{"$f":"IF('[1]３月'!H8=\"\",\"\",'[1]３月'!H8)","v":0},{"$f":"IF('[1]３月'!I8=\"\",\"\",'[1]３月'!I8)","v":0},{"$f":"IF('[1]３月'!J8=\"\",\"\",'[1]３月'!J8)","v":0},"2015-03-02",187,188,188,188,188,188]
[null,null,"2015-03-03",3,{"$f":"IF($M349=\"\",\"\",VLOOKUP(WEEKDAY($M349),[1]Sheet1!$A$2:$B$8,2))","v":"火"},{"$f":"IF('[1]３月'!D9=\"\",\"\",'[1]３月'!D9)","v":"3年長崎研修"},{"$f":"IF('[1]３月'!E9=\"\",\"\",'[1]３月'!E9)","v":"◎"},{"$f":"IF('[1]３月'!F9=\"\",\"\",'[1]３月'!F9)","v":"◎"},{"$f":"IF('[1]３月'!G9=\"\",\"\",'[1]３月'!G9)","v":"○"},{"$f":"IF('[1]３月'!H9=\"\",\"\",'[1]３月'!H9)","v":"○"},{"$f":"IF('[1]３月'!I9=\"\",\"\",'[1]３月'!I9)","v":"○"},{"$f":"IF('[1]３月'!J9=\"\",\"\",'[1]３月'!J9)","v":0},"2015-03-03",188,189,189,189,189,188]
[null,null,"2015-03-04",4,{"$f":"IF($M350=\"\",\"\",VLOOKUP(WEEKDAY($M350),[1]Sheet1!$A$2:$B$8,2))","v":"水"},{"$f":"IF('[1]３月'!D10=\"\",\"\",'[1]３月'!D10)","v":0},{"$f":"IF('[1]３月'!E10=\"\",\"\",'[1]３月'!E10)","v":"◎"},{"$f":"IF('[1]３月'!F10=\"\",\"\",'[1]３月'!F10)","v":"◎"},{"$f":"IF('[1]３月'!G10=\"\",\"\",'[1]３月'!G10)","v":"○"},{"$f":"IF('[1]３月'!H10=\"\",\"\",'[1]３月'!H10)","v":"○"},{"$f":"IF('[1]３月'!I10=\"\",\"\",'[1]３月'!I10)","v":"○"},{"$f":"IF('[1]３月'!J10=\"\",\"\",'[1]３月'!J10)","v":0},"2015-03-04",189,190,190,190,190,188]
[null,null,"2015-03-05",5,{"$f":"IF($M351=\"\",\"\",VLOOKUP(WEEKDAY($M351),[1]Sheet1!$A$2:$B$8,2))","v":"木"},{"$f":"IF('[1]３月'!D11=\"\",\"\",'[1]３月'!D11)","v":0},{"$f":"IF('[1]３月'!E11=\"\",\"\",'[1]３月'!E11)","v":"◎"},{"$f":"IF('[1]３月'!F11=\"\",\"\",'[1]３月'!F11)","v":"◎"},{"$f":"IF('[1]３月'!G11=\"\",\"\",'[1]３月'!G11)","v":"○"},{"$f":"IF('[1]３月'!H11=\"\",\"\",'[1]３月'!H11)","v":"○"},{"$f":"IF('[1]３月'!I11=\"\",\"\",'[1]３月'!I11)","v":"○"},{"$f":"IF('[1]３月'!J11=\"\",\"\",'[1]３月'!J11)","v":0},"2015-03-05",190,191,191,191,191,188]
[null,null,"2015-03-06",6,{"$f":"IF($M352=\"\",\"\",VLOOKUP(WEEKDAY($M352),[1]Sheet1!$A$2:$B$8,2))","v":"金"},{"$f":"IF('[1]３月'!D12=\"\",\"\",'[1]３月'!D12)","v":0},{"$f":"IF('[1]３月'!E12=\"\",\"\",'[1]３月'!E12)","v":"◎"},{"$f":"IF('[1]３月'!F12=\"\",\"\",'[1]３月'!F12)","v":"◎"},{"$f":"IF('[1]３月'!G12=\"\",\"\",'[1]３月'!G12)","v":"○"},{"$f":"IF('[1]３月'!H12=\"\",\"\",'[1]３月'!H12)","v":"○"},{"$f":"IF('[1]３月'!I12=\"\",\"\",'[1]３月'!I12)","v":"○"},{"$f":"IF('[1]３月'!J12=\"\",\"\",'[1]３月'!J12)","v":0},"2015-03-06",191,192,192,192,192,188]
[null,null,"2015-03-07",7,{"$f":"IF($M353=\"\",\"\",VLOOKUP(WEEKDAY($M353),[1]Sheet1!$A$2:$B$8,2))","v":"土"},{"$f":"IF('[1]３月'!D13=\"\",\"\",'[1]３月'!D13)","v":0},{"$f":"IF('[1]３月'!E13=\"\",\"\",'[1]３月'!E13)","v":0},{"$f":"IF('[1]３月'!F13=\"\",\"\",'[1]３月'!F13)","v":0},{"$f":"IF('[1]３月'!G13=\"\",\"\",'[1]３月'!G13)","v":0},{"$f":"IF('[1]３月'!H13=\"\",\"\",'[1]３月'!H13)","v":0},{"$f":"IF('[1]３月'!I13=\"\",\"\",'[1]３月'!I13)","v":0},{"$f":"IF('[1]３月'!J13=\"\",\"\",'[1]３月'!J13)","v":0},"2015-03-07",191,192,192,192,192,188]
[null,null,"2015-03-08",8,{"$f":"IF($M354=\"\",\"\",VLOOKUP(WEEKDAY($M354),[1]Sheet1!$A$2:$B$8,2))","v":"日"},{"$f":"IF('[1]３月'!D14=\"\",\"\",'[1]３月'!D14)","v":0},{"$f":"IF('[1]３月'!E14=\"\",\"\",'[1]３月'!E14)","v":0},{"$f":"IF('[1]３月'!F14=\"\",\"\",'[1]３月'!F14)","v":0},{"$f":"IF('[1]３月'!G14=\"\",\"\",'[1]３月'!G14)","v":0},{"$f":"IF('[1]３月'!H14=\"\",\"\",'[1]３月'!H14)","v":0},{"$f":"IF('[1]３月'!I14=\"\",\"\",'[1]３月'!I14)","v":0},{"$f":"IF('[1]３月'!J14=\"\",\"\",'[1]３月'!J14)","v":0},"2015-03-08",191,192,192,192,192,188]
[null,null,"2015-03-09",9,{"$f":"IF($M355=\"\",\"\",VLOOKUP(WEEKDAY($M355),[1]Sheet1!$A$2:$B$8,2))","v":"月"},{"$f":"IF('[1]３月'!D15=\"\",\"\",'[1]３月'!D15)","v":"小票"},{"$f":"IF('[1]３月'!E15=\"\",\"\",'[1]３月'!E15)","v":"◎"},{"$f":"IF('[1]３月'!F15=\"\",\"\",'[1]３月'!F15)","v":"◎"},{"$f":"IF('[1]３月'!G15=\"\",\"\",'[1]３月'!G15)","v":"◎"},{"$f":"IF('[1]３月'!H15=\"\",\"\",'[1]３月'!H15)","v":"○"},{"$f":"IF('[1]３月'!I15=\"\",\"\",'[1]３月'!I15)","v":"○"},{"$f":"IF('[1]３月'!J15=\"\",\"\",'[1]３月'!J15)","v":0},"2015-03-09",192,193,193,193,193,188]
[null,null,"2015-03-10",10,{"$f":"IF($M356=\"\",\"\",VLOOKUP(WEEKDAY($M356),[1]Sheet1!$A$2:$B$8,2))","v":"火"},{"$f":"IF('[1]３月'!D16=\"\",\"\",'[1]３月'!D16)","v":"評定提出，大表，各種委員会"},{"$f":"IF('[1]３月'!E16=\"\",\"\",'[1]３月'!E16)","v":"◎"},{"$f":"IF('[1]３月'!F16=\"\",\"\",'[1]３月'!F16)","v":"◎"},{"$f":"IF('[1]３月'!G16=\"\",\"\",'[1]３月'!G16)","v":"◎"},{"$f":"IF('[1]３月'!H16=\"\",\"\",'[1]３月'!H16)","v":"○"},{"$f":"IF('[1]３月'!I16=\"\",\"\",'[1]３月'!I16)","v":"○"},{"$f":"IF('[1]３月'!J16=\"\",\"\",'[1]３月'!J16)","v":0},"2015-03-10",193,194,194,194,194,188]
[null,null,"2015-03-11",11,{"$f":"IF($M357=\"\",\"\",VLOOKUP(WEEKDAY($M357),[1]Sheet1!$A$2:$B$8,2))","v":"水"},{"$f":"IF('[1]３月'!D17=\"\",\"\",'[1]３月'!D17)","v":"中央委員会"},{"$f":"IF('[1]３月'!E17=\"\",\"\",'[1]３月'!E17)","v":"◎"},{"$f":"IF('[1]３月'!F17=\"\",\"\",'[1]３月'!F17)","v":"◎"},{"$f":"IF('[1]３月'!G17=\"\",\"\",'[1]３月'!G17)","v":"◎"},{"$f":"IF('[1]３月'!H17=\"\",\"\",'[1]３月'!H17)","v":"○"},{"$f":"IF('[1]３月'!I17=\"\",\"\",'[1]３月'!I17)","v":"○"},{"$f":"IF('[1]３月'!J17=\"\",\"\",'[1]３月'!J17)","v":0},"2015-03-11",194,195,195,195,195,188]
[null,null,"2015-03-12",12,{"$f":"IF($M358=\"\",\"\",VLOOKUP(WEEKDAY($M358),[1]Sheet1!$A$2:$B$8,2))","v":"木"},{"$f":"IF('[1]３月'!D18=\"\",\"\",'[1]３月'!D18)","v":"学年成績会議，学校保健委員会，職場安全衛生委員会"},{"$f":"IF('[1]３月'!E18=\"\",\"\",'[1]３月'!E18)","v":"◎"},{"$f":"IF('[1]３月'!F18=\"\",\"\",'[1]３月'!F18)","v":"◎"},{"$f":"IF('[1]３月'!G18=\"\",\"\",'[1]３月'!G18)","v":"◎"},{"$f":"IF('[1]３月'!H18=\"\",\"\",'[1]３月'!H18)","v":"○"},{"$f":"IF('[1]３月'!I18=\"\",\"\",'[1]３月'!I18)","v":"○"},{"$f":"IF('[1]３月'!J18=\"\",\"\",'[1]３月'!J18)","v":0},"2015-03-12",195,196,196,196,196,188]
[null,null,"2015-03-13",13,{"$f":"IF($M359=\"\",\"\",VLOOKUP(WEEKDAY($M359),[1]Sheet1!$A$2:$B$8,2))","v":"金"},{"$f":"IF('[1]３月'!D19=\"\",\"\",'[1]３月'!D19)","v":"通信票提出，運営委員会"},{"$f":"IF('[1]３月'!E19=\"\",\"\",'[1]３月'!E19)","v":"◎"},{"$f":"IF('[1]３月'!F19=\"\",\"\",'[1]３月'!F19)","v":"◎"},{"$f":"IF('[1]３月'!G19=\"\",\"\",'[1]３月'!G19)","v":"◎"},{"$f":"IF('[1]３月'!H19=\"\",\"\",'[1]３月'!H19)","v":"○"},{"$f":"IF('[1]３月'!I19=\"\",\"\",'[1]３月'!I19)","v":"○"},{"$f":"IF('[1]３月'!J19=\"\",\"\",'[1]３月'!J19)","v":0},"2015-03-13",196,197,197,197,197,188]
[null,null,"2015-03-14",14,{"$f":"IF($M360=\"\",\"\",VLOOKUP(WEEKDAY($M360),[1]Sheet1!$A$2:$B$8,2))","v":"土"},{"$f":"IF('[1]３月'!D20=\"\",\"\",'[1]３月'!D20)","v":"土曜学習会"},{"$f":"IF('[1]３月'!E20=\"\",\"\",'[1]３月'!E20)","v":0},{"$f":"IF('[1]３月'!F20=\"\",\"\",'[1]３月'!F20)","v":0},{"$f":"IF('[1]３月'!G20=\"\",\"\",'[1]３月'!G20)","v":0},{"$f":"IF('[1]３月'!H20=\"\",\"\",'[1]３月'!H20)","v":0},{"$f":"IF('[1]３月'!I20=\"\",\"\",'[1]３月'!I20)","v":0},{"$f":"IF('[1]３月'!J20=\"\",\"\",'[1]３月'!J20)","v":0},"2015-03-14",196,197,197,197,197,188]
[null,null,"2015-03-15",15,{"$f":"IF($M361=\"\",\"\",VLOOKUP(WEEKDAY($M361),[1]Sheet1!$A$2:$B$8,2))","v":"日"},{"$f":"IF('[1]３月'!D21=\"\",\"\",'[1]３月'!D21)","v":0},{"$f":"IF('[1]３月'!E21=\"\",\"\",'[1]３月'!E21)","v":0},{"$f":"IF('[1]３月'!F21=\"\",\"\",'[1]３月'!F21)","v":0},{"$f":"IF('[1]３月'!G21=\"\",\"\",'[1]３月'!G21)","v":0},{"$f":"IF('[1]３月'!H21=\"\",\"\",'[1]３月'!H21)","v":0},{"$f":"IF('[1]３月'!I21=\"\",\"\",'[1]３月'!I21)","v":0},{"$f":"IF('[1]３月'!J21=\"\",\"\",'[1]３月'!J21)","v":0},"2015-03-15",196,197,197,197,197,188]
[null,null,"2015-03-16",16,{"$f":"IF($M362=\"\",\"\",VLOOKUP(WEEKDAY($M362),[1]Sheet1!$A$2:$B$8,2))","v":"月"},{"$f":"IF('[1]３月'!D22=\"\",\"\",'[1]３月'!D22)","v":"進級認定会議"},{"$f":"IF('[1]３月'!E22=\"\",\"\",'[1]３月'!E22)","v":"○"},{"$f":"IF('[1]３月'!F22=\"\",\"\",'[1]３月'!F22)","v":"○"},{"$f":"IF('[1]３月'!G22=\"\",\"\",'[1]３月'!G22)","v":"○"},{"$f":"IF('[1]３月'!H22=\"\",\"\",'[1]３月'!H22)","v":"○"},{"$f":"IF('[1]３月'!I22=\"\",\"\",'[1]３月'!I22)","v":"○"},{"$f":"IF('[1]３月'!J22=\"\",\"\",'[1]３月'!J22)","v":0},"2015-03-16",197,198,198,198,198,188]
[null,null,"2015-03-17",17,{"$f":"IF($M363=\"\",\"\",VLOOKUP(WEEKDAY($M363),[1]Sheet1!$A$2:$B$8,2))","v":"火"},{"$f":"IF('[1]３月'!D23=\"\",\"\",'[1]３月'!D23)","v":"職員会議，転入考査"},{"$f":"IF('[1]３月'!E23=\"\",\"\",'[1]３月'!E23)","v":"○"},{"$f":"IF('[1]３月'!F23=\"\",\"\",'[1]３月'!F23)","v":"○"},{"$f":"IF('[1]３月'!G23=\"\",\"\",'[1]３月'!G23)","v":"○"},{"$f":"IF('[1]３月'!H23=\"\",\"\",'[1]３月'!H23)","v":"○"},{"$f":"IF('[1]３月'!I23=\"\",\"\",'[1]３月'!I23)","v":"○"},{"$f":"IF('[1]３月'!J23=\"\",\"\",'[1]３月'!J23)","v":0},"2015-03-17",198,199,199,199,199,188]
[null,null,"2015-03-18",18,{"$f":"IF($M364=\"\",\"\",VLOOKUP(WEEKDAY($M364),[1]Sheet1!$A$2:$B$8,2))","v":"水"},{"$f":"IF('[1]３月'!D24=\"\",\"\",'[1]３月'!D24)","v":"学年会"},{"$f":"IF('[1]３月'!E24=\"\",\"\",'[1]３月'!E24)","v":"○"},{"$f":"IF('[1]３月'!F24=\"\",\"\",'[1]３月'!F24)","v":"○"},{"$f":"IF('[1]３月'!G24=\"\",\"\",'[1]３月'!G24)","v":"○"},{"$f":"IF('[1]３月'!H24=\"\",\"\",'[1]３月'!H24)","v":"○"},{"$f":"IF('[1]３月'!I24=\"\",\"\",'[1]３月'!I24)","v":"○"},{"$f":"IF('[1]３月'!J24=\"\",\"\",'[1]３月'!J24)","v":0},"2015-03-18",199,200,200,200,200,188]
[null,null,"2015-03-19",19,{"$f":"IF($M365=\"\",\"\",VLOOKUP(WEEKDAY($M365),[1]Sheet1!$A$2:$B$8,2))","v":"木"},{"$f":"IF('[1]３月'!D25=\"\",\"\",'[1]３月'!D25)","v":"3～5年スタディサポート"},{"$f":"IF('[1]３月'!E25=\"\",\"\",'[1]３月'!E25)","v":"○"},{"$f":"IF('[1]３月'!F25=\"\",\"\",'[1]３月'!F25)","v":"○"},{"$f":"IF('[1]３月'!G25=\"\",\"\",'[1]３月'!G25)","v":"○"},{"$f":"IF('[1]３月'!H25=\"\",\"\",'[1]３月'!H25)","v":"○"},{"$f":"IF('[1]３月'!I25=\"\",\"\",'[1]３月'!I25)","v":"○"},{"$f":"IF('[1]３月'!J25=\"\",\"\",'[1]３月'!J25)","v":0},"2015-03-19",200,201,201,201,201,188]
[null,null,"2015-03-20",20,{"$f":"IF($M366=\"\",\"\",VLOOKUP(WEEKDAY($M366),[1]Sheet1!$A$2:$B$8,2))","v":"金"},{"$f":"IF('[1]３月'!D26=\"\",\"\",'[1]３月'!D26)","v":"3年尚志式準備"},{"$f":"IF('[1]３月'!E26=\"\",\"\",'[1]３月'!E26)","v":"○"},{"$f":"IF('[1]３月'!F26=\"\",\"\",'[1]３月'!F26)","v":"○"},{"$f":"IF('[1]３月'!G26=\"\",\"\",'[1]３月'!G26)","v":"○"},{"$f":"IF('[1]３月'!H26=\"\",\"\",'[1]３月'!H26)","v":"○"},{"$f":"IF('[1]３月'!I26=\"\",\"\",'[1]３月'!I26)","v":"○"},{"$f":"IF('[1]３月'!J26=\"\",\"\",'[1]３月'!J26)","v":0},"2015-03-20",201,202,202,202,202,188]
[null,null,"2015-03-21",21,{"$f":"IF($M367=\"\",\"\",VLOOKUP(WEEKDAY($M367),[1]Sheet1!$A$2:$B$8,2))","v":"土"},{"$f":"IF('[1]３月'!D27=\"\",\"\",'[1]３月'!D27)","v":"春分の日"},{"$f":"IF('[1]３月'!E27=\"\",\"\",'[1]３月'!E27)","v":0},{"$f":"IF('[1]３月'!F27=\"\",\"\",'[1]３月'!F27)","v":0},{"$f":"IF('[1]３月'!G27=\"\",\"\",'[1]３月'!G27)","v":0},{"$f":"IF('[1]３月'!H27=\"\",\"\",'[1]３月'!H27)","v":0},{"$f":"IF('[1]３月'!I27=\"\",\"\",'[1]３月'!I27)","v":0},{"$f":"IF('[1]３月'!J27=\"\",\"\",'[1]３月'!J27)","v":0},"2015-03-21",201,202,202,202,202,188]
[null,null,"2015-03-22",22,{"$f":"IF($M368=\"\",\"\",VLOOKUP(WEEKDAY($M368),[1]Sheet1!$A$2:$B$8,2))","v":"日"},{"$f":"IF('[1]３月'!D28=\"\",\"\",'[1]３月'!D28)","v":0},{"$f":"IF('[1]３月'!E28=\"\",\"\",'[1]３月'!E28)","v":0},{"$f":"IF('[1]３月'!F28=\"\",\"\",'[1]３月'!F28)","v":0},{"$f":"IF('[1]３月'!G28=\"\",\"\",'[1]３月'!G28)","v":0},{"$f":"IF('[1]３月'!H28=\"\",\"\",'[1]３月'!H28)","v":0},{"$f":"IF('[1]３月'!I28=\"\",\"\",'[1]３月'!I28)","v":0},{"$f":"IF('[1]３月'!J28=\"\",\"\",'[1]３月'!J28)","v":0},"2015-03-22",201,202,202,202,202,188]
[null,null,"2015-03-23",23,{"$f":"IF($M369=\"\",\"\",VLOOKUP(WEEKDAY($M369),[1]Sheet1!$A$2:$B$8,2))","v":"月"},{"$f":"IF('[1]３月'!D29=\"\",\"\",'[1]３月'!D29)","v":"尚志式，前期学年PTA"},{"$f":"IF('[1]３月'!E29=\"\",\"\",'[1]３月'!E29)","v":"○"},{"$f":"IF('[1]３月'!F29=\"\",\"\",'[1]３月'!F29)","v":"○"},{"$f":"IF('[1]３月'!G29=\"\",\"\",'[1]３月'!G29)","v":"○"},{"$f":"IF('[1]３月'!H29=\"\",\"\",'[1]３月'!H29)","v":"○"},{"$f":"IF('[1]３月'!I29=\"\",\"\",'[1]３月'!I29)","v":"○"},{"$f":"IF('[1]３月'!J29=\"\",\"\",'[1]３月'!J29)","v":0},"2015-03-23",202,203,203,203,203,188]
[null,null,"2015-03-24",24,{"$f":"IF($M370=\"\",\"\",VLOOKUP(WEEKDAY($M370),[1]Sheet1!$A$2:$B$8,2))","v":"火"},{"$f":"IF('[1]３月'!D30=\"\",\"\",'[1]３月'!D30)","v":"修業式，大掃除"},{"$f":"IF('[1]３月'!E30=\"\",\"\",'[1]３月'!E30)","v":"○"},{"$f":"IF('[1]３月'!F30=\"\",\"\",'[1]３月'!F30)","v":"○"},{"$f":"IF('[1]３月'!G30=\"\",\"\",'[1]３月'!G30)","v":"○"},{"$f":"IF('[1]３月'!H30=\"\",\"\",'[1]３月'!H30)","v":"○"},{"$f":"IF('[1]３月'!I30=\"\",\"\",'[1]３月'!I30)","v":"○"},{"$f":"IF('[1]３月'!J30=\"\",\"\",'[1]３月'!J30)","v":0},"2015-03-24",203,204,204,204,204,188]
[null,null,"2015-03-25",25,{"$f":"IF($M371=\"\",\"\",VLOOKUP(WEEKDAY($M371),[1]Sheet1!$A$2:$B$8,2))","v":"水"},{"$f":"IF('[1]３月'!D31=\"\",\"\",'[1]３月'!D31)","v":"学年末休業，入学者予備登校"},{"$f":"IF('[1]３月'!E31=\"\",\"\",'[1]３月'!E31)","v":0},{"$f":"IF('[1]３月'!F31=\"\",\"\",'[1]３月'!F31)","v":0},{"$f":"IF('[1]３月'!G31=\"\",\"\",'[1]３月'!G31)","v":0},{"$f":"IF('[1]３月'!H31=\"\",\"\",'[1]３月'!H31)","v":0},{"$f":"IF('[1]３月'!I31=\"\",\"\",'[1]３月'!I31)","v":0},{"$f":"IF('[1]３月'!J31=\"\",\"\",'[1]３月'!J31)","v":0},"2015-03-25",203,204,204,204,204,188]
[null,null,"2015-03-26",26,{"$f":"IF($M372=\"\",\"\",VLOOKUP(WEEKDAY($M372),[1]Sheet1!$A$2:$B$8,2))","v":"木"},{"$f":"IF('[1]３月'!D32=\"\",\"\",'[1]３月'!D32)","v":"諸表簿提出"},{"$f":"IF('[1]３月'!E32=\"\",\"\",'[1]３月'!E32)","v":0},{"$f":"IF('[1]３月'!F32=\"\",\"\",'[1]３月'!F32)","v":0},{"$f":"IF('[1]３月'!G32=\"\",\"\",'[1]３月'!G32)","v":0},{"$f":"IF('[1]３月'!H32=\"\",\"\",'[1]３月'!H32)","v":0},{"$f":"IF('[1]３月'!I32=\"\",\"\",'[1]３月'!I32)","v":0},{"$f":"IF('[1]３月'!J32=\"\",\"\",'[1]３月'!J32)","v":0},"2015-03-26",203,204,204,204,204,188]
[null,null,"2015-03-27",27,{"$f":"IF($M373=\"\",\"\",VLOOKUP(WEEKDAY($M373),[1]Sheet1!$A$2:$B$8,2))","v":"金"},{"$f":"IF('[1]３月'!D33=\"\",\"\",'[1]３月'!D33)","v":0},{"$f":"IF('[1]３月'!E33=\"\",\"\",'[1]３月'!E33)","v":0},{"$f":"IF('[1]３月'!F33=\"\",\"\",'[1]３月'!F33)","v":0},{"$f":"IF('[1]３月'!G33=\"\",\"\",'[1]３月'!G33)","v":0},{"$f":"IF('[1]３月'!H33=\"\",\"\",'[1]３月'!H33)","v":0},{"$f":"IF('[1]３月'!I33=\"\",\"\",'[1]３月'!I33)","v":0},{"$f":"IF('[1]３月'!J33=\"\",\"\",'[1]３月'!J33)","v":0},"2015-03-27",203,204,204,204,204,188]
[null,null,"2015-03-28",28,{"$f":"IF($M374=\"\",\"\",VLOOKUP(WEEKDAY($M374),[1]Sheet1!$A$2:$B$8,2))","v":"土"},{"$f":"IF('[1]３月'!D34=\"\",\"\",'[1]３月'!D34)","v":0},{"$f":"IF('[1]３月'!E34=\"\",\"\",'[1]３月'!E34)","v":0},{"$f":"IF('[1]３月'!F34=\"\",\"\",'[1]３月'!F34)","v":0},{"$f":"IF('[1]３月'!G34=\"\",\"\",'[1]３月'!G34)","v":0},{"$f":"IF('[1]３月'!H34=\"\",\"\",'[1]３月'!H34)","v":0},{"$f":"IF('[1]３月'!I34=\"\",\"\",'[1]３月'!I34)","v":0},{"$f":"IF('[1]３月'!J34=\"\",\"\",'[1]３月'!J34)","v":0},"2015-03-28",203,204,204,204,204,188]
[null,null,"2015-03-29",29,{"$f":"IF($M375=\"\",\"\",VLOOKUP(WEEKDAY($M375),[1]Sheet1!$A$2:$B$8,2))","v":"日"},{"$f":"IF('[1]３月'!D35=\"\",\"\",'[1]３月'!D35)","v":0},{"$f":"IF('[1]３月'!E35=\"\",\"\",'[1]３月'!E35)","v":0},{"$f":"IF('[1]３月'!F35=\"\",\"\",'[1]３月'!F35)","v":0},{"$f":"IF('[1]３月'!G35=\"\",\"\",'[1]３月'!G35)","v":0},{"$f":"IF('[1]３月'!H35=\"\",\"\",'[1]３月'!H35)","v":0},{"$f":"IF('[1]３月'!I35=\"\",\"\",'[1]３月'!I35)","v":0},{"$f":"IF('[1]３月'!J35=\"\",\"\",'[1]３月'!J35)","v":0},"2015-03-29",203,204,204,204,204,188]
[null,null,"2015-03-30",30,{"$f":"IF($M376=\"\",\"\",VLOOKUP(WEEKDAY($M376),[1]Sheet1!$A$2:$B$8,2))","v":"月"},{"$f":"IF('[1]３月'!D36=\"\",\"\",'[1]３月'!D36)","v":"離任式"},{"$f":"IF('[1]３月'!E36=\"\",\"\",'[1]３月'!E36)","v":0},{"$f":"IF('[1]３月'!F36=\"\",\"\",'[1]３月'!F36)","v":0},{"$f":"IF('[1]３月'!G36=\"\",\"\",'[1]３月'!G36)","v":0},{"$f":"IF('[1]３月'!H36=\"\",\"\",'[1]３月'!H36)","v":0},{"$f":"IF('[1]３月'!I36=\"\",\"\",'[1]３月'!I36)","v":0},{"$f":"IF('[1]３月'!J36=\"\",\"\",'[1]３月'!J36)","v":0},"2015-03-30",203,204,204,204,204,188]
[null,null,"2015-03-31",31,{"$f":"IF($M377=\"\",\"\",VLOOKUP(WEEKDAY($M377),[1]Sheet1!$A$2:$B$8,2))","v":"火"},{"$f":"IF('[1]３月'!D37=\"\",\"\",'[1]３月'!D37)","v":0},{"$f":"IF('[1]３月'!E37=\"\",\"\",'[1]３月'!E37)","v":0},{"$f":"IF('[1]３月'!F37=\"\",\"\",'[1]３月'!F37)","v":0},{"$f":"IF('[1]３月'!G37=\"\",\"\",'[1]３月'!G37)","v":0},{"$f":"IF('[1]３月'!H37=\"\",\"\",'[1]３月'!H37)","v":0},{"$f":"IF('[1]３月'!I37=\"\",\"\",'[1]３月'!I37)","v":0},{"$f":"IF('[1]３月'!J37=\"\",\"\",'[1]３月'!J37)","v":0},"2015-03-31",203,204,204,204,204,188]